BEGIN:VCALENDAR
VERSION:2.0
PRODID:-//AFLabs urnik izvoz - fs//aflabs.si//SI
NAME:UL FS Urnik
X-WR-CALNAME:UL FS Urnik
DTSTAMP:20260420T211240Z
REFRESH-INTERVAL:PT1H
SOURCE:https://urnik.fs.uni-lj.si/en/teacher/965/?day=2025-01-06&export=1
URL:https://urnik.fs.uni-lj.si/en/teacher/965/?day=2025-01-06&export=1
X-PUBLISHED-TTL:PT1H
X-WR-TIMEZONE:Europe/Ljubljana
BEGIN:VTIMEZONE
TZID:Europe/Ljubljana
BEGIN:DAYLIGHT
DTSTART:20260329T020000
RDATE:20260329T020000
RDATE:20270328T020000
TZNAME:CEST
TZOFFSETFROM:+0100
TZOFFSETTO:+0200
END:DAYLIGHT
BEGIN:STANDARD
DTSTART:20261025T030000
RDATE:20261025T030000
RDATE:20271031T030000
TZNAME:CET
TZOFFSETFROM:+0200
TZOFFSETTO:+0100
END:STANDARD
END:VTIMEZONE
BEGIN:VEVENT
SUMMARY:Rezervacija: Sestanki društva BEST (BEST)\, Lectures (P)
DTSTART;TZID=Europe/Ljubljana:20241009T180000
DTEND;TZID=Europe/Ljubljana:20241009T200000
DTSTAMP:20260420T211240Z
UID:fs-AFLABS-URNIK:srecanje:7290-2024-10-09 18:00:00+02:00
DESCRIPTION:Predmet: Rezervacija: Sestanki društva BEST (BEST)\, Lectures
  (P)\nLetniki: \nIzvajalci: Dekanat FS\nProstor: Lecture hall I/4A
END:VEVENT
BEGIN:VEVENT
SUMMARY:Rezervacija: Sestanki društva BEST (BEST)\, Lectures (P)
DTSTART;TZID=Europe/Ljubljana:20241016T180000
DTEND;TZID=Europe/Ljubljana:20241016T200000
DTSTAMP:20260420T211240Z
UID:fs-AFLABS-URNIK:srecanje:7290-2024-10-16 18:00:00+02:00
DESCRIPTION:Predmet: Rezervacija: Sestanki društva BEST (BEST)\, Lectures
  (P)\nLetniki: \nIzvajalci: Dekanat FS\nProstor: Lecture hall I/4A
END:VEVENT
BEGIN:VEVENT
SUMMARY:Rezervacija: Sestanki društva BEST (BEST)\, Lectures (P)
DTSTART;TZID=Europe/Ljubljana:20241023T180000
DTEND;TZID=Europe/Ljubljana:20241023T200000
DTSTAMP:20260420T211240Z
UID:fs-AFLABS-URNIK:srecanje:7290-2024-10-23 18:00:00+02:00
DESCRIPTION:Predmet: Rezervacija: Sestanki društva BEST (BEST)\, Lectures
  (P)\nLetniki: \nIzvajalci: Dekanat FS\nProstor: Lecture hall I/4A
END:VEVENT
BEGIN:VEVENT
SUMMARY:Rezervacija: Sestanki društva BEST (BEST)\, Lectures (P)
DTSTART;TZID=Europe/Ljubljana:20241030T180000
DTEND;TZID=Europe/Ljubljana:20241030T200000
DTSTAMP:20260420T211240Z
UID:fs-AFLABS-URNIK:srecanje:7290-2024-10-30 18:00:00+01:00
DESCRIPTION:Predmet: Rezervacija: Sestanki društva BEST (BEST)\, Lectures
  (P)\nLetniki: \nIzvajalci: Dekanat FS\nProstor: Lecture hall I/4A
END:VEVENT
BEGIN:VEVENT
SUMMARY:Rezervacija: Sestanki društva BEST (BEST)\, Lectures (P)
DTSTART;TZID=Europe/Ljubljana:20241106T180000
DTEND;TZID=Europe/Ljubljana:20241106T200000
DTSTAMP:20260420T211240Z
UID:fs-AFLABS-URNIK:srecanje:7290-2024-11-06 18:00:00+01:00
DESCRIPTION:Predmet: Rezervacija: Sestanki društva BEST (BEST)\, Lectures
  (P)\nLetniki: \nIzvajalci: Dekanat FS\nProstor: Lecture hall I/4A
END:VEVENT
BEGIN:VEVENT
SUMMARY:Rezervacija: Sestanki društva BEST (BEST)\, Lectures (P)
DTSTART;TZID=Europe/Ljubljana:20241113T180000
DTEND;TZID=Europe/Ljubljana:20241113T200000
DTSTAMP:20260420T211240Z
UID:fs-AFLABS-URNIK:srecanje:7290-2024-11-13 18:00:00+01:00
DESCRIPTION:Predmet: Rezervacija: Sestanki društva BEST (BEST)\, Lectures
  (P)\nLetniki: \nIzvajalci: Dekanat FS\nProstor: Lecture hall I/4A
END:VEVENT
BEGIN:VEVENT
SUMMARY:Rezervacija: Sestanki društva BEST (BEST)\, Lectures (P)
DTSTART;TZID=Europe/Ljubljana:20241120T180000
DTEND;TZID=Europe/Ljubljana:20241120T200000
DTSTAMP:20260420T211240Z
UID:fs-AFLABS-URNIK:srecanje:7290-2024-11-20 18:00:00+01:00
DESCRIPTION:Predmet: Rezervacija: Sestanki društva BEST (BEST)\, Lectures
  (P)\nLetniki: \nIzvajalci: Dekanat FS\nProstor: Lecture hall I/4A
END:VEVENT
BEGIN:VEVENT
SUMMARY:Rezervacija: Sestanki društva BEST (BEST)\, Lectures (P)
DTSTART;TZID=Europe/Ljubljana:20241127T180000
DTEND;TZID=Europe/Ljubljana:20241127T200000
DTSTAMP:20260420T211240Z
UID:fs-AFLABS-URNIK:srecanje:7290-2024-11-27 18:00:00+01:00
DESCRIPTION:Predmet: Rezervacija: Sestanki društva BEST (BEST)\, Lectures
  (P)\nLetniki: \nIzvajalci: Dekanat FS\nProstor: Lecture hall I/4A
END:VEVENT
BEGIN:VEVENT
SUMMARY:Rezervacija: Sestanki društva BEST (BEST)\, Lectures (P)
DTSTART;TZID=Europe/Ljubljana:20241204T180000
DTEND;TZID=Europe/Ljubljana:20241204T200000
DTSTAMP:20260420T211240Z
UID:fs-AFLABS-URNIK:srecanje:7290-2024-12-04 18:00:00+01:00
DESCRIPTION:Predmet: Rezervacija: Sestanki društva BEST (BEST)\, Lectures
  (P)\nLetniki: \nIzvajalci: Dekanat FS\nProstor: Lecture hall I/4A
END:VEVENT
BEGIN:VEVENT
SUMMARY:Rezervacija: Sestanki društva BEST (BEST)\, Lectures (P)
DTSTART;TZID=Europe/Ljubljana:20241211T180000
DTEND;TZID=Europe/Ljubljana:20241211T200000
DTSTAMP:20260420T211240Z
UID:fs-AFLABS-URNIK:srecanje:7290-2024-12-11 18:00:00+01:00
DESCRIPTION:Predmet: Rezervacija: Sestanki društva BEST (BEST)\, Lectures
  (P)\nLetniki: \nIzvajalci: Dekanat FS\nProstor: Lecture hall I/4A
END:VEVENT
BEGIN:VEVENT
SUMMARY:Rezervacija: Sestanki društva BEST (BEST)\, Lectures (P)
DTSTART;TZID=Europe/Ljubljana:20241218T180000
DTEND;TZID=Europe/Ljubljana:20241218T200000
DTSTAMP:20260420T211240Z
UID:fs-AFLABS-URNIK:srecanje:7290-2024-12-18 18:00:00+01:00
DESCRIPTION:Predmet: Rezervacija: Sestanki društva BEST (BEST)\, Lectures
  (P)\nLetniki: \nIzvajalci: Dekanat FS\nProstor: Lecture hall I/4A
END:VEVENT
BEGIN:VEVENT
SUMMARY:Rezervacija: Sestanki društva BEST (BEST)\, Lectures (P)
DTSTART;TZID=Europe/Ljubljana:20241225T180000
DTEND;TZID=Europe/Ljubljana:20241225T200000
DTSTAMP:20260420T211240Z
UID:fs-AFLABS-URNIK:srecanje:7290-2024-12-25 18:00:00+01:00
DESCRIPTION:Predmet: Rezervacija: Sestanki društva BEST (BEST)\, Lectures
  (P)\nLetniki: \nIzvajalci: Dekanat FS\nProstor: Lecture hall I/4A
END:VEVENT
BEGIN:VEVENT
SUMMARY:Rezervacija: Sestanki društva BEST (BEST)\, Lectures (P)
DTSTART;TZID=Europe/Ljubljana:20250108T180000
DTEND;TZID=Europe/Ljubljana:20250108T200000
DTSTAMP:20260420T211240Z
UID:fs-AFLABS-URNIK:srecanje:7290-2025-01-08 18:00:00+01:00
DESCRIPTION:Predmet: Rezervacija: Sestanki društva BEST (BEST)\, Lectures
  (P)\nLetniki: \nIzvajalci: Dekanat FS\nProstor: Lecture hall I/4A
END:VEVENT
BEGIN:VEVENT
SUMMARY:Rezervacija: Sestanki društva BEST (BEST)\, Lectures (P)
DTSTART;TZID=Europe/Ljubljana:20250115T180000
DTEND;TZID=Europe/Ljubljana:20250115T200000
DTSTAMP:20260420T211240Z
UID:fs-AFLABS-URNIK:srecanje:7290-2025-01-15 18:00:00+01:00
DESCRIPTION:Predmet: Rezervacija: Sestanki društva BEST (BEST)\, Lectures
  (P)\nLetniki: \nIzvajalci: Dekanat FS\nProstor: Lecture hall I/4A
END:VEVENT
BEGIN:VEVENT
SUMMARY:Kom. za dr. študij
DTSTART;TZID=Europe/Ljubljana:20241209T133000
DTEND;TZID=Europe/Ljubljana:20241209T150000
DTSTAMP:20260420T211240Z
UID:fs-AFLABS-URNIK:rezervacija:8714
CATEGORIES:Reservation
COLOR:royalblue
DESCRIPTION:Predmeti: \nLetniki: \nIzvajalci: Dekanat FS\nProstori: Leskov
 arjeva conference room
LOCATION:Leskovarjeva conference room
ORGANIZER:Dekanat FS
X-WR-TIMEZONE:Europe/Ljubljana
END:VEVENT
END:VCALENDAR
