BEGIN:VCALENDAR
VERSION:2.0
PRODID:-//AFLabs urnik izvoz - fs//aflabs.si//SI
NAME:UL FS Urnik
X-WR-CALNAME:UL FS Urnik
DTSTAMP:20260424T004908Z
REFRESH-INTERVAL:PT1H
SOURCE:https://urnik.fs.uni-lj.si/en/teacher/965/?day=2025-01-27&export=1
URL:https://urnik.fs.uni-lj.si/en/teacher/965/?day=2025-01-27&export=1
X-PUBLISHED-TTL:PT1H
X-WR-TIMEZONE:Europe/Ljubljana
BEGIN:VTIMEZONE
TZID:Europe/Ljubljana
BEGIN:DAYLIGHT
DTSTART:20260329T020000
RDATE:20260329T020000
RDATE:20270328T020000
TZNAME:CEST
TZOFFSETFROM:+0100
TZOFFSETTO:+0200
END:DAYLIGHT
BEGIN:STANDARD
DTSTART:20261025T030000
RDATE:20261025T030000
RDATE:20271031T030000
TZNAME:CET
TZOFFSETFROM:+0200
TZOFFSETTO:+0100
END:STANDARD
END:VTIMEZONE
BEGIN:VEVENT
SUMMARY:Rezervacija: Sestanki društva BEST (BEST)\, Lectures (P)
DTSTART;TZID=Europe/Ljubljana:20250219T180000
DTEND;TZID=Europe/Ljubljana:20250219T200000
DTSTAMP:20260424T004908Z
UID:fs-AFLABS-URNIK:srecanje:10043-2025-02-19 18:00:00+01:00
DESCRIPTION:Predmet: Rezervacija: Sestanki društva BEST (BEST)\, Lectures
  (P)\nLetniki: \nIzvajalci: FS Dekanat\, Dekanat FS\nProstor: Lecture hall
  I/4A
END:VEVENT
BEGIN:VEVENT
SUMMARY:Rezervacija: Sestanki društva BEST (BEST)\, Lectures (P)
DTSTART;TZID=Europe/Ljubljana:20250226T180000
DTEND;TZID=Europe/Ljubljana:20250226T200000
DTSTAMP:20260424T004908Z
UID:fs-AFLABS-URNIK:srecanje:10043-2025-02-26 18:00:00+01:00
DESCRIPTION:Predmet: Rezervacija: Sestanki društva BEST (BEST)\, Lectures
  (P)\nLetniki: \nIzvajalci: FS Dekanat\, Dekanat FS\nProstor: Lecture hall
  I/4A
END:VEVENT
BEGIN:VEVENT
SUMMARY:Akademski zbor
DTSTART;TZID=Europe/Ljubljana:20250220T140000
DTEND;TZID=Europe/Ljubljana:20250220T160000
DTSTAMP:20260424T004908Z
UID:fs-AFLABS-URNIK:rezervacija:9061
CATEGORIES:Reservation
COLOR:royalblue
DESCRIPTION:Predmeti: \nLetniki: \nIzvajalci: Dekanat FS\nProstori: Lectur
 e hall V/8
LOCATION:Lecture hall V/8
ORGANIZER:Dekanat FS
X-WR-TIMEZONE:Europe/Ljubljana
END:VEVENT
END:VCALENDAR
