BEGIN:VCALENDAR
VERSION:2.0
PRODID:-//AFLabs urnik izvoz - fs//aflabs.si//SI
NAME:UL FS Urnik
X-WR-CALNAME:UL FS Urnik
DTSTAMP:20260424T023734Z
REFRESH-INTERVAL:PT1H
SOURCE:https://urnik.fs.uni-lj.si/en/teacher/965/?day=2026-01-12&export=1
URL:https://urnik.fs.uni-lj.si/en/teacher/965/?day=2026-01-12&export=1
X-PUBLISHED-TTL:PT1H
X-WR-TIMEZONE:Europe/Ljubljana
BEGIN:VTIMEZONE
TZID:Europe/Ljubljana
BEGIN:DAYLIGHT
DTSTART:20260329T020000
RDATE:20260329T020000
RDATE:20270328T020000
TZNAME:CEST
TZOFFSETFROM:+0100
TZOFFSETTO:+0200
END:DAYLIGHT
BEGIN:STANDARD
DTSTART:20261025T030000
RDATE:20261025T030000
RDATE:20271031T030000
TZNAME:CET
TZOFFSETFROM:+0200
TZOFFSETTO:+0100
END:STANDARD
END:VTIMEZONE
BEGIN:VEVENT
SUMMARY:Joga
DTSTART;TZID=Europe/Ljubljana:20260126T070000
DTEND;TZID=Europe/Ljubljana:20260126T080000
DTSTAMP:20260424T023734Z
UID:fs-AFLABS-URNIK:rezervacija:10612
CATEGORIES:Reservation
COLOR:royalblue
DESCRIPTION:Predmeti: \nLetniki: \nIzvajalci: Dekanat FS\nProstori: Leskov
 arjeva conference room
LOCATION:Leskovarjeva conference room
ORGANIZER:Dekanat FS
X-WR-TIMEZONE:Europe/Ljubljana
END:VEVENT
BEGIN:VEVENT
SUMMARY:Joga
DTSTART;TZID=Europe/Ljubljana:20260202T070000
DTEND;TZID=Europe/Ljubljana:20260202T080000
DTSTAMP:20260424T023734Z
UID:fs-AFLABS-URNIK:rezervacija:10613
CATEGORIES:Reservation
COLOR:royalblue
DESCRIPTION:Predmeti: \nLetniki: \nIzvajalci: Dekanat FS\nProstori: Leskov
 arjeva conference room
LOCATION:Leskovarjeva conference room
ORGANIZER:Dekanat FS
X-WR-TIMEZONE:Europe/Ljubljana
END:VEVENT
BEGIN:VEVENT
SUMMARY:Sestanek
DTSTART;TZID=Europe/Ljubljana:20260129T130000
DTEND;TZID=Europe/Ljubljana:20260129T143000
DTSTAMP:20260424T023734Z
UID:fs-AFLABS-URNIK:rezervacija:13620
CATEGORIES:Reservation
COLOR:royalblue
DESCRIPTION:Predmeti: \nLetniki: \nIzvajalci: Dekanat FS\, Jaka Tušek\, A
 ndrej Žerovnik\nProstori: Conference room
LOCATION:Conference room
ORGANIZER:Dekanat FS, Jaka Tušek, Andrej Žerovnik
X-WR-TIMEZONE:Europe/Ljubljana
END:VEVENT
BEGIN:VEVENT
SUMMARY:Joga
DTSTART;TZID=Europe/Ljubljana:20251215T070000
DTEND;TZID=Europe/Ljubljana:20251215T080000
DTSTAMP:20260424T023734Z
UID:fs-AFLABS-URNIK:rezervacija:10607
CATEGORIES:Reservation
COLOR:royalblue
DESCRIPTION:Predmeti: \nLetniki: \nIzvajalci: Dekanat FS\nProstori: Leskov
 arjeva conference room
LOCATION:Leskovarjeva conference room
ORGANIZER:Dekanat FS
X-WR-TIMEZONE:Europe/Ljubljana
END:VEVENT
BEGIN:VEVENT
SUMMARY:Joga
DTSTART;TZID=Europe/Ljubljana:20251006T070000
DTEND;TZID=Europe/Ljubljana:20251006T080000
DTSTAMP:20260424T023734Z
UID:fs-AFLABS-URNIK:rezervacija:10597
CATEGORIES:Reservation
COLOR:royalblue
DESCRIPTION:Predmeti: \nLetniki: \nIzvajalci: Dekanat FS\nProstori: Leskov
 arjeva conference room
LOCATION:Leskovarjeva conference room
ORGANIZER:Dekanat FS
X-WR-TIMEZONE:Europe/Ljubljana
END:VEVENT
BEGIN:VEVENT
SUMMARY:Joga
DTSTART;TZID=Europe/Ljubljana:20251117T070000
DTEND;TZID=Europe/Ljubljana:20251117T080000
DTSTAMP:20260424T023734Z
UID:fs-AFLABS-URNIK:rezervacija:10603
CATEGORIES:Reservation
COLOR:royalblue
DESCRIPTION:Predmeti: \nLetniki: \nIzvajalci: Dekanat FS\nProstori: Leskov
 arjeva conference room
LOCATION:Leskovarjeva conference room
ORGANIZER:Dekanat FS
X-WR-TIMEZONE:Europe/Ljubljana
END:VEVENT
BEGIN:VEVENT
SUMMARY:Joga
DTSTART;TZID=Europe/Ljubljana:20260209T070000
DTEND;TZID=Europe/Ljubljana:20260209T080000
DTSTAMP:20260424T023734Z
UID:fs-AFLABS-URNIK:rezervacija:10614
CATEGORIES:Reservation
COLOR:royalblue
DESCRIPTION:Predmeti: \nLetniki: \nIzvajalci: Dekanat FS\nProstori: Leskov
 arjeva conference room
LOCATION:Leskovarjeva conference room
ORGANIZER:Dekanat FS
X-WR-TIMEZONE:Europe/Ljubljana
END:VEVENT
BEGIN:VEVENT
SUMMARY:Joga
DTSTART;TZID=Europe/Ljubljana:20251222T070000
DTEND;TZID=Europe/Ljubljana:20251222T080000
DTSTAMP:20260424T023734Z
UID:fs-AFLABS-URNIK:rezervacija:10608
CATEGORIES:Reservation
COLOR:royalblue
DESCRIPTION:Predmeti: \nLetniki: \nIzvajalci: Dekanat FS\nProstori: Leskov
 arjeva conference room
LOCATION:Leskovarjeva conference room
ORGANIZER:Dekanat FS
X-WR-TIMEZONE:Europe/Ljubljana
END:VEVENT
BEGIN:VEVENT
SUMMARY:14.00   Zag. dr. Gangwani
DTSTART;TZID=Europe/Ljubljana:20251006T133000
DTEND;TZID=Europe/Ljubljana:20251006T160000
DTSTAMP:20260424T023734Z
UID:fs-AFLABS-URNIK:rezervacija:10890
CATEGORIES:Reservation
COLOR:royalblue
DESCRIPTION:Predmeti: \nLetniki: \nIzvajalci: Dekanat FS\nProstori: Leskov
 arjeva conference room
LOCATION:Leskovarjeva conference room
ORGANIZER:Dekanat FS
X-WR-TIMEZONE:Europe/Ljubljana
END:VEVENT
BEGIN:VEVENT
SUMMARY:Joga
DTSTART;TZID=Europe/Ljubljana:20251103T070000
DTEND;TZID=Europe/Ljubljana:20251103T080000
DTSTAMP:20260424T023734Z
UID:fs-AFLABS-URNIK:rezervacija:10601
CATEGORIES:Reservation
COLOR:royalblue
DESCRIPTION:Predmeti: \nLetniki: \nIzvajalci: Dekanat FS\nProstori: Leskov
 arjeva conference room
LOCATION:Leskovarjeva conference room
ORGANIZER:Dekanat FS
X-WR-TIMEZONE:Europe/Ljubljana
END:VEVENT
BEGIN:VEVENT
SUMMARY:Joga
DTSTART;TZID=Europe/Ljubljana:20260216T070000
DTEND;TZID=Europe/Ljubljana:20260216T080000
DTSTAMP:20260424T023734Z
UID:fs-AFLABS-URNIK:rezervacija:10615
CATEGORIES:Reservation
COLOR:royalblue
DESCRIPTION:Predmeti: \nLetniki: \nIzvajalci: Dekanat FS\nProstori: Leskov
 arjeva conference room
LOCATION:Leskovarjeva conference room
ORGANIZER:Dekanat FS
X-WR-TIMEZONE:Europe/Ljubljana
END:VEVENT
BEGIN:VEVENT
SUMMARY:Joga
DTSTART;TZID=Europe/Ljubljana:20251027T070000
DTEND;TZID=Europe/Ljubljana:20251027T080000
DTSTAMP:20260424T023734Z
UID:fs-AFLABS-URNIK:rezervacija:10600
CATEGORIES:Reservation
COLOR:royalblue
DESCRIPTION:Predmeti: \nLetniki: \nIzvajalci: Dekanat FS\nProstori: Leskov
 arjeva conference room
LOCATION:Leskovarjeva conference room
ORGANIZER:Dekanat FS
X-WR-TIMEZONE:Europe/Ljubljana
END:VEVENT
BEGIN:VEVENT
SUMMARY:Joga
DTSTART;TZID=Europe/Ljubljana:20260119T070000
DTEND;TZID=Europe/Ljubljana:20260119T080000
DTSTAMP:20260424T023734Z
UID:fs-AFLABS-URNIK:rezervacija:10611
CATEGORIES:Reservation
COLOR:royalblue
DESCRIPTION:Predmeti: \nLetniki: \nIzvajalci: Dekanat FS\nProstori: Leskov
 arjeva conference room
LOCATION:Leskovarjeva conference room
ORGANIZER:Dekanat FS
X-WR-TIMEZONE:Europe/Ljubljana
END:VEVENT
BEGIN:VEVENT
SUMMARY:Joga
DTSTART;TZID=Europe/Ljubljana:20251124T070000
DTEND;TZID=Europe/Ljubljana:20251124T080000
DTSTAMP:20260424T023734Z
UID:fs-AFLABS-URNIK:rezervacija:10604
CATEGORIES:Reservation
COLOR:royalblue
DESCRIPTION:Predmeti: \nLetniki: \nIzvajalci: Dekanat FS\nProstori: Leskov
 arjeva conference room
LOCATION:Leskovarjeva conference room
ORGANIZER:Dekanat FS
X-WR-TIMEZONE:Europe/Ljubljana
END:VEVENT
BEGIN:VEVENT
SUMMARY:Joga
DTSTART;TZID=Europe/Ljubljana:20251110T070000
DTEND;TZID=Europe/Ljubljana:20251110T080000
DTSTAMP:20260424T023734Z
UID:fs-AFLABS-URNIK:rezervacija:10602
CATEGORIES:Reservation
COLOR:royalblue
DESCRIPTION:Predmeti: \nLetniki: \nIzvajalci: Dekanat FS\nProstori: Leskov
 arjeva conference room
LOCATION:Leskovarjeva conference room
ORGANIZER:Dekanat FS
X-WR-TIMEZONE:Europe/Ljubljana
END:VEVENT
BEGIN:VEVENT
SUMMARY:Joga
DTSTART;TZID=Europe/Ljubljana:20251208T070000
DTEND;TZID=Europe/Ljubljana:20251208T080000
DTSTAMP:20260424T023734Z
UID:fs-AFLABS-URNIK:rezervacija:10606
CATEGORIES:Reservation
COLOR:royalblue
DESCRIPTION:Predmeti: \nLetniki: \nIzvajalci: Dekanat FS\nProstori: Leskov
 arjeva conference room
LOCATION:Leskovarjeva conference room
ORGANIZER:Dekanat FS
X-WR-TIMEZONE:Europe/Ljubljana
END:VEVENT
BEGIN:VEVENT
SUMMARY:Joga
DTSTART;TZID=Europe/Ljubljana:20251013T070000
DTEND;TZID=Europe/Ljubljana:20251013T080000
DTSTAMP:20260424T023734Z
UID:fs-AFLABS-URNIK:rezervacija:10598
CATEGORIES:Reservation
COLOR:royalblue
DESCRIPTION:Predmeti: \nLetniki: \nIzvajalci: Dekanat FS\nProstori: Leskov
 arjeva conference room
LOCATION:Leskovarjeva conference room
ORGANIZER:Dekanat FS
X-WR-TIMEZONE:Europe/Ljubljana
END:VEVENT
BEGIN:VEVENT
SUMMARY:Joga
DTSTART;TZID=Europe/Ljubljana:20251201T070000
DTEND;TZID=Europe/Ljubljana:20251201T080000
DTSTAMP:20260424T023734Z
UID:fs-AFLABS-URNIK:rezervacija:10605
CATEGORIES:Reservation
COLOR:royalblue
DESCRIPTION:Predmeti: \nLetniki: \nIzvajalci: Dekanat FS\nProstori: Leskov
 arjeva conference room
LOCATION:Leskovarjeva conference room
ORGANIZER:Dekanat FS
X-WR-TIMEZONE:Europe/Ljubljana
END:VEVENT
BEGIN:VEVENT
SUMMARY:Joga
DTSTART;TZID=Europe/Ljubljana:20251020T070000
DTEND;TZID=Europe/Ljubljana:20251020T080000
DTSTAMP:20260424T023734Z
UID:fs-AFLABS-URNIK:rezervacija:10599
CATEGORIES:Reservation
COLOR:royalblue
DESCRIPTION:Predmeti: \nLetniki: \nIzvajalci: Dekanat FS\nProstori: Leskov
 arjeva conference room
LOCATION:Leskovarjeva conference room
ORGANIZER:Dekanat FS
X-WR-TIMEZONE:Europe/Ljubljana
END:VEVENT
BEGIN:VEVENT
SUMMARY:Joga
DTSTART;TZID=Europe/Ljubljana:20260105T070000
DTEND;TZID=Europe/Ljubljana:20260105T080000
DTSTAMP:20260424T023734Z
UID:fs-AFLABS-URNIK:rezervacija:10609
CATEGORIES:Reservation
COLOR:royalblue
DESCRIPTION:Predmeti: \nLetniki: \nIzvajalci: Dekanat FS\nProstori: Leskov
 arjeva conference room
LOCATION:Leskovarjeva conference room
ORGANIZER:Dekanat FS
X-WR-TIMEZONE:Europe/Ljubljana
END:VEVENT
BEGIN:VEVENT
SUMMARY:Joga
DTSTART;TZID=Europe/Ljubljana:20260112T070000
DTEND;TZID=Europe/Ljubljana:20260112T080000
DTSTAMP:20260424T023734Z
UID:fs-AFLABS-URNIK:rezervacija:10610
CATEGORIES:Reservation
COLOR:royalblue
DESCRIPTION:Predmeti: \nLetniki: \nIzvajalci: Dekanat FS\nProstori: Leskov
 arjeva conference room
LOCATION:Leskovarjeva conference room
ORGANIZER:Dekanat FS
X-WR-TIMEZONE:Europe/Ljubljana
END:VEVENT
END:VCALENDAR
