BEGIN:VCALENDAR
VERSION:2.0
PRODID:-//AFLabs urnik izvoz - fs//aflabs.si//SI
NAME:UL FS Urnik
X-WR-CALNAME:UL FS Urnik
DTSTAMP:20260420T234647Z
REFRESH-INTERVAL:PT1H
SOURCE:https://urnik.fs.uni-lj.si/en/teacher/975/?day=2024-10-07&export=1
URL:https://urnik.fs.uni-lj.si/en/teacher/975/?day=2024-10-07&export=1
X-PUBLISHED-TTL:PT1H
X-WR-TIMEZONE:Europe/Ljubljana
BEGIN:VTIMEZONE
TZID:Europe/Ljubljana
BEGIN:DAYLIGHT
DTSTART:20260329T020000
RDATE:20260329T020000
RDATE:20270328T020000
TZNAME:CEST
TZOFFSETFROM:+0100
TZOFFSETTO:+0200
END:DAYLIGHT
BEGIN:STANDARD
DTSTART:20261025T030000
RDATE:20261025T030000
RDATE:20271031T030000
TZNAME:CET
TZOFFSETFROM:+0200
TZOFFSETTO:+0100
END:STANDARD
END:VTIMEZONE
BEGIN:VEVENT
SUMMARY:Advanced combustion processes (NPZM)\, Lecture exercises (VP)
DTSTART;TZID=Europe/Ljubljana:20241120T100000
DTEND;TZID=Europe/Ljubljana:20241120T120000
DTSTAMP:20260420T234647Z
UID:fs-AFLABS-URNIK:srecanje:10774-2024-11-20 10:00:00+01:00
DESCRIPTION:Predmet: Advanced combustion processes (NPZM)\, Lecture exerci
 ses (VP)\nLetniki: Energy engineering (MAG-1)\nIzvajalci: Boštjan Drobni
 č\, Andraž Kravos\, Emilija Todorovski\, Filip Todorovski\, Anton Žnida
 rčič\, Urban Žvar Baškovič\nProstor: Lecture hall I/4A
END:VEVENT
END:VCALENDAR
