BEGIN:VCALENDAR
VERSION:2.0
PRODID:-//AFLabs urnik izvoz - fs//aflabs.si//SI
NAME:UL FS Urnik
X-WR-CALNAME:UL FS Urnik
DTSTAMP:20260420T202811Z
REFRESH-INTERVAL:PT1H
SOURCE:https://urnik.fs.uni-lj.si/en/teacher/977/?day=2026-04-06&export=1
URL:https://urnik.fs.uni-lj.si/en/teacher/977/?day=2026-04-06&export=1
X-PUBLISHED-TTL:PT1H
X-WR-TIMEZONE:Europe/Ljubljana
BEGIN:VTIMEZONE
TZID:Europe/Ljubljana
BEGIN:DAYLIGHT
DTSTART:20260329T020000
RDATE:20260329T020000
RDATE:20270328T020000
TZNAME:CEST
TZOFFSETFROM:+0100
TZOFFSETTO:+0200
END:DAYLIGHT
BEGIN:STANDARD
DTSTART:20261025T030000
RDATE:20261025T030000
RDATE:20271031T030000
TZNAME:CET
TZOFFSETFROM:+0200
TZOFFSETTO:+0100
END:STANDARD
END:VTIMEZONE
BEGIN:VEVENT
SUMMARY:Building physics and indoor environment quality (SFNP)\, Laborator
 y excercises (VL)\, [S1]
DTSTART;TZID=Europe/Ljubljana:20260218T113000
DTEND;TZID=Europe/Ljubljana:20260218T133000
DTSTAMP:20260420T202811Z
UID:fs-AFLABS-URNIK:srecanje:17063-2026-02-18 11:30:00+01:00
DESCRIPTION:Predmet: Building physics and indoor environment quality (SFNP
 )\, Laboratory excercises (VL)\, [S1]\nLetniki: Process engineering (PAP-2
 )\nIzvajalci: Suzana Domjan\, Eva Zavrl\nProstor: Laboratory LOTZ DS-N3
END:VEVENT
BEGIN:VEVENT
SUMMARY:Building physics and indoor environment quality (SFNP)\, Laborator
 y excercises (VL)\, [S1]
DTSTART;TZID=Europe/Ljubljana:20260225T113000
DTEND;TZID=Europe/Ljubljana:20260225T133000
DTSTAMP:20260420T202811Z
UID:fs-AFLABS-URNIK:srecanje:17063-2026-02-25 11:30:00+01:00
DESCRIPTION:Predmet: Building physics and indoor environment quality (SFNP
 )\, Laboratory excercises (VL)\, [S1]\nLetniki: Process engineering (PAP-2
 )\nIzvajalci: Suzana Domjan\, Eva Zavrl\nProstor: Laboratory LOTZ DS-N3
END:VEVENT
BEGIN:VEVENT
SUMMARY:Building physics and indoor environment quality (SFNP)\, Laborator
 y excercises (VL)\, [S1]
DTSTART;TZID=Europe/Ljubljana:20260304T113000
DTEND;TZID=Europe/Ljubljana:20260304T133000
DTSTAMP:20260420T202811Z
UID:fs-AFLABS-URNIK:srecanje:17063-2026-03-04 11:30:00+01:00
DESCRIPTION:Predmet: Building physics and indoor environment quality (SFNP
 )\, Laboratory excercises (VL)\, [S1]\nLetniki: Process engineering (PAP-2
 )\nIzvajalci: Suzana Domjan\, Eva Zavrl\nProstor: Laboratory LOTZ DS-N3
END:VEVENT
BEGIN:VEVENT
SUMMARY:Building physics and indoor environment quality (SFNP)\, Laborator
 y excercises (VL)\, [S1]
DTSTART;TZID=Europe/Ljubljana:20260311T113000
DTEND;TZID=Europe/Ljubljana:20260311T133000
DTSTAMP:20260420T202811Z
UID:fs-AFLABS-URNIK:srecanje:17063-2026-03-11 11:30:00+01:00
DESCRIPTION:Predmet: Building physics and indoor environment quality (SFNP
 )\, Laboratory excercises (VL)\, [S1]\nLetniki: Process engineering (PAP-2
 )\nIzvajalci: Suzana Domjan\, Eva Zavrl\nProstor: Laboratory LOTZ DS-N3
END:VEVENT
BEGIN:VEVENT
SUMMARY:Building physics and indoor environment quality (SFNP)\, Laborator
 y excercises (VL)\, [S1]
DTSTART;TZID=Europe/Ljubljana:20260318T113000
DTEND;TZID=Europe/Ljubljana:20260318T133000
DTSTAMP:20260420T202811Z
UID:fs-AFLABS-URNIK:srecanje:17063-2026-03-18 11:30:00+01:00
DESCRIPTION:Predmet: Building physics and indoor environment quality (SFNP
 )\, Laboratory excercises (VL)\, [S1]\nLetniki: Process engineering (PAP-2
 )\nIzvajalci: Suzana Domjan\, Eva Zavrl\nProstor: Laboratory LOTZ DS-N3
END:VEVENT
BEGIN:VEVENT
SUMMARY:Building physics and indoor environment quality (SFNP)\, Laborator
 y excercises (VL)\, [S1]
DTSTART;TZID=Europe/Ljubljana:20260325T113000
DTEND;TZID=Europe/Ljubljana:20260325T133000
DTSTAMP:20260420T202811Z
UID:fs-AFLABS-URNIK:srecanje:17063-2026-03-25 11:30:00+01:00
DESCRIPTION:Predmet: Building physics and indoor environment quality (SFNP
 )\, Laboratory excercises (VL)\, [S1]\nLetniki: Process engineering (PAP-2
 )\nIzvajalci: Suzana Domjan\, Eva Zavrl\nProstor: Laboratory LOTZ DS-N3
END:VEVENT
BEGIN:VEVENT
SUMMARY:Building physics and indoor environment quality (SFNP)\, Laborator
 y excercises (VL)\, [S1]
DTSTART;TZID=Europe/Ljubljana:20260422T113000
DTEND;TZID=Europe/Ljubljana:20260422T133000
DTSTAMP:20260420T202811Z
UID:fs-AFLABS-URNIK:srecanje:17063-2026-04-22 11:30:00+02:00
DESCRIPTION:Predmet: Building physics and indoor environment quality (SFNP
 )\, Laboratory excercises (VL)\, [S1]\nLetniki: Process engineering (PAP-2
 )\nIzvajalci: Suzana Domjan\, Eva Zavrl\nProstor: Laboratory LOTZ DS-N3
END:VEVENT
BEGIN:VEVENT
SUMMARY:Building physics and indoor environment quality (SFNP)\, Laborator
 y excercises (VL)\, [S1]
DTSTART;TZID=Europe/Ljubljana:20260429T113000
DTEND;TZID=Europe/Ljubljana:20260429T133000
DTSTAMP:20260420T202811Z
UID:fs-AFLABS-URNIK:srecanje:17063-2026-04-29 11:30:00+02:00
DESCRIPTION:Predmet: Building physics and indoor environment quality (SFNP
 )\, Laboratory excercises (VL)\, [S1]\nLetniki: Process engineering (PAP-2
 )\nIzvajalci: Suzana Domjan\, Eva Zavrl\nProstor: Laboratory LOTZ DS-N3
END:VEVENT
BEGIN:VEVENT
SUMMARY:Building physics and indoor environment quality (SFNP)\, Laborator
 y excercises (VL)\, [S1]
DTSTART;TZID=Europe/Ljubljana:20260506T113000
DTEND;TZID=Europe/Ljubljana:20260506T133000
DTSTAMP:20260420T202811Z
UID:fs-AFLABS-URNIK:srecanje:17063-2026-05-06 11:30:00+02:00
DESCRIPTION:Predmet: Building physics and indoor environment quality (SFNP
 )\, Laboratory excercises (VL)\, [S1]\nLetniki: Process engineering (PAP-2
 )\nIzvajalci: Suzana Domjan\, Eva Zavrl\nProstor: Laboratory LOTZ DS-N3
END:VEVENT
BEGIN:VEVENT
SUMMARY:Building physics and indoor environment quality (SFNP)\, Laborator
 y excercises (VL)\, [S1]
DTSTART;TZID=Europe/Ljubljana:20260520T113000
DTEND;TZID=Europe/Ljubljana:20260520T133000
DTSTAMP:20260420T202811Z
UID:fs-AFLABS-URNIK:srecanje:17063-2026-05-20 11:30:00+02:00
DESCRIPTION:Predmet: Building physics and indoor environment quality (SFNP
 )\, Laboratory excercises (VL)\, [S1]\nLetniki: Process engineering (PAP-2
 )\nIzvajalci: Suzana Domjan\, Eva Zavrl\nProstor: Laboratory LOTZ DS-N3
END:VEVENT
BEGIN:VEVENT
SUMMARY:Building physics and indoor environment quality (SFNP)\, Laborator
 y excercises (VL)\, [S2]
DTSTART;TZID=Europe/Ljubljana:20260218T133000
DTEND;TZID=Europe/Ljubljana:20260218T153000
DTSTAMP:20260420T202811Z
UID:fs-AFLABS-URNIK:srecanje:17064-2026-02-18 13:30:00+01:00
DESCRIPTION:Predmet: Building physics and indoor environment quality (SFNP
 )\, Laboratory excercises (VL)\, [S2]\nLetniki: Process engineering (PAP-2
 )\nIzvajalci: Suzana Domjan\, Eva Zavrl\nProstor: Laboratory LOTZ DS-N3
END:VEVENT
BEGIN:VEVENT
SUMMARY:Building physics and indoor environment quality (SFNP)\, Laborator
 y excercises (VL)\, [S2]
DTSTART;TZID=Europe/Ljubljana:20260225T133000
DTEND;TZID=Europe/Ljubljana:20260225T153000
DTSTAMP:20260420T202811Z
UID:fs-AFLABS-URNIK:srecanje:17064-2026-02-25 13:30:00+01:00
DESCRIPTION:Predmet: Building physics and indoor environment quality (SFNP
 )\, Laboratory excercises (VL)\, [S2]\nLetniki: Process engineering (PAP-2
 )\nIzvajalci: Suzana Domjan\, Eva Zavrl\nProstor: Laboratory LOTZ DS-N3
END:VEVENT
BEGIN:VEVENT
SUMMARY:Building physics and indoor environment quality (SFNP)\, Laborator
 y excercises (VL)\, [S2]
DTSTART;TZID=Europe/Ljubljana:20260304T133000
DTEND;TZID=Europe/Ljubljana:20260304T153000
DTSTAMP:20260420T202811Z
UID:fs-AFLABS-URNIK:srecanje:17064-2026-03-04 13:30:00+01:00
DESCRIPTION:Predmet: Building physics and indoor environment quality (SFNP
 )\, Laboratory excercises (VL)\, [S2]\nLetniki: Process engineering (PAP-2
 )\nIzvajalci: Suzana Domjan\, Eva Zavrl\nProstor: Laboratory LOTZ DS-N3
END:VEVENT
BEGIN:VEVENT
SUMMARY:Building physics and indoor environment quality (SFNP)\, Laborator
 y excercises (VL)\, [S2]
DTSTART;TZID=Europe/Ljubljana:20260311T133000
DTEND;TZID=Europe/Ljubljana:20260311T153000
DTSTAMP:20260420T202811Z
UID:fs-AFLABS-URNIK:srecanje:17064-2026-03-11 13:30:00+01:00
DESCRIPTION:Predmet: Building physics and indoor environment quality (SFNP
 )\, Laboratory excercises (VL)\, [S2]\nLetniki: Process engineering (PAP-2
 )\nIzvajalci: Suzana Domjan\, Eva Zavrl\nProstor: Laboratory LOTZ DS-N3
END:VEVENT
BEGIN:VEVENT
SUMMARY:Building physics and indoor environment quality (SFNP)\, Laborator
 y excercises (VL)\, [S2]
DTSTART;TZID=Europe/Ljubljana:20260318T133000
DTEND;TZID=Europe/Ljubljana:20260318T153000
DTSTAMP:20260420T202811Z
UID:fs-AFLABS-URNIK:srecanje:17064-2026-03-18 13:30:00+01:00
DESCRIPTION:Predmet: Building physics and indoor environment quality (SFNP
 )\, Laboratory excercises (VL)\, [S2]\nLetniki: Process engineering (PAP-2
 )\nIzvajalci: Suzana Domjan\, Eva Zavrl\nProstor: Laboratory LOTZ DS-N3
END:VEVENT
BEGIN:VEVENT
SUMMARY:Building physics and indoor environment quality (SFNP)\, Laborator
 y excercises (VL)\, [S2]
DTSTART;TZID=Europe/Ljubljana:20260325T133000
DTEND;TZID=Europe/Ljubljana:20260325T153000
DTSTAMP:20260420T202811Z
UID:fs-AFLABS-URNIK:srecanje:17064-2026-03-25 13:30:00+01:00
DESCRIPTION:Predmet: Building physics and indoor environment quality (SFNP
 )\, Laboratory excercises (VL)\, [S2]\nLetniki: Process engineering (PAP-2
 )\nIzvajalci: Suzana Domjan\, Eva Zavrl\nProstor: Laboratory LOTZ DS-N3
END:VEVENT
BEGIN:VEVENT
SUMMARY:Building physics and indoor environment quality (SFNP)\, Laborator
 y excercises (VL)\, [S2]
DTSTART;TZID=Europe/Ljubljana:20260422T133000
DTEND;TZID=Europe/Ljubljana:20260422T153000
DTSTAMP:20260420T202811Z
UID:fs-AFLABS-URNIK:srecanje:17064-2026-04-22 13:30:00+02:00
DESCRIPTION:Predmet: Building physics and indoor environment quality (SFNP
 )\, Laboratory excercises (VL)\, [S2]\nLetniki: Process engineering (PAP-2
 )\nIzvajalci: Suzana Domjan\, Eva Zavrl\nProstor: Laboratory LOTZ DS-N3
END:VEVENT
BEGIN:VEVENT
SUMMARY:Building physics and indoor environment quality (SFNP)\, Laborator
 y excercises (VL)\, [S2]
DTSTART;TZID=Europe/Ljubljana:20260429T133000
DTEND;TZID=Europe/Ljubljana:20260429T153000
DTSTAMP:20260420T202811Z
UID:fs-AFLABS-URNIK:srecanje:17064-2026-04-29 13:30:00+02:00
DESCRIPTION:Predmet: Building physics and indoor environment quality (SFNP
 )\, Laboratory excercises (VL)\, [S2]\nLetniki: Process engineering (PAP-2
 )\nIzvajalci: Suzana Domjan\, Eva Zavrl\nProstor: Laboratory LOTZ DS-N3
END:VEVENT
BEGIN:VEVENT
SUMMARY:Building physics and indoor environment quality (SFNP)\, Laborator
 y excercises (VL)\, [S2]
DTSTART;TZID=Europe/Ljubljana:20260506T133000
DTEND;TZID=Europe/Ljubljana:20260506T153000
DTSTAMP:20260420T202811Z
UID:fs-AFLABS-URNIK:srecanje:17064-2026-05-06 13:30:00+02:00
DESCRIPTION:Predmet: Building physics and indoor environment quality (SFNP
 )\, Laboratory excercises (VL)\, [S2]\nLetniki: Process engineering (PAP-2
 )\nIzvajalci: Suzana Domjan\, Eva Zavrl\nProstor: Laboratory LOTZ DS-N3
END:VEVENT
BEGIN:VEVENT
SUMMARY:Building physics and indoor environment quality (SFNP)\, Laborator
 y excercises (VL)\, [S2]
DTSTART;TZID=Europe/Ljubljana:20260520T133000
DTEND;TZID=Europe/Ljubljana:20260520T153000
DTSTAMP:20260420T202811Z
UID:fs-AFLABS-URNIK:srecanje:17064-2026-05-20 13:30:00+02:00
DESCRIPTION:Predmet: Building physics and indoor environment quality (SFNP
 )\, Laboratory excercises (VL)\, [S2]\nLetniki: Process engineering (PAP-2
 )\nIzvajalci: Suzana Domjan\, Eva Zavrl\nProstor: Laboratory LOTZ DS-N3
END:VEVENT
BEGIN:VEVENT
SUMMARY:Building physics and indoor environment quality (SFNP)\, Lecture e
 xercises (VP)\, [S1]
DTSTART;TZID=Europe/Ljubljana:20260401T113000
DTEND;TZID=Europe/Ljubljana:20260401T133000
DTSTAMP:20260420T202811Z
UID:fs-AFLABS-URNIK:srecanje:16439-2026-04-01 11:30:00+02:00
DESCRIPTION:Predmet: Building physics and indoor environment quality (SFNP
 )\, Lecture exercises (VP)\, [S1]\nLetniki: Process engineering (PAP-2)\nI
 zvajalci: Suzana Domjan\, Eva Zavrl\nProstor: Lecture hall III/3B
END:VEVENT
BEGIN:VEVENT
SUMMARY:Building physics and indoor environment quality (SFNP)\, Lecture e
 xercises (VP)\, [S1]
DTSTART;TZID=Europe/Ljubljana:20260408T113000
DTEND;TZID=Europe/Ljubljana:20260408T133000
DTSTAMP:20260420T202811Z
UID:fs-AFLABS-URNIK:srecanje:16439-2026-04-08 11:30:00+02:00
DESCRIPTION:Predmet: Building physics and indoor environment quality (SFNP
 )\, Lecture exercises (VP)\, [S1]\nLetniki: Process engineering (PAP-2)\nI
 zvajalci: Suzana Domjan\, Eva Zavrl\nProstor: Lecture hall III/3B
END:VEVENT
BEGIN:VEVENT
SUMMARY:Building physics and indoor environment quality (SFNP)\, Lecture e
 xercises (VP)\, [S1]
DTSTART;TZID=Europe/Ljubljana:20260415T113000
DTEND;TZID=Europe/Ljubljana:20260415T133000
DTSTAMP:20260420T202811Z
UID:fs-AFLABS-URNIK:srecanje:16439-2026-04-15 11:30:00+02:00
DESCRIPTION:Predmet: Building physics and indoor environment quality (SFNP
 )\, Lecture exercises (VP)\, [S1]\nLetniki: Process engineering (PAP-2)\nI
 zvajalci: Suzana Domjan\, Eva Zavrl\nProstor: Lecture hall III/3B
END:VEVENT
BEGIN:VEVENT
SUMMARY:Building physics and indoor environment quality (SFNP)\, Lecture e
 xercises (VP)\, [S1]
DTSTART;TZID=Europe/Ljubljana:20260513T113000
DTEND;TZID=Europe/Ljubljana:20260513T133000
DTSTAMP:20260420T202811Z
UID:fs-AFLABS-URNIK:srecanje:16439-2026-05-13 11:30:00+02:00
DESCRIPTION:Predmet: Building physics and indoor environment quality (SFNP
 )\, Lecture exercises (VP)\, [S1]\nLetniki: Process engineering (PAP-2)\nI
 zvajalci: Suzana Domjan\, Eva Zavrl\nProstor: Lecture hall III/3B
END:VEVENT
BEGIN:VEVENT
SUMMARY:Building physics and indoor environment quality (SFNP)\, Lecture e
 xercises (VP)\, [S1]
DTSTART;TZID=Europe/Ljubljana:20260527T113000
DTEND;TZID=Europe/Ljubljana:20260527T133000
DTSTAMP:20260420T202811Z
UID:fs-AFLABS-URNIK:srecanje:16439-2026-05-27 11:30:00+02:00
DESCRIPTION:Predmet: Building physics and indoor environment quality (SFNP
 )\, Lecture exercises (VP)\, [S1]\nLetniki: Process engineering (PAP-2)\nI
 zvajalci: Suzana Domjan\, Eva Zavrl\nProstor: Lecture hall III/3B
END:VEVENT
BEGIN:VEVENT
SUMMARY:Kolokvij Stavbna fizika in notranje okolje
DTSTART;TZID=Europe/Ljubljana:20260527T170000
DTEND;TZID=Europe/Ljubljana:20260527T190000
DTSTAMP:20260420T202811Z
UID:fs-AFLABS-URNIK:rezervacija:14104
ATTENDEE:Process engineering (PAP-2)
CATEGORIES:Reservation
COLOR:royalblue
DESCRIPTION:Predmeti: Building physics and indoor environment quality (SFN
 P)\nLetniki: Process engineering (PAP-2)\nIzvajalci: Eva Zavrl\nProstori: 
 Lecture hall III/2
LOCATION:Lecture hall III/2
ORGANIZER:Eva Zavrl
X-WR-TIMEZONE:Europe/Ljubljana
END:VEVENT
END:VCALENDAR
