BEGIN:VCALENDAR
VERSION:2.0
PRODID:-//AFLabs urnik izvoz - fs//aflabs.si//SI
NAME:UL FS Urnik
X-WR-CALNAME:UL FS Urnik
DTSTAMP:20260420T002112Z
REFRESH-INTERVAL:PT1H
SOURCE:https://urnik.fs.uni-lj.si/en/teacher/983/?day=2024-01-29&export=1
URL:https://urnik.fs.uni-lj.si/en/teacher/983/?day=2024-01-29&export=1
X-PUBLISHED-TTL:PT1H
X-WR-TIMEZONE:Europe/Ljubljana
BEGIN:VTIMEZONE
TZID:Europe/Ljubljana
BEGIN:DAYLIGHT
DTSTART:20260329T020000
RDATE:20260329T020000
RDATE:20270328T020000
TZNAME:CEST
TZOFFSETFROM:+0100
TZOFFSETTO:+0200
END:DAYLIGHT
BEGIN:STANDARD
DTSTART:20261025T030000
RDATE:20261025T030000
RDATE:20271031T030000
TZNAME:CET
TZOFFSETFROM:+0200
TZOFFSETTO:+0100
END:STANDARD
END:VTIMEZONE
BEGIN:VEVENT
SUMMARY:Turbomachinery (TRSM)\, Laboratory excercises (VL)\, [S5]
DTSTART;TZID=Europe/Ljubljana:20240226T080000
DTEND;TZID=Europe/Ljubljana:20240226T100000
DTSTAMP:20260420T002112Z
UID:fs-AFLABS-URNIK:srecanje:8893-2024-02-26 08:00:00+01:00
DESCRIPTION:Predmet: Turbomachinery (TRSM)\, Laboratory excercises (VL)\, 
 [S5]\nLetniki: Energy engineering (MAG-1)\nIzvajalci: Lovrenc Novak\, Jern
 ej Ortar\, Žak Sovec\nProstor: Laboratory LTE SI-67
END:VEVENT
BEGIN:VEVENT
SUMMARY:Turbomachinery (TRSM)\, Laboratory excercises (VL)\, [S5]
DTSTART;TZID=Europe/Ljubljana:20240304T080000
DTEND;TZID=Europe/Ljubljana:20240304T100000
DTSTAMP:20260420T002112Z
UID:fs-AFLABS-URNIK:srecanje:8893-2024-03-04 08:00:00+01:00
DESCRIPTION:Predmet: Turbomachinery (TRSM)\, Laboratory excercises (VL)\, 
 [S5]\nLetniki: Energy engineering (MAG-1)\nIzvajalci: Lovrenc Novak\, Jern
 ej Ortar\, Žak Sovec\nProstor: Laboratory LTE SI-67
END:VEVENT
BEGIN:VEVENT
SUMMARY:Turbomachinery (TRSM)\, Laboratory excercises (VL)\, [S6]
DTSTART;TZID=Europe/Ljubljana:20240226T120000
DTEND;TZID=Europe/Ljubljana:20240226T140000
DTSTAMP:20260420T002112Z
UID:fs-AFLABS-URNIK:srecanje:8894-2024-02-26 12:00:00+01:00
DESCRIPTION:Predmet: Turbomachinery (TRSM)\, Laboratory excercises (VL)\, 
 [S6]\nLetniki: Energy engineering (MAG-1)\nIzvajalci: Lovrenc Novak\, Jern
 ej Ortar\, Žak Sovec\nProstor: Laboratory LTE SI-67
END:VEVENT
BEGIN:VEVENT
SUMMARY:Turbomachinery (TRSM)\, Laboratory excercises (VL)\, [S6]
DTSTART;TZID=Europe/Ljubljana:20240304T120000
DTEND;TZID=Europe/Ljubljana:20240304T140000
DTSTAMP:20260420T002112Z
UID:fs-AFLABS-URNIK:srecanje:8894-2024-03-04 12:00:00+01:00
DESCRIPTION:Predmet: Turbomachinery (TRSM)\, Laboratory excercises (VL)\, 
 [S6]\nLetniki: Energy engineering (MAG-1)\nIzvajalci: Lovrenc Novak\, Jern
 ej Ortar\, Žak Sovec\nProstor: Laboratory LTE SI-67
END:VEVENT
BEGIN:VEVENT
SUMMARY:Turbomachinery (TRSM)\, Laboratory excercises (VL)\, [S4]
DTSTART;TZID=Europe/Ljubljana:20240227T080000
DTEND;TZID=Europe/Ljubljana:20240227T100000
DTSTAMP:20260420T002112Z
UID:fs-AFLABS-URNIK:srecanje:8895-2024-02-27 08:00:00+01:00
DESCRIPTION:Predmet: Turbomachinery (TRSM)\, Laboratory excercises (VL)\, 
 [S4]\nLetniki: Energy engineering (MAG-1)\nIzvajalci: Lovrenc Novak\, Jern
 ej Ortar\, Žak Sovec\nProstor: Laboratory LTE SI-67
END:VEVENT
BEGIN:VEVENT
SUMMARY:Turbomachinery (TRSM)\, Laboratory excercises (VL)\, [S1]
DTSTART;TZID=Europe/Ljubljana:20240301T080000
DTEND;TZID=Europe/Ljubljana:20240301T100000
DTSTAMP:20260420T002112Z
UID:fs-AFLABS-URNIK:srecanje:8896-2024-03-01 08:00:00+01:00
DESCRIPTION:Predmet: Turbomachinery (TRSM)\, Laboratory excercises (VL)\, 
 [S1]\nLetniki: Energy engineering (MAG-1)\nIzvajalci: Lovrenc Novak\, Jern
 ej Ortar\, Žak Sovec\nProstor: Laboratory LTE SI-67
END:VEVENT
BEGIN:VEVENT
SUMMARY:Turbomachinery (TRSM)\, Laboratory excercises (VL)\, [S2]
DTSTART;TZID=Europe/Ljubljana:20240301T100000
DTEND;TZID=Europe/Ljubljana:20240301T120000
DTSTAMP:20260420T002112Z
UID:fs-AFLABS-URNIK:srecanje:8897-2024-03-01 10:00:00+01:00
DESCRIPTION:Predmet: Turbomachinery (TRSM)\, Laboratory excercises (VL)\, 
 [S2]\nLetniki: Energy engineering (MAG-1)\nIzvajalci: Lovrenc Novak\, Jern
 ej Ortar\, Žak Sovec\nProstor: Laboratory LTE SI-67
END:VEVENT
BEGIN:VEVENT
SUMMARY:Turbomachinery (TRSM)\, Laboratory excercises (VL)\, [S3]
DTSTART;TZID=Europe/Ljubljana:20240301T120000
DTEND;TZID=Europe/Ljubljana:20240301T140000
DTSTAMP:20260420T002112Z
UID:fs-AFLABS-URNIK:srecanje:8898-2024-03-01 12:00:00+01:00
DESCRIPTION:Predmet: Turbomachinery (TRSM)\, Laboratory excercises (VL)\, 
 [S3]\nLetniki: Energy engineering (MAG-1)\nIzvajalci: Lovrenc Novak\, Jern
 ej Ortar\, Žak Sovec\nProstor: Laboratory LTE SI-67
END:VEVENT
END:VCALENDAR
