BEGIN:VCALENDAR
VERSION:2.0
PRODID:-//AFLabs urnik izvoz - fs//aflabs.si//SI
NAME:UL FS Urnik
X-WR-CALNAME:UL FS Urnik
DTSTAMP:20260420T195909Z
REFRESH-INTERVAL:PT1H
SOURCE:https://urnik.fs.uni-lj.si/en/teacher/983/?day=2025-01-06&export=1
URL:https://urnik.fs.uni-lj.si/en/teacher/983/?day=2025-01-06&export=1
X-PUBLISHED-TTL:PT1H
X-WR-TIMEZONE:Europe/Ljubljana
BEGIN:VTIMEZONE
TZID:Europe/Ljubljana
BEGIN:DAYLIGHT
DTSTART:20260329T020000
RDATE:20260329T020000
RDATE:20270328T020000
TZNAME:CEST
TZOFFSETFROM:+0100
TZOFFSETTO:+0200
END:DAYLIGHT
BEGIN:STANDARD
DTSTART:20261025T030000
RDATE:20261025T030000
RDATE:20271031T030000
TZNAME:CET
TZOFFSETFROM:+0200
TZOFFSETTO:+0100
END:STANDARD
END:VTIMEZONE
BEGIN:VEVENT
SUMMARY:Hydro and wind energy systems (HVEP)\, Lecture exercises (VP)
DTSTART;TZID=Europe/Ljubljana:20241004T073000
DTEND;TZID=Europe/Ljubljana:20241004T093000
DTSTAMP:20260420T195909Z
UID:fs-AFLABS-URNIK:srecanje:6654-2024-10-04 07:30:00+02:00
DESCRIPTION:Predmet: Hydro and wind energy systems (HVEP)\, Lecture exerci
 ses (VP)\nLetniki: Energy engineering (PAP-3)\nIzvajalci: Lovrenc Novak\, 
 Žak Sovec\nProstor: Lecture hall II/3B
END:VEVENT
BEGIN:VEVENT
SUMMARY:Hydro and wind energy systems (HVEP)\, Lecture exercises (VP)
DTSTART;TZID=Europe/Ljubljana:20241206T073000
DTEND;TZID=Europe/Ljubljana:20241206T093000
DTSTAMP:20260420T195909Z
UID:fs-AFLABS-URNIK:srecanje:6654-2024-12-06 07:30:00+01:00
DESCRIPTION:Predmet: Hydro and wind energy systems (HVEP)\, Lecture exerci
 ses (VP)\nLetniki: Energy engineering (PAP-3)\nIzvajalci: Lovrenc Novak\, 
 Žak Sovec\nProstor: Lecture hall II/3B
END:VEVENT
BEGIN:VEVENT
SUMMARY:Hydro and wind energy systems (HVEP)\, Laboratory excercises (VL)\
 , [S4]
DTSTART;TZID=Europe/Ljubljana:20241007T093000
DTEND;TZID=Europe/Ljubljana:20241007T113000
DTSTAMP:20260420T195909Z
UID:fs-AFLABS-URNIK:srecanje:11167-2024-10-07 09:30:00+02:00
DESCRIPTION:Predmet: Hydro and wind energy systems (HVEP)\, Laboratory exc
 ercises (VL)\, [S4]\nLetniki: Energy engineering (PAP-3)\nIzvajalci: Žak 
 Sovec\nProstor: Laboratory LVTS SI-67A
END:VEVENT
BEGIN:VEVENT
SUMMARY:Hydro and wind energy systems (HVEP)\, Laboratory excercises (VL)\
 , [S4]
DTSTART;TZID=Europe/Ljubljana:20241014T093000
DTEND;TZID=Europe/Ljubljana:20241014T113000
DTSTAMP:20260420T195909Z
UID:fs-AFLABS-URNIK:srecanje:11167-2024-10-14 09:30:00+02:00
DESCRIPTION:Predmet: Hydro and wind energy systems (HVEP)\, Laboratory exc
 ercises (VL)\, [S4]\nLetniki: Energy engineering (PAP-3)\nIzvajalci: Žak 
 Sovec\nProstor: Laboratory LVTS SI-67A
END:VEVENT
BEGIN:VEVENT
SUMMARY:Hydro and wind energy systems (HVEP)\, Laboratory excercises (VL)\
 , [S4]
DTSTART;TZID=Europe/Ljubljana:20241021T093000
DTEND;TZID=Europe/Ljubljana:20241021T113000
DTSTAMP:20260420T195909Z
UID:fs-AFLABS-URNIK:srecanje:11167-2024-10-21 09:30:00+02:00
DESCRIPTION:Predmet: Hydro and wind energy systems (HVEP)\, Laboratory exc
 ercises (VL)\, [S4]\nLetniki: Energy engineering (PAP-3)\nIzvajalci: Žak 
 Sovec\nProstor: Laboratory LVTS SI-67A
END:VEVENT
BEGIN:VEVENT
SUMMARY:Hydro and wind energy systems (HVEP)\, Laboratory excercises (VL)\
 , [S4]
DTSTART;TZID=Europe/Ljubljana:20241104T093000
DTEND;TZID=Europe/Ljubljana:20241104T113000
DTSTAMP:20260420T195909Z
UID:fs-AFLABS-URNIK:srecanje:11167-2024-11-04 09:30:00+01:00
DESCRIPTION:Predmet: Hydro and wind energy systems (HVEP)\, Laboratory exc
 ercises (VL)\, [S4]\nLetniki: Energy engineering (PAP-3)\nIzvajalci: Žak 
 Sovec\nProstor: Laboratory LVTS SI-67A
END:VEVENT
BEGIN:VEVENT
SUMMARY:Hydro and wind energy systems (HVEP)\, Laboratory excercises (VL)\
 , [S4]
DTSTART;TZID=Europe/Ljubljana:20241111T093000
DTEND;TZID=Europe/Ljubljana:20241111T113000
DTSTAMP:20260420T195909Z
UID:fs-AFLABS-URNIK:srecanje:11167-2024-11-11 09:30:00+01:00
DESCRIPTION:Predmet: Hydro and wind energy systems (HVEP)\, Laboratory exc
 ercises (VL)\, [S4]\nLetniki: Energy engineering (PAP-3)\nIzvajalci: Žak 
 Sovec\nProstor: Laboratory LVTS SI-67A
END:VEVENT
BEGIN:VEVENT
SUMMARY:Hydro and wind energy systems (HVEP)\, Laboratory excercises (VL)\
 , [S4]
DTSTART;TZID=Europe/Ljubljana:20241118T093000
DTEND;TZID=Europe/Ljubljana:20241118T113000
DTSTAMP:20260420T195909Z
UID:fs-AFLABS-URNIK:srecanje:11167-2024-11-18 09:30:00+01:00
DESCRIPTION:Predmet: Hydro and wind energy systems (HVEP)\, Laboratory exc
 ercises (VL)\, [S4]\nLetniki: Energy engineering (PAP-3)\nIzvajalci: Žak 
 Sovec\nProstor: Laboratory LVTS SI-67A
END:VEVENT
BEGIN:VEVENT
SUMMARY:Hydro and wind energy systems (HVEP)\, Laboratory excercises (VL)\
 , [S4]
DTSTART;TZID=Europe/Ljubljana:20241125T093000
DTEND;TZID=Europe/Ljubljana:20241125T113000
DTSTAMP:20260420T195909Z
UID:fs-AFLABS-URNIK:srecanje:11167-2024-11-25 09:30:00+01:00
DESCRIPTION:Predmet: Hydro and wind energy systems (HVEP)\, Laboratory exc
 ercises (VL)\, [S4]\nLetniki: Energy engineering (PAP-3)\nIzvajalci: Žak 
 Sovec\nProstor: Laboratory LVTS SI-67A
END:VEVENT
BEGIN:VEVENT
SUMMARY:Hydro and wind energy systems (HVEP)\, Laboratory excercises (VL)\
 , [S4]
DTSTART;TZID=Europe/Ljubljana:20241209T093000
DTEND;TZID=Europe/Ljubljana:20241209T113000
DTSTAMP:20260420T195909Z
UID:fs-AFLABS-URNIK:srecanje:11167-2024-12-09 09:30:00+01:00
DESCRIPTION:Predmet: Hydro and wind energy systems (HVEP)\, Laboratory exc
 ercises (VL)\, [S4]\nLetniki: Energy engineering (PAP-3)\nIzvajalci: Žak 
 Sovec\nProstor: Laboratory LVTS SI-67A
END:VEVENT
BEGIN:VEVENT
SUMMARY:Hydro and wind energy systems (HVEP)\, Laboratory excercises (VL)\
 , [S4]
DTSTART;TZID=Europe/Ljubljana:20241223T093000
DTEND;TZID=Europe/Ljubljana:20241223T113000
DTSTAMP:20260420T195909Z
UID:fs-AFLABS-URNIK:srecanje:11167-2024-12-23 09:30:00+01:00
DESCRIPTION:Predmet: Hydro and wind energy systems (HVEP)\, Laboratory exc
 ercises (VL)\, [S4]\nLetniki: Energy engineering (PAP-3)\nIzvajalci: Žak 
 Sovec\nProstor: Laboratory LVTS SI-67A
END:VEVENT
BEGIN:VEVENT
SUMMARY:Hydro and wind energy systems (HVEP)\, Laboratory excercises (VL)\
 , [S4]
DTSTART;TZID=Europe/Ljubljana:20250106T093000
DTEND;TZID=Europe/Ljubljana:20250106T113000
DTSTAMP:20260420T195909Z
UID:fs-AFLABS-URNIK:srecanje:11167-2025-01-06 09:30:00+01:00
DESCRIPTION:Predmet: Hydro and wind energy systems (HVEP)\, Laboratory exc
 ercises (VL)\, [S4]\nLetniki: Energy engineering (PAP-3)\nIzvajalci: Žak 
 Sovec\nProstor: Laboratory LVTS SI-67A
END:VEVENT
BEGIN:VEVENT
SUMMARY:Hydro and wind energy systems (HVEP)\, Laboratory excercises (VL)\
 , [S4]
DTSTART;TZID=Europe/Ljubljana:20250113T093000
DTEND;TZID=Europe/Ljubljana:20250113T113000
DTSTAMP:20260420T195909Z
UID:fs-AFLABS-URNIK:srecanje:11167-2025-01-13 09:30:00+01:00
DESCRIPTION:Predmet: Hydro and wind energy systems (HVEP)\, Laboratory exc
 ercises (VL)\, [S4]\nLetniki: Energy engineering (PAP-3)\nIzvajalci: Žak 
 Sovec\nProstor: Laboratory LVTS SI-67A
END:VEVENT
BEGIN:VEVENT
SUMMARY:Hydro and wind energy systems (HVEP)\, Laboratory excercises (VL)\
 , [S3]
DTSTART;TZID=Europe/Ljubljana:20241009T073000
DTEND;TZID=Europe/Ljubljana:20241009T093000
DTSTAMP:20260420T195909Z
UID:fs-AFLABS-URNIK:srecanje:6652-2024-10-09 07:30:00+02:00
DESCRIPTION:Predmet: Hydro and wind energy systems (HVEP)\, Laboratory exc
 ercises (VL)\, [S3]\nLetniki: Energy engineering (PAP-3)\nIzvajalci: Lovre
 nc Novak\, Žak Sovec\nProstor: Laboratory LVTS SI-67A
END:VEVENT
BEGIN:VEVENT
SUMMARY:Hydro and wind energy systems (HVEP)\, Laboratory excercises (VL)\
 , [S3]
DTSTART;TZID=Europe/Ljubljana:20241016T073000
DTEND;TZID=Europe/Ljubljana:20241016T093000
DTSTAMP:20260420T195909Z
UID:fs-AFLABS-URNIK:srecanje:6652-2024-10-16 07:30:00+02:00
DESCRIPTION:Predmet: Hydro and wind energy systems (HVEP)\, Laboratory exc
 ercises (VL)\, [S3]\nLetniki: Energy engineering (PAP-3)\nIzvajalci: Lovre
 nc Novak\, Žak Sovec\nProstor: Laboratory LVTS SI-67A
END:VEVENT
BEGIN:VEVENT
SUMMARY:Hydro and wind energy systems (HVEP)\, Laboratory excercises (VL)\
 , [S3]
DTSTART;TZID=Europe/Ljubljana:20241023T073000
DTEND;TZID=Europe/Ljubljana:20241023T093000
DTSTAMP:20260420T195909Z
UID:fs-AFLABS-URNIK:srecanje:6652-2024-10-23 07:30:00+02:00
DESCRIPTION:Predmet: Hydro and wind energy systems (HVEP)\, Laboratory exc
 ercises (VL)\, [S3]\nLetniki: Energy engineering (PAP-3)\nIzvajalci: Lovre
 nc Novak\, Žak Sovec\nProstor: Laboratory LVTS SI-67A
END:VEVENT
BEGIN:VEVENT
SUMMARY:Hydro and wind energy systems (HVEP)\, Laboratory excercises (VL)\
 , [S3]
DTSTART;TZID=Europe/Ljubljana:20241106T073000
DTEND;TZID=Europe/Ljubljana:20241106T093000
DTSTAMP:20260420T195909Z
UID:fs-AFLABS-URNIK:srecanje:6652-2024-11-06 07:30:00+01:00
DESCRIPTION:Predmet: Hydro and wind energy systems (HVEP)\, Laboratory exc
 ercises (VL)\, [S3]\nLetniki: Energy engineering (PAP-3)\nIzvajalci: Lovre
 nc Novak\, Žak Sovec\nProstor: Laboratory LVTS SI-67A
END:VEVENT
BEGIN:VEVENT
SUMMARY:Hydro and wind energy systems (HVEP)\, Laboratory excercises (VL)\
 , [S3]
DTSTART;TZID=Europe/Ljubljana:20241113T073000
DTEND;TZID=Europe/Ljubljana:20241113T093000
DTSTAMP:20260420T195909Z
UID:fs-AFLABS-URNIK:srecanje:6652-2024-11-13 07:30:00+01:00
DESCRIPTION:Predmet: Hydro and wind energy systems (HVEP)\, Laboratory exc
 ercises (VL)\, [S3]\nLetniki: Energy engineering (PAP-3)\nIzvajalci: Lovre
 nc Novak\, Žak Sovec\nProstor: Laboratory LVTS SI-67A
END:VEVENT
BEGIN:VEVENT
SUMMARY:Hydro and wind energy systems (HVEP)\, Laboratory excercises (VL)\
 , [S3]
DTSTART;TZID=Europe/Ljubljana:20241120T073000
DTEND;TZID=Europe/Ljubljana:20241120T093000
DTSTAMP:20260420T195909Z
UID:fs-AFLABS-URNIK:srecanje:6652-2024-11-20 07:30:00+01:00
DESCRIPTION:Predmet: Hydro and wind energy systems (HVEP)\, Laboratory exc
 ercises (VL)\, [S3]\nLetniki: Energy engineering (PAP-3)\nIzvajalci: Lovre
 nc Novak\, Žak Sovec\nProstor: Laboratory LVTS SI-67A
END:VEVENT
BEGIN:VEVENT
SUMMARY:Hydro and wind energy systems (HVEP)\, Laboratory excercises (VL)\
 , [S3]
DTSTART;TZID=Europe/Ljubljana:20241127T073000
DTEND;TZID=Europe/Ljubljana:20241127T093000
DTSTAMP:20260420T195909Z
UID:fs-AFLABS-URNIK:srecanje:6652-2024-11-27 07:30:00+01:00
DESCRIPTION:Predmet: Hydro and wind energy systems (HVEP)\, Laboratory exc
 ercises (VL)\, [S3]\nLetniki: Energy engineering (PAP-3)\nIzvajalci: Lovre
 nc Novak\, Žak Sovec\nProstor: Laboratory LVTS SI-67A
END:VEVENT
BEGIN:VEVENT
SUMMARY:Hydro and wind energy systems (HVEP)\, Laboratory excercises (VL)\
 , [S3]
DTSTART;TZID=Europe/Ljubljana:20241211T073000
DTEND;TZID=Europe/Ljubljana:20241211T093000
DTSTAMP:20260420T195909Z
UID:fs-AFLABS-URNIK:srecanje:6652-2024-12-11 07:30:00+01:00
DESCRIPTION:Predmet: Hydro and wind energy systems (HVEP)\, Laboratory exc
 ercises (VL)\, [S3]\nLetniki: Energy engineering (PAP-3)\nIzvajalci: Lovre
 nc Novak\, Žak Sovec\nProstor: Laboratory LVTS SI-67A
END:VEVENT
BEGIN:VEVENT
SUMMARY:Hydro and wind energy systems (HVEP)\, Laboratory excercises (VL)\
 , [S3]
DTSTART;TZID=Europe/Ljubljana:20241225T073000
DTEND;TZID=Europe/Ljubljana:20241225T093000
DTSTAMP:20260420T195909Z
UID:fs-AFLABS-URNIK:srecanje:6652-2024-12-25 07:30:00+01:00
DESCRIPTION:Predmet: Hydro and wind energy systems (HVEP)\, Laboratory exc
 ercises (VL)\, [S3]\nLetniki: Energy engineering (PAP-3)\nIzvajalci: Lovre
 nc Novak\, Žak Sovec\nProstor: Laboratory LVTS SI-67A
END:VEVENT
BEGIN:VEVENT
SUMMARY:Hydro and wind energy systems (HVEP)\, Laboratory excercises (VL)\
 , [S3]
DTSTART;TZID=Europe/Ljubljana:20250108T073000
DTEND;TZID=Europe/Ljubljana:20250108T093000
DTSTAMP:20260420T195909Z
UID:fs-AFLABS-URNIK:srecanje:6652-2025-01-08 07:30:00+01:00
DESCRIPTION:Predmet: Hydro and wind energy systems (HVEP)\, Laboratory exc
 ercises (VL)\, [S3]\nLetniki: Energy engineering (PAP-3)\nIzvajalci: Lovre
 nc Novak\, Žak Sovec\nProstor: Laboratory LVTS SI-67A
END:VEVENT
BEGIN:VEVENT
SUMMARY:Hydro and wind energy systems (HVEP)\, Laboratory excercises (VL)\
 , [S3]
DTSTART;TZID=Europe/Ljubljana:20250115T073000
DTEND;TZID=Europe/Ljubljana:20250115T093000
DTSTAMP:20260420T195909Z
UID:fs-AFLABS-URNIK:srecanje:6652-2025-01-15 07:30:00+01:00
DESCRIPTION:Predmet: Hydro and wind energy systems (HVEP)\, Laboratory exc
 ercises (VL)\, [S3]\nLetniki: Energy engineering (PAP-3)\nIzvajalci: Lovre
 nc Novak\, Žak Sovec\nProstor: Laboratory LVTS SI-67A
END:VEVENT
BEGIN:VEVENT
SUMMARY:Hydro and wind energy systems (HVEP)\, Laboratory excercises (VL)\
 , [S2]
DTSTART;TZID=Europe/Ljubljana:20241010T153000
DTEND;TZID=Europe/Ljubljana:20241010T173000
DTSTAMP:20260420T195909Z
UID:fs-AFLABS-URNIK:srecanje:6651-2024-10-10 15:30:00+02:00
DESCRIPTION:Predmet: Hydro and wind energy systems (HVEP)\, Laboratory exc
 ercises (VL)\, [S2]\nLetniki: Energy engineering (PAP-3)\nIzvajalci: Lovre
 nc Novak\, Žak Sovec\nProstor: Laboratory LVTS SI-67A
END:VEVENT
BEGIN:VEVENT
SUMMARY:Hydro and wind energy systems (HVEP)\, Laboratory excercises (VL)\
 , [S2]
DTSTART;TZID=Europe/Ljubljana:20241017T153000
DTEND;TZID=Europe/Ljubljana:20241017T173000
DTSTAMP:20260420T195909Z
UID:fs-AFLABS-URNIK:srecanje:6651-2024-10-17 15:30:00+02:00
DESCRIPTION:Predmet: Hydro and wind energy systems (HVEP)\, Laboratory exc
 ercises (VL)\, [S2]\nLetniki: Energy engineering (PAP-3)\nIzvajalci: Lovre
 nc Novak\, Žak Sovec\nProstor: Laboratory LVTS SI-67A
END:VEVENT
BEGIN:VEVENT
SUMMARY:Hydro and wind energy systems (HVEP)\, Laboratory excercises (VL)\
 , [S2]
DTSTART;TZID=Europe/Ljubljana:20241024T153000
DTEND;TZID=Europe/Ljubljana:20241024T173000
DTSTAMP:20260420T195909Z
UID:fs-AFLABS-URNIK:srecanje:6651-2024-10-24 15:30:00+02:00
DESCRIPTION:Predmet: Hydro and wind energy systems (HVEP)\, Laboratory exc
 ercises (VL)\, [S2]\nLetniki: Energy engineering (PAP-3)\nIzvajalci: Lovre
 nc Novak\, Žak Sovec\nProstor: Laboratory LVTS SI-67A
END:VEVENT
BEGIN:VEVENT
SUMMARY:Hydro and wind energy systems (HVEP)\, Laboratory excercises (VL)\
 , [S2]
DTSTART;TZID=Europe/Ljubljana:20241107T153000
DTEND;TZID=Europe/Ljubljana:20241107T173000
DTSTAMP:20260420T195909Z
UID:fs-AFLABS-URNIK:srecanje:6651-2024-11-07 15:30:00+01:00
DESCRIPTION:Predmet: Hydro and wind energy systems (HVEP)\, Laboratory exc
 ercises (VL)\, [S2]\nLetniki: Energy engineering (PAP-3)\nIzvajalci: Lovre
 nc Novak\, Žak Sovec\nProstor: Laboratory LVTS SI-67A
END:VEVENT
BEGIN:VEVENT
SUMMARY:Hydro and wind energy systems (HVEP)\, Laboratory excercises (VL)\
 , [S2]
DTSTART;TZID=Europe/Ljubljana:20241114T153000
DTEND;TZID=Europe/Ljubljana:20241114T173000
DTSTAMP:20260420T195909Z
UID:fs-AFLABS-URNIK:srecanje:6651-2024-11-14 15:30:00+01:00
DESCRIPTION:Predmet: Hydro and wind energy systems (HVEP)\, Laboratory exc
 ercises (VL)\, [S2]\nLetniki: Energy engineering (PAP-3)\nIzvajalci: Lovre
 nc Novak\, Žak Sovec\nProstor: Laboratory LVTS SI-67A
END:VEVENT
BEGIN:VEVENT
SUMMARY:Hydro and wind energy systems (HVEP)\, Laboratory excercises (VL)\
 , [S2]
DTSTART;TZID=Europe/Ljubljana:20241121T153000
DTEND;TZID=Europe/Ljubljana:20241121T173000
DTSTAMP:20260420T195909Z
UID:fs-AFLABS-URNIK:srecanje:6651-2024-11-21 15:30:00+01:00
DESCRIPTION:Predmet: Hydro and wind energy systems (HVEP)\, Laboratory exc
 ercises (VL)\, [S2]\nLetniki: Energy engineering (PAP-3)\nIzvajalci: Lovre
 nc Novak\, Žak Sovec\nProstor: Laboratory LVTS SI-67A
END:VEVENT
BEGIN:VEVENT
SUMMARY:Hydro and wind energy systems (HVEP)\, Laboratory excercises (VL)\
 , [S2]
DTSTART;TZID=Europe/Ljubljana:20241128T153000
DTEND;TZID=Europe/Ljubljana:20241128T173000
DTSTAMP:20260420T195909Z
UID:fs-AFLABS-URNIK:srecanje:6651-2024-11-28 15:30:00+01:00
DESCRIPTION:Predmet: Hydro and wind energy systems (HVEP)\, Laboratory exc
 ercises (VL)\, [S2]\nLetniki: Energy engineering (PAP-3)\nIzvajalci: Lovre
 nc Novak\, Žak Sovec\nProstor: Laboratory LVTS SI-67A
END:VEVENT
BEGIN:VEVENT
SUMMARY:Hydro and wind energy systems (HVEP)\, Laboratory excercises (VL)\
 , [S2]
DTSTART;TZID=Europe/Ljubljana:20241212T153000
DTEND;TZID=Europe/Ljubljana:20241212T173000
DTSTAMP:20260420T195909Z
UID:fs-AFLABS-URNIK:srecanje:6651-2024-12-12 15:30:00+01:00
DESCRIPTION:Predmet: Hydro and wind energy systems (HVEP)\, Laboratory exc
 ercises (VL)\, [S2]\nLetniki: Energy engineering (PAP-3)\nIzvajalci: Lovre
 nc Novak\, Žak Sovec\nProstor: Laboratory LVTS SI-67A
END:VEVENT
BEGIN:VEVENT
SUMMARY:Hydro and wind energy systems (HVEP)\, Laboratory excercises (VL)\
 , [S2]
DTSTART;TZID=Europe/Ljubljana:20241226T153000
DTEND;TZID=Europe/Ljubljana:20241226T173000
DTSTAMP:20260420T195909Z
UID:fs-AFLABS-URNIK:srecanje:6651-2024-12-26 15:30:00+01:00
DESCRIPTION:Predmet: Hydro and wind energy systems (HVEP)\, Laboratory exc
 ercises (VL)\, [S2]\nLetniki: Energy engineering (PAP-3)\nIzvajalci: Lovre
 nc Novak\, Žak Sovec\nProstor: Laboratory LVTS SI-67A
END:VEVENT
BEGIN:VEVENT
SUMMARY:Hydro and wind energy systems (HVEP)\, Laboratory excercises (VL)\
 , [S2]
DTSTART;TZID=Europe/Ljubljana:20250109T153000
DTEND;TZID=Europe/Ljubljana:20250109T173000
DTSTAMP:20260420T195909Z
UID:fs-AFLABS-URNIK:srecanje:6651-2025-01-09 15:30:00+01:00
DESCRIPTION:Predmet: Hydro and wind energy systems (HVEP)\, Laboratory exc
 ercises (VL)\, [S2]\nLetniki: Energy engineering (PAP-3)\nIzvajalci: Lovre
 nc Novak\, Žak Sovec\nProstor: Laboratory LVTS SI-67A
END:VEVENT
BEGIN:VEVENT
SUMMARY:Hydro and wind energy systems (HVEP)\, Laboratory excercises (VL)\
 , [S2]
DTSTART;TZID=Europe/Ljubljana:20250116T153000
DTEND;TZID=Europe/Ljubljana:20250116T173000
DTSTAMP:20260420T195909Z
UID:fs-AFLABS-URNIK:srecanje:6651-2025-01-16 15:30:00+01:00
DESCRIPTION:Predmet: Hydro and wind energy systems (HVEP)\, Laboratory exc
 ercises (VL)\, [S2]\nLetniki: Energy engineering (PAP-3)\nIzvajalci: Lovre
 nc Novak\, Žak Sovec\nProstor: Laboratory LVTS SI-67A
END:VEVENT
BEGIN:VEVENT
SUMMARY:Hydro and wind energy systems (HVEP)\, Laboratory excercises (VL)\
 , [S1]
DTSTART;TZID=Europe/Ljubljana:20241011T073000
DTEND;TZID=Europe/Ljubljana:20241011T093000
DTSTAMP:20260420T195909Z
UID:fs-AFLABS-URNIK:srecanje:6650-2024-10-11 07:30:00+02:00
DESCRIPTION:Predmet: Hydro and wind energy systems (HVEP)\, Laboratory exc
 ercises (VL)\, [S1]\nLetniki: Energy engineering (PAP-3)\nIzvajalci: Lovre
 nc Novak\, Žak Sovec\nProstor: Laboratory LVTS SI-67A
END:VEVENT
BEGIN:VEVENT
SUMMARY:Hydro and wind energy systems (HVEP)\, Laboratory excercises (VL)\
 , [S1]
DTSTART;TZID=Europe/Ljubljana:20241018T073000
DTEND;TZID=Europe/Ljubljana:20241018T093000
DTSTAMP:20260420T195909Z
UID:fs-AFLABS-URNIK:srecanje:6650-2024-10-18 07:30:00+02:00
DESCRIPTION:Predmet: Hydro and wind energy systems (HVEP)\, Laboratory exc
 ercises (VL)\, [S1]\nLetniki: Energy engineering (PAP-3)\nIzvajalci: Lovre
 nc Novak\, Žak Sovec\nProstor: Laboratory LVTS SI-67A
END:VEVENT
BEGIN:VEVENT
SUMMARY:Hydro and wind energy systems (HVEP)\, Laboratory excercises (VL)\
 , [S1]
DTSTART;TZID=Europe/Ljubljana:20241025T073000
DTEND;TZID=Europe/Ljubljana:20241025T093000
DTSTAMP:20260420T195909Z
UID:fs-AFLABS-URNIK:srecanje:6650-2024-10-25 07:30:00+02:00
DESCRIPTION:Predmet: Hydro and wind energy systems (HVEP)\, Laboratory exc
 ercises (VL)\, [S1]\nLetniki: Energy engineering (PAP-3)\nIzvajalci: Lovre
 nc Novak\, Žak Sovec\nProstor: Laboratory LVTS SI-67A
END:VEVENT
BEGIN:VEVENT
SUMMARY:Hydro and wind energy systems (HVEP)\, Laboratory excercises (VL)\
 , [S1]
DTSTART;TZID=Europe/Ljubljana:20241108T073000
DTEND;TZID=Europe/Ljubljana:20241108T093000
DTSTAMP:20260420T195909Z
UID:fs-AFLABS-URNIK:srecanje:6650-2024-11-08 07:30:00+01:00
DESCRIPTION:Predmet: Hydro and wind energy systems (HVEP)\, Laboratory exc
 ercises (VL)\, [S1]\nLetniki: Energy engineering (PAP-3)\nIzvajalci: Lovre
 nc Novak\, Žak Sovec\nProstor: Laboratory LVTS SI-67A
END:VEVENT
BEGIN:VEVENT
SUMMARY:Hydro and wind energy systems (HVEP)\, Laboratory excercises (VL)\
 , [S1]
DTSTART;TZID=Europe/Ljubljana:20241115T073000
DTEND;TZID=Europe/Ljubljana:20241115T093000
DTSTAMP:20260420T195909Z
UID:fs-AFLABS-URNIK:srecanje:6650-2024-11-15 07:30:00+01:00
DESCRIPTION:Predmet: Hydro and wind energy systems (HVEP)\, Laboratory exc
 ercises (VL)\, [S1]\nLetniki: Energy engineering (PAP-3)\nIzvajalci: Lovre
 nc Novak\, Žak Sovec\nProstor: Laboratory LVTS SI-67A
END:VEVENT
BEGIN:VEVENT
SUMMARY:Hydro and wind energy systems (HVEP)\, Laboratory excercises (VL)\
 , [S1]
DTSTART;TZID=Europe/Ljubljana:20241122T073000
DTEND;TZID=Europe/Ljubljana:20241122T093000
DTSTAMP:20260420T195909Z
UID:fs-AFLABS-URNIK:srecanje:6650-2024-11-22 07:30:00+01:00
DESCRIPTION:Predmet: Hydro and wind energy systems (HVEP)\, Laboratory exc
 ercises (VL)\, [S1]\nLetniki: Energy engineering (PAP-3)\nIzvajalci: Lovre
 nc Novak\, Žak Sovec\nProstor: Laboratory LVTS SI-67A
END:VEVENT
BEGIN:VEVENT
SUMMARY:Hydro and wind energy systems (HVEP)\, Laboratory excercises (VL)\
 , [S1]
DTSTART;TZID=Europe/Ljubljana:20241129T073000
DTEND;TZID=Europe/Ljubljana:20241129T093000
DTSTAMP:20260420T195909Z
UID:fs-AFLABS-URNIK:srecanje:6650-2024-11-29 07:30:00+01:00
DESCRIPTION:Predmet: Hydro and wind energy systems (HVEP)\, Laboratory exc
 ercises (VL)\, [S1]\nLetniki: Energy engineering (PAP-3)\nIzvajalci: Lovre
 nc Novak\, Žak Sovec\nProstor: Laboratory LVTS SI-67A
END:VEVENT
BEGIN:VEVENT
SUMMARY:Hydro and wind energy systems (HVEP)\, Laboratory excercises (VL)\
 , [S1]
DTSTART;TZID=Europe/Ljubljana:20241213T073000
DTEND;TZID=Europe/Ljubljana:20241213T093000
DTSTAMP:20260420T195909Z
UID:fs-AFLABS-URNIK:srecanje:6650-2024-12-13 07:30:00+01:00
DESCRIPTION:Predmet: Hydro and wind energy systems (HVEP)\, Laboratory exc
 ercises (VL)\, [S1]\nLetniki: Energy engineering (PAP-3)\nIzvajalci: Lovre
 nc Novak\, Žak Sovec\nProstor: Laboratory LVTS SI-67A
END:VEVENT
BEGIN:VEVENT
SUMMARY:Hydro and wind energy systems (HVEP)\, Laboratory excercises (VL)\
 , [S1]
DTSTART;TZID=Europe/Ljubljana:20241227T073000
DTEND;TZID=Europe/Ljubljana:20241227T093000
DTSTAMP:20260420T195909Z
UID:fs-AFLABS-URNIK:srecanje:6650-2024-12-27 07:30:00+01:00
DESCRIPTION:Predmet: Hydro and wind energy systems (HVEP)\, Laboratory exc
 ercises (VL)\, [S1]\nLetniki: Energy engineering (PAP-3)\nIzvajalci: Lovre
 nc Novak\, Žak Sovec\nProstor: Laboratory LVTS SI-67A
END:VEVENT
BEGIN:VEVENT
SUMMARY:Hydro and wind energy systems (HVEP)\, Laboratory excercises (VL)\
 , [S1]
DTSTART;TZID=Europe/Ljubljana:20250110T073000
DTEND;TZID=Europe/Ljubljana:20250110T093000
DTSTAMP:20260420T195909Z
UID:fs-AFLABS-URNIK:srecanje:6650-2025-01-10 07:30:00+01:00
DESCRIPTION:Predmet: Hydro and wind energy systems (HVEP)\, Laboratory exc
 ercises (VL)\, [S1]\nLetniki: Energy engineering (PAP-3)\nIzvajalci: Lovre
 nc Novak\, Žak Sovec\nProstor: Laboratory LVTS SI-67A
END:VEVENT
BEGIN:VEVENT
SUMMARY:Hydro and wind energy systems (HVEP)\, Laboratory excercises (VL)\
 , [S1]
DTSTART;TZID=Europe/Ljubljana:20250117T073000
DTEND;TZID=Europe/Ljubljana:20250117T093000
DTSTAMP:20260420T195909Z
UID:fs-AFLABS-URNIK:srecanje:6650-2025-01-17 07:30:00+01:00
DESCRIPTION:Predmet: Hydro and wind energy systems (HVEP)\, Laboratory exc
 ercises (VL)\, [S1]\nLetniki: Energy engineering (PAP-3)\nIzvajalci: Lovre
 nc Novak\, Žak Sovec\nProstor: Laboratory LVTS SI-67A
END:VEVENT
BEGIN:VEVENT
SUMMARY:Hydro and wind energy systems (HVEP)\, Lecture exercises (VP)
DTSTART;TZID=Europe/Ljubljana:20241029T073000
DTEND;TZID=Europe/Ljubljana:20241029T093000
DTSTAMP:20260420T195909Z
UID:fs-AFLABS-URNIK:premaknjeno-srecanje:101923
ATTENDEE:Energy engineering (PAP-3)
CATEGORIES:Entry,Special
COLOR:forestgreen
DESCRIPTION:Predmet: Hydro and wind energy systems (HVEP)\, Lecture exerci
 ses (VP)\nLetniki: Energy engineering (PAP-3)\nIzvajalci: Lovrenc Novak\, 
 Žak Sovec\nProstor: Lecture hall II/3B
LOCATION:Lecture hall II/3B
ORGANIZER:Lovrenc Novak, Žak Sovec
RELATED-TO:fs-AFLABS-URNIK:srecanje:14136
X-WR-TIMEZONE:Europe/Ljubljana
END:VEVENT
BEGIN:VEVENT
SUMMARY:Hydro and wind energy systems (HVEP)\, Laboratory excercises (VL)\
 , [S4]
DTSTART;TZID=Europe/Ljubljana:20241216T093000
DTEND;TZID=Europe/Ljubljana:20241216T113000
DTSTAMP:20260420T195909Z
UID:fs-AFLABS-URNIK:srecanje:11086-2024-12-16 09:30:00+01:00
DESCRIPTION:Predmet: Hydro and wind energy systems (HVEP)\, Laboratory exc
 ercises (VL)\, [S4]\nLetniki: Energy engineering (PAP-3)\nIzvajalci: Žak 
 Sovec\nProstor: Lecture hall II/4
END:VEVENT
BEGIN:VEVENT
SUMMARY:Hydro and wind energy systems (HVEP)\, Laboratory excercises (VL)\
 , [S3]
DTSTART;TZID=Europe/Ljubljana:20241218T073000
DTEND;TZID=Europe/Ljubljana:20241218T093000
DTSTAMP:20260420T195909Z
UID:fs-AFLABS-URNIK:srecanje:11087-2024-12-18 07:30:00+01:00
DESCRIPTION:Predmet: Hydro and wind energy systems (HVEP)\, Laboratory exc
 ercises (VL)\, [S3]\nLetniki: Energy engineering (PAP-3)\nIzvajalci: Lovre
 nc Novak\, Žak Sovec\nProstor: Lecture hall II/4
END:VEVENT
BEGIN:VEVENT
SUMMARY:Hydro and wind energy systems (HVEP)\, Laboratory excercises (VL)\
 , [S2]
DTSTART;TZID=Europe/Ljubljana:20241219T153000
DTEND;TZID=Europe/Ljubljana:20241219T173000
DTSTAMP:20260420T195909Z
UID:fs-AFLABS-URNIK:srecanje:11089-2024-12-19 15:30:00+01:00
DESCRIPTION:Predmet: Hydro and wind energy systems (HVEP)\, Laboratory exc
 ercises (VL)\, [S2]\nLetniki: Energy engineering (PAP-3)\nIzvajalci: Lovre
 nc Novak\, Žak Sovec\nProstor: Lecture hall II/4
END:VEVENT
BEGIN:VEVENT
SUMMARY:Hydro and wind energy systems (HVEP)\, Laboratory excercises (VL)\
 , [S1]
DTSTART;TZID=Europe/Ljubljana:20241220T073000
DTEND;TZID=Europe/Ljubljana:20241220T093000
DTSTAMP:20260420T195909Z
UID:fs-AFLABS-URNIK:srecanje:11090-2024-12-20 07:30:00+01:00
DESCRIPTION:Predmet: Hydro and wind energy systems (HVEP)\, Laboratory exc
 ercises (VL)\, [S1]\nLetniki: Energy engineering (PAP-3)\nIzvajalci: Lovre
 nc Novak\, Žak Sovec\nProstor: Lecture hall II/4
END:VEVENT
BEGIN:VEVENT
SUMMARY:Kolokvij TVEM vaje 2. termin
DTSTART;TZID=Europe/Ljubljana:20250130T170000
DTEND;TZID=Europe/Ljubljana:20250130T200000
DTSTAMP:20260420T195909Z
UID:fs-AFLABS-URNIK:rezervacija:8809
CATEGORIES:Reservation
COLOR:royalblue
DESCRIPTION:Predmeti: \nLetniki: \nIzvajalci: Žak Sovec\nProstori: Lectur
 e hall III/4
LOCATION:Lecture hall III/4
ORGANIZER:Žak Sovec
X-WR-TIMEZONE:Europe/Ljubljana
END:VEVENT
BEGIN:VEVENT
SUMMARY:HVEP kolokvij iz vaj 2.termin
DTSTART;TZID=Europe/Ljubljana:20250120T150000
DTEND;TZID=Europe/Ljubljana:20250120T170000
DTSTAMP:20260420T195909Z
UID:fs-AFLABS-URNIK:rezervacija:9044
CATEGORIES:Reservation
COLOR:royalblue
DESCRIPTION:Predmeti: \nLetniki: \nIzvajalci: Žak Sovec\nProstori: Lectur
 e hall III/3A
LOCATION:Lecture hall III/3A
ORGANIZER:Žak Sovec
X-WR-TIMEZONE:Europe/Ljubljana
END:VEVENT
BEGIN:VEVENT
SUMMARY:HVES kolokvij vaje
DTSTART;TZID=Europe/Ljubljana:20250113T183000
DTEND;TZID=Europe/Ljubljana:20250113T200000
DTSTAMP:20260420T195909Z
UID:fs-AFLABS-URNIK:rezervacija:8739
CATEGORIES:Reservation
COLOR:royalblue
DESCRIPTION:Predmeti: \nLetniki: \nIzvajalci: Žak Sovec\nProstori: Lectur
 e hall IV/3B
LOCATION:Lecture hall IV/3B
ORGANIZER:Žak Sovec
X-WR-TIMEZONE:Europe/Ljubljana
END:VEVENT
BEGIN:VEVENT
SUMMARY:Trajnostni viri električne energije (6010-M) [dve oceni]
DTSTART;TZID=Europe/Ljubljana:20250123T170000
DTEND;TZID=Europe/Ljubljana:20250123T200000
DTSTAMP:20260420T195909Z
UID:fs-AFLABS-URNIK:rezervacija:8728
CATEGORIES:Reservation
COLOR:royalblue
DESCRIPTION:Predmeti: \nLetniki: \nIzvajalci: Žak Sovec\nProstori: Lectur
 e hall III/4
LOCATION:Lecture hall III/4
ORGANIZER:Žak Sovec
X-WR-TIMEZONE:Europe/Ljubljana
END:VEVENT
END:VCALENDAR
