BEGIN:VCALENDAR
VERSION:2.0
PRODID:-//AFLabs urnik izvoz - fs//aflabs.si//SI
NAME:UL FS Urnik
X-WR-CALNAME:UL FS Urnik
DTSTAMP:20260423T001856Z
REFRESH-INTERVAL:PT1H
SOURCE:https://urnik.fs.uni-lj.si/en/teacher/986/?day=2025-01-13&export=1
URL:https://urnik.fs.uni-lj.si/en/teacher/986/?day=2025-01-13&export=1
X-PUBLISHED-TTL:PT1H
X-WR-TIMEZONE:Europe/Ljubljana
BEGIN:VTIMEZONE
TZID:Europe/Ljubljana
BEGIN:DAYLIGHT
DTSTART:20260329T020000
RDATE:20260329T020000
RDATE:20270328T020000
TZNAME:CEST
TZOFFSETFROM:+0100
TZOFFSETTO:+0200
END:DAYLIGHT
BEGIN:STANDARD
DTSTART:20261025T030000
RDATE:20261025T030000
RDATE:20271031T030000
TZNAME:CET
TZOFFSETFROM:+0200
TZOFFSETTO:+0100
END:STANDARD
END:VTIMEZONE
BEGIN:VEVENT
SUMMARY:Design of Advanced Systems (DASE)\, Lecture exercises (VP)
DTSTART;TZID=Europe/Ljubljana:20241001T160000
DTEND;TZID=Europe/Ljubljana:20241001T180000
DTSTAMP:20260423T001856Z
UID:fs-AFLABS-URNIK:srecanje:6426-2024-10-01 16:00:00+02:00
DESCRIPTION:Predmet: Design of Advanced Systems (DASE)\, Lecture exercises
  (VP)\nLetniki: Erasmus (Erasmus)\nIzvajalci: Sanel Avdić\nProstor: Lectu
 re hall I/4A
END:VEVENT
BEGIN:VEVENT
SUMMARY:Design of Advanced Systems (DASE)\, Lecture exercises (VP)
DTSTART;TZID=Europe/Ljubljana:20241112T160000
DTEND;TZID=Europe/Ljubljana:20241112T180000
DTSTAMP:20260423T001856Z
UID:fs-AFLABS-URNIK:srecanje:6426-2024-11-12 16:00:00+01:00
DESCRIPTION:Predmet: Design of Advanced Systems (DASE)\, Lecture exercises
  (VP)\nLetniki: Erasmus (Erasmus)\nIzvajalci: Sanel Avdić\nProstor: Lectu
 re hall I/4A
END:VEVENT
BEGIN:VEVENT
SUMMARY:Design of Advanced Systems (DASE)\, Lecture exercises (VP)
DTSTART;TZID=Europe/Ljubljana:20250114T160000
DTEND;TZID=Europe/Ljubljana:20250114T180000
DTSTAMP:20260423T001856Z
UID:fs-AFLABS-URNIK:srecanje:6426-2025-01-14 16:00:00+01:00
DESCRIPTION:Predmet: Design of Advanced Systems (DASE)\, Lecture exercises
  (VP)\nLetniki: Erasmus (Erasmus)\nIzvajalci: Sanel Avdić\nProstor: Lectu
 re hall I/4A
END:VEVENT
END:VCALENDAR
