BEGIN:VCALENDAR
VERSION:2.0
PRODID:-//AFLabs urnik izvoz - fs//aflabs.si//SI
NAME:UL FS Urnik
X-WR-CALNAME:UL FS Urnik
DTSTAMP:20260421T072746Z
REFRESH-INTERVAL:PT1H
SOURCE:https://urnik.fs.uni-lj.si/en/teacher/997/?day=2024-01-22&export=1
URL:https://urnik.fs.uni-lj.si/en/teacher/997/?day=2024-01-22&export=1
X-PUBLISHED-TTL:PT1H
X-WR-TIMEZONE:Europe/Ljubljana
BEGIN:VTIMEZONE
TZID:Europe/Ljubljana
BEGIN:DAYLIGHT
DTSTART:20260329T020000
RDATE:20260329T020000
RDATE:20270328T020000
TZNAME:CEST
TZOFFSETFROM:+0100
TZOFFSETTO:+0200
END:DAYLIGHT
BEGIN:STANDARD
DTSTART:20261025T030000
RDATE:20261025T030000
RDATE:20271031T030000
TZNAME:CET
TZOFFSETFROM:+0200
TZOFFSETTO:+0100
END:STANDARD
END:VTIMEZONE
BEGIN:VEVENT
SUMMARY:Control technology (KRTR)\, Lectures (P)
DTSTART;TZID=Europe/Ljubljana:20240221T080000
DTEND;TZID=Europe/Ljubljana:20240221T100000
DTSTAMP:20260421T072746Z
UID:fs-AFLABS-URNIK:srecanje:3690-2024-02-21 08:00:00+01:00
DESCRIPTION:Predmet: Control technology (KRTR)\, Lectures (P)\nLetniki: RR
 P-2 (RRP-2)\nIzvajalci: Dominik Kozjek\nProstor: Lecture hall V/2
END:VEVENT
BEGIN:VEVENT
SUMMARY:Izpit: Microprocessor Control (6054-M)
DTSTART;TZID=Europe/Ljubljana:20240125T110000
DTEND;TZID=Europe/Ljubljana:20240125T130000
DTSTAMP:20260421T072746Z
UID:fs-AFLABS-URNIK:rezervacija:3641
CATEGORIES:Reservation
COLOR:royalblue
DESCRIPTION:Predmeti: \nLetniki: \nIzvajalci: Dominik Kozjek\nProstori: Le
 cture hall III/4
LOCATION:Lecture hall III/4
ORGANIZER:Dominik Kozjek
X-WR-TIMEZONE:Europe/Ljubljana
END:VEVENT
BEGIN:VEVENT
SUMMARY:Izpit: Mikroprocesorska krmilja
DTSTART;TZID=Europe/Ljubljana:20240125T110000
DTEND;TZID=Europe/Ljubljana:20240125T130000
DTSTAMP:20260421T072746Z
UID:fs-AFLABS-URNIK:rezervacija:3695
ATTENDEE:Mechatronics and laser technology (MAG-1)
CATEGORIES:Reservation
COLOR:royalblue
DESCRIPTION:Predmeti: Microprocessor control (MPKM)\nLetniki: Mechatronics
  and laser technology (MAG-1)\nIzvajalci: Dominik Kozjek\nProstori: Lectur
 e hall III/4
LOCATION:Lecture hall III/4
ORGANIZER:Dominik Kozjek
X-WR-TIMEZONE:Europe/Ljubljana
END:VEVENT
BEGIN:VEVENT
SUMMARY:Izpit: Programski algoritmi in protokoli
DTSTART;TZID=Europe/Ljubljana:20240130T120000
DTEND;TZID=Europe/Ljubljana:20240130T140000
DTSTAMP:20260421T072746Z
UID:fs-AFLABS-URNIK:rezervacija:3766
ATTENDEE:Mechatronics and laser technology (MAG-1)
CATEGORIES:Reservation
COLOR:royalblue
DESCRIPTION:Predmeti: Algorithms and protocols (PAPM)\nLetniki: Mechatroni
 cs and laser technology (MAG-1)\nIzvajalci: Dominik Kozjek\nProstori: Lect
 ure hall IV/4
LOCATION:Lecture hall IV/4
ORGANIZER:Dominik Kozjek
X-WR-TIMEZONE:Europe/Ljubljana
END:VEVENT
BEGIN:VEVENT
SUMMARY:Izpit: Mikroprocesorska krmilja (6036)
DTSTART;TZID=Europe/Ljubljana:20240209T150000
DTEND;TZID=Europe/Ljubljana:20240209T170000
DTSTAMP:20260421T072746Z
UID:fs-AFLABS-URNIK:rezervacija:3878
CATEGORIES:Reservation
COLOR:royalblue
DESCRIPTION:Predmeti: \nLetniki: \nIzvajalci: Dominik Kozjek\nProstori: Le
 cture hall IV/2
LOCATION:Lecture hall IV/2
ORGANIZER:Dominik Kozjek
X-WR-TIMEZONE:Europe/Ljubljana
END:VEVENT
BEGIN:VEVENT
SUMMARY:Izpit: Microprocessor Control (6054-M)
DTSTART;TZID=Europe/Ljubljana:20240209T150000
DTEND;TZID=Europe/Ljubljana:20240209T170000
DTSTAMP:20260421T072746Z
UID:fs-AFLABS-URNIK:rezervacija:3879
CATEGORIES:Reservation
COLOR:royalblue
DESCRIPTION:Predmeti: \nLetniki: \nIzvajalci: Dominik Kozjek\nProstori: Le
 cture hall IV/2
LOCATION:Lecture hall IV/2
ORGANIZER:Dominik Kozjek
X-WR-TIMEZONE:Europe/Ljubljana
END:VEVENT
BEGIN:VEVENT
SUMMARY:Izpit: Mikroprocesorska krmilja
DTSTART;TZID=Europe/Ljubljana:20240209T150000
DTEND;TZID=Europe/Ljubljana:20240209T170000
DTSTAMP:20260421T072746Z
UID:fs-AFLABS-URNIK:rezervacija:3921
ATTENDEE:Mechatronics and laser technology (MAG-1)
CATEGORIES:Reservation
COLOR:royalblue
DESCRIPTION:Predmeti: Microprocessor control (MPKM)\nLetniki: Mechatronics
  and laser technology (MAG-1)\nIzvajalci: Dominik Kozjek\nProstori: Lectur
 e hall IV/2
LOCATION:Lecture hall IV/2
ORGANIZER:Dominik Kozjek
X-WR-TIMEZONE:Europe/Ljubljana
END:VEVENT
BEGIN:VEVENT
SUMMARY:Izpit: Programski algoritmi in protokoli
DTSTART;TZID=Europe/Ljubljana:20240213T100000
DTEND;TZID=Europe/Ljubljana:20240213T120000
DTSTAMP:20260421T072746Z
UID:fs-AFLABS-URNIK:rezervacija:3992
ATTENDEE:Mechatronics and laser technology (MAG-1)
CATEGORIES:Reservation
COLOR:royalblue
DESCRIPTION:Predmeti: Algorithms and protocols (PAPM)\nLetniki: Mechatroni
 cs and laser technology (MAG-1)\nIzvajalci: Dominik Kozjek\nProstori: Lect
 ure hall III/4
LOCATION:Lecture hall III/4
ORGANIZER:Dominik Kozjek
X-WR-TIMEZONE:Europe/Ljubljana
END:VEVENT
END:VCALENDAR
