BEGIN:VCALENDAR
VERSION:2.0
PRODID:-//AFLabs urnik izvoz - fs//aflabs.si//SI
NAME:UL FS Urnik
X-WR-CALNAME:UL FS Urnik
DTSTAMP:20260423T160603Z
REFRESH-INTERVAL:PT1H
SOURCE:https://urnik.fs.uni-lj.si/en/teacher/997/?day=2025-01-27&export=1
URL:https://urnik.fs.uni-lj.si/en/teacher/997/?day=2025-01-27&export=1
X-PUBLISHED-TTL:PT1H
X-WR-TIMEZONE:Europe/Ljubljana
BEGIN:VTIMEZONE
TZID:Europe/Ljubljana
BEGIN:DAYLIGHT
DTSTART:20260329T020000
RDATE:20260329T020000
RDATE:20270328T020000
TZNAME:CEST
TZOFFSETFROM:+0100
TZOFFSETTO:+0200
END:DAYLIGHT
BEGIN:STANDARD
DTSTART:20261025T030000
RDATE:20261025T030000
RDATE:20271031T030000
TZNAME:CET
TZOFFSETFROM:+0200
TZOFFSETTO:+0100
END:STANDARD
END:VTIMEZONE
BEGIN:VEVENT
SUMMARY:Control technology (KRTR)\, Lectures (P)
DTSTART;TZID=Europe/Ljubljana:20250219T080000
DTEND;TZID=Europe/Ljubljana:20250219T100000
DTSTAMP:20260423T160603Z
UID:fs-AFLABS-URNIK:srecanje:9614-2025-02-19 08:00:00+01:00
DESCRIPTION:Predmet: Control technology (KRTR)\, Lectures (P)\nLetniki: RR
 P-2 (RRP-2)\nIzvajalci: Dominik Kozjek\nProstor: Lecture hall V/2
END:VEVENT
BEGIN:VEVENT
SUMMARY:Control technology (KRTR)\, Lectures (P)
DTSTART;TZID=Europe/Ljubljana:20250226T080000
DTEND;TZID=Europe/Ljubljana:20250226T100000
DTSTAMP:20260423T160603Z
UID:fs-AFLABS-URNIK:srecanje:9614-2025-02-26 08:00:00+01:00
DESCRIPTION:Predmet: Control technology (KRTR)\, Lectures (P)\nLetniki: RR
 P-2 (RRP-2)\nIzvajalci: Dominik Kozjek\nProstor: Lecture hall V/2
END:VEVENT
BEGIN:VEVENT
SUMMARY:Engineering reporting - PAP (PVSP)\, Lectures (P)
DTSTART;TZID=Europe/Ljubljana:20250220T073000
DTEND;TZID=Europe/Ljubljana:20250220T083000
DTSTAMP:20260423T160603Z
UID:fs-AFLABS-URNIK:srecanje:9933-2025-02-20 07:30:00+01:00
DESCRIPTION:Predmet: Engineering reporting - PAP (PVSP)\, Lectures (P)\nLe
 tniki: PAP-1 (PAP-1)\nIzvajalci: Miha Brojan\, Dominik Kozjek\, Franc Majd
 ič\, Rok Vrabič\, Nikola Vukašinović\nProstor: Lecture hall V/8
END:VEVENT
BEGIN:VEVENT
SUMMARY:Engineering reporting - PAP (PVSP)\, Lectures (P)
DTSTART;TZID=Europe/Ljubljana:20250227T073000
DTEND;TZID=Europe/Ljubljana:20250227T083000
DTSTAMP:20260423T160603Z
UID:fs-AFLABS-URNIK:srecanje:9933-2025-02-27 07:30:00+01:00
DESCRIPTION:Predmet: Engineering reporting - PAP (PVSP)\, Lectures (P)\nLe
 tniki: PAP-1 (PAP-1)\nIzvajalci: Miha Brojan\, Dominik Kozjek\, Franc Majd
 ič\, Rok Vrabič\, Nikola Vukašinović\nProstor: Lecture hall V/8
END:VEVENT
BEGIN:VEVENT
SUMMARY:Engineering reporting - PAP (PVSP)\, Lecture exercises (VP)
DTSTART;TZID=Europe/Ljubljana:20250220T083000
DTEND;TZID=Europe/Ljubljana:20250220T093000
DTSTAMP:20260423T160603Z
UID:fs-AFLABS-URNIK:srecanje:9938-2025-02-20 08:30:00+01:00
DESCRIPTION:Predmet: Engineering reporting - PAP (PVSP)\, Lecture exercise
 s (VP)\nLetniki: PAP-1 (PAP-1)\nIzvajalci: Miha Brojan\, Dominik Kozjek\, 
 Franc Majdič\, Nejc Novak\, Jožica Sterle\, Ana Trajkovski\, Nikola Vuka
 šinović\, Jan Zavodnik\nProstor: Lecture hall V/8
END:VEVENT
BEGIN:VEVENT
SUMMARY:Engineering reporting - PAP (PVSP)\, Lecture exercises (VP)
DTSTART;TZID=Europe/Ljubljana:20250227T083000
DTEND;TZID=Europe/Ljubljana:20250227T093000
DTSTAMP:20260423T160603Z
UID:fs-AFLABS-URNIK:srecanje:9938-2025-02-27 08:30:00+01:00
DESCRIPTION:Predmet: Engineering reporting - PAP (PVSP)\, Lecture exercise
 s (VP)\nLetniki: PAP-1 (PAP-1)\nIzvajalci: Miha Brojan\, Dominik Kozjek\, 
 Franc Majdič\, Nejc Novak\, Jožica Sterle\, Ana Trajkovski\, Nikola Vuka
 šinović\, Jan Zavodnik\nProstor: Lecture hall V/8
END:VEVENT
BEGIN:VEVENT
SUMMARY:Izpit: Microprocessor Control (6054-M)
DTSTART;TZID=Europe/Ljubljana:20250124T110000
DTEND;TZID=Europe/Ljubljana:20250124T130000
DTSTAMP:20260423T160603Z
UID:fs-AFLABS-URNIK:rezervacija:7041
CATEGORIES:Reservation
COLOR:royalblue
DESCRIPTION:Predmeti: \nLetniki: \nIzvajalci: Dominik Kozjek\nProstori: Le
 cture hall III/4
LOCATION:Lecture hall III/4
ORGANIZER:Dominik Kozjek
X-WR-TIMEZONE:Europe/Ljubljana
END:VEVENT
BEGIN:VEVENT
SUMMARY:Izpit: Microprocessor Control (6054-M)
DTSTART;TZID=Europe/Ljubljana:20250207T150000
DTEND;TZID=Europe/Ljubljana:20250207T170000
DTSTAMP:20260423T160603Z
UID:fs-AFLABS-URNIK:rezervacija:7042
CATEGORIES:Reservation
COLOR:royalblue
DESCRIPTION:Predmeti: \nLetniki: \nIzvajalci: Dominik Kozjek\nProstori: Le
 cture hall IV/2
LOCATION:Lecture hall IV/2
ORGANIZER:Dominik Kozjek
X-WR-TIMEZONE:Europe/Ljubljana
END:VEVENT
BEGIN:VEVENT
SUMMARY:Izpit: Mikroprocesorska krmilja (6054-M)
DTSTART;TZID=Europe/Ljubljana:20250124T110000
DTEND;TZID=Europe/Ljubljana:20250124T130000
DTSTAMP:20260423T160603Z
UID:fs-AFLABS-URNIK:rezervacija:7050
CATEGORIES:Reservation
COLOR:royalblue
DESCRIPTION:Predmeti: \nLetniki: \nIzvajalci: Dominik Kozjek\nProstori: Le
 cture hall III/4
LOCATION:Lecture hall III/4
ORGANIZER:Dominik Kozjek
X-WR-TIMEZONE:Europe/Ljubljana
END:VEVENT
BEGIN:VEVENT
SUMMARY:Izpit: Mikroprocesorska krmilja (6054-M)
DTSTART;TZID=Europe/Ljubljana:20250207T150000
DTEND;TZID=Europe/Ljubljana:20250207T170000
DTSTAMP:20260423T160603Z
UID:fs-AFLABS-URNIK:rezervacija:7051
CATEGORIES:Reservation
COLOR:royalblue
DESCRIPTION:Predmeti: \nLetniki: \nIzvajalci: Dominik Kozjek\nProstori: Le
 cture hall IV/2
LOCATION:Lecture hall IV/2
ORGANIZER:Dominik Kozjek
X-WR-TIMEZONE:Europe/Ljubljana
END:VEVENT
BEGIN:VEVENT
SUMMARY:Izpit: Mikroprocesorska krmilja (6054-M) [dve oceni]
DTSTART;TZID=Europe/Ljubljana:20250124T110000
DTEND;TZID=Europe/Ljubljana:20250124T130000
DTSTAMP:20260423T160603Z
UID:fs-AFLABS-URNIK:rezervacija:7053
CATEGORIES:Reservation
COLOR:royalblue
DESCRIPTION:Predmeti: \nLetniki: \nIzvajalci: Dominik Kozjek\nProstori: Le
 cture hall III/4
LOCATION:Lecture hall III/4
ORGANIZER:Dominik Kozjek
X-WR-TIMEZONE:Europe/Ljubljana
END:VEVENT
BEGIN:VEVENT
SUMMARY:Izpit: Mikroprocesorska krmilja (6054-M) [dve oceni]
DTSTART;TZID=Europe/Ljubljana:20250207T150000
DTEND;TZID=Europe/Ljubljana:20250207T170000
DTSTAMP:20260423T160603Z
UID:fs-AFLABS-URNIK:rezervacija:7054
CATEGORIES:Reservation
COLOR:royalblue
DESCRIPTION:Predmeti: \nLetniki: \nIzvajalci: Dominik Kozjek\nProstori: Le
 cture hall IV/2
LOCATION:Lecture hall IV/2
ORGANIZER:Dominik Kozjek
X-WR-TIMEZONE:Europe/Ljubljana
END:VEVENT
BEGIN:VEVENT
SUMMARY:Izpit: Programski algoritmi in protokoli (6056-M)
DTSTART;TZID=Europe/Ljubljana:20250128T120000
DTEND;TZID=Europe/Ljubljana:20250128T140000
DTSTAMP:20260423T160603Z
UID:fs-AFLABS-URNIK:rezervacija:7425
CATEGORIES:Reservation
COLOR:royalblue
DESCRIPTION:Predmeti: \nLetniki: \nIzvajalci: Dominik Kozjek\nProstori: Le
 cture hall IV/4
LOCATION:Lecture hall IV/4
ORGANIZER:Dominik Kozjek
X-WR-TIMEZONE:Europe/Ljubljana
END:VEVENT
BEGIN:VEVENT
SUMMARY:Izpit: Programski algoritmi in protokoli (6056-M)
DTSTART;TZID=Europe/Ljubljana:20250211T100000
DTEND;TZID=Europe/Ljubljana:20250211T120000
DTSTAMP:20260423T160603Z
UID:fs-AFLABS-URNIK:rezervacija:7426
CATEGORIES:Reservation
COLOR:royalblue
DESCRIPTION:Predmeti: \nLetniki: \nIzvajalci: Dominik Kozjek\nProstori: Le
 cture hall III/4
LOCATION:Lecture hall III/4
ORGANIZER:Dominik Kozjek
X-WR-TIMEZONE:Europe/Ljubljana
END:VEVENT
BEGIN:VEVENT
SUMMARY:Izpit: Programski algoritmi in protokoli (6056-M) [dve oceni]
DTSTART;TZID=Europe/Ljubljana:20250128T120000
DTEND;TZID=Europe/Ljubljana:20250128T140000
DTSTAMP:20260423T160603Z
UID:fs-AFLABS-URNIK:rezervacija:7428
CATEGORIES:Reservation
COLOR:royalblue
DESCRIPTION:Predmeti: \nLetniki: \nIzvajalci: Dominik Kozjek\nProstori: Le
 cture hall IV/4
LOCATION:Lecture hall IV/4
ORGANIZER:Dominik Kozjek
X-WR-TIMEZONE:Europe/Ljubljana
END:VEVENT
BEGIN:VEVENT
SUMMARY:Izpit: Programski algoritmi in protokoli (6056-M) [dve oceni]
DTSTART;TZID=Europe/Ljubljana:20250211T100000
DTEND;TZID=Europe/Ljubljana:20250211T120000
DTSTAMP:20260423T160603Z
UID:fs-AFLABS-URNIK:rezervacija:7429
CATEGORIES:Reservation
COLOR:royalblue
DESCRIPTION:Predmeti: \nLetniki: \nIzvajalci: Dominik Kozjek\nProstori: Le
 cture hall III/4
LOCATION:Lecture hall III/4
ORGANIZER:Dominik Kozjek
X-WR-TIMEZONE:Europe/Ljubljana
END:VEVENT
END:VCALENDAR
