BEGIN:VCALENDAR
VERSION:2.0
PRODID:-//AFLabs urnik izvoz - fs//aflabs.si//SI
NAME:UL FS Urnik
X-WR-CALNAME:UL FS Urnik
DTSTAMP:20260424T043747Z
REFRESH-INTERVAL:PT1H
SOURCE:https://urnik.fs.uni-lj.si/teacher/1011/?day=2024-05-20&export=1
URL:https://urnik.fs.uni-lj.si/teacher/1011/?day=2024-05-20&export=1
X-PUBLISHED-TTL:PT1H
X-WR-TIMEZONE:Europe/Ljubljana
BEGIN:VTIMEZONE
TZID:Europe/Ljubljana
BEGIN:DAYLIGHT
DTSTART:20260329T020000
RDATE:20260329T020000
RDATE:20270328T020000
TZNAME:CEST
TZOFFSETFROM:+0100
TZOFFSETTO:+0200
END:DAYLIGHT
BEGIN:STANDARD
DTSTART:20261025T030000
RDATE:20261025T030000
RDATE:20271031T030000
TZNAME:CET
TZOFFSETFROM:+0200
TZOFFSETTO:+0100
END:STANDARD
END:VTIMEZONE
BEGIN:VEVENT
SUMMARY:Maziva in mazanje (MZMP)\, Predavalniške vaje (VP)
DTSTART;TZID=Europe/Ljubljana:20240219T113000
DTEND;TZID=Europe/Ljubljana:20240219T133000
DTSTAMP:20260424T043747Z
UID:fs-AFLABS-URNIK:srecanje:3723-2024-02-19 11:30:00+01:00
DESCRIPTION:Predmet: Maziva in mazanje (MZMP)\, Predavalniške vaje (VP)\n
 Letniki: Konstruiranje strojev in naprav (PAP-2)\nIzvajalci: Lucija Čoga\
 , Petra Jan\, Urban Klanjšček\, Mark Kuzman\, Marko Polajnar\, Tomaž Po
 žar\, Jožica Sterle\nProstor: Predavalnica III/3A
END:VEVENT
BEGIN:VEVENT
SUMMARY:Maziva in mazanje (MZMP)\, Predavalniške vaje (VP)
DTSTART;TZID=Europe/Ljubljana:20240226T113000
DTEND;TZID=Europe/Ljubljana:20240226T133000
DTSTAMP:20260424T043747Z
UID:fs-AFLABS-URNIK:srecanje:3723-2024-02-26 11:30:00+01:00
DESCRIPTION:Predmet: Maziva in mazanje (MZMP)\, Predavalniške vaje (VP)\n
 Letniki: Konstruiranje strojev in naprav (PAP-2)\nIzvajalci: Lucija Čoga\
 , Petra Jan\, Urban Klanjšček\, Mark Kuzman\, Marko Polajnar\, Tomaž Po
 žar\, Jožica Sterle\nProstor: Predavalnica III/3A
END:VEVENT
BEGIN:VEVENT
SUMMARY:Maziva in mazanje (MZMP)\, Predavalniške vaje (VP)
DTSTART;TZID=Europe/Ljubljana:20240318T113000
DTEND;TZID=Europe/Ljubljana:20240318T133000
DTSTAMP:20260424T043747Z
UID:fs-AFLABS-URNIK:srecanje:3723-2024-03-18 11:30:00+01:00
DESCRIPTION:Predmet: Maziva in mazanje (MZMP)\, Predavalniške vaje (VP)\n
 Letniki: Konstruiranje strojev in naprav (PAP-2)\nIzvajalci: Lucija Čoga\
 , Petra Jan\, Urban Klanjšček\, Mark Kuzman\, Marko Polajnar\, Tomaž Po
 žar\, Jožica Sterle\nProstor: Predavalnica III/3A
END:VEVENT
BEGIN:VEVENT
SUMMARY:Maziva in mazanje (MZMP)\, Predavalniške vaje (VP)
DTSTART;TZID=Europe/Ljubljana:20240422T113000
DTEND;TZID=Europe/Ljubljana:20240422T133000
DTSTAMP:20260424T043747Z
UID:fs-AFLABS-URNIK:srecanje:3723-2024-04-22 11:30:00+02:00
DESCRIPTION:Predmet: Maziva in mazanje (MZMP)\, Predavalniške vaje (VP)\n
 Letniki: Konstruiranje strojev in naprav (PAP-2)\nIzvajalci: Lucija Čoga\
 , Petra Jan\, Urban Klanjšček\, Mark Kuzman\, Marko Polajnar\, Tomaž Po
 žar\, Jožica Sterle\nProstor: Predavalnica III/3A
END:VEVENT
BEGIN:VEVENT
SUMMARY:Maziva in mazanje (MZMP)\, Predavalniške vaje (VP)
DTSTART;TZID=Europe/Ljubljana:20240429T113000
DTEND;TZID=Europe/Ljubljana:20240429T133000
DTSTAMP:20260424T043747Z
UID:fs-AFLABS-URNIK:srecanje:3723-2024-04-29 11:30:00+02:00
DESCRIPTION:Predmet: Maziva in mazanje (MZMP)\, Predavalniške vaje (VP)\n
 Letniki: Konstruiranje strojev in naprav (PAP-2)\nIzvajalci: Lucija Čoga\
 , Petra Jan\, Urban Klanjšček\, Mark Kuzman\, Marko Polajnar\, Tomaž Po
 žar\, Jožica Sterle\nProstor: Predavalnica III/3A
END:VEVENT
BEGIN:VEVENT
SUMMARY:Maziva in mazanje (MZMP)\, Predavalniške vaje (VP)
DTSTART;TZID=Europe/Ljubljana:20240520T113000
DTEND;TZID=Europe/Ljubljana:20240520T133000
DTSTAMP:20260424T043747Z
UID:fs-AFLABS-URNIK:srecanje:3723-2024-05-20 11:30:00+02:00
DESCRIPTION:Predmet: Maziva in mazanje (MZMP)\, Predavalniške vaje (VP)\n
 Letniki: Konstruiranje strojev in naprav (PAP-2)\nIzvajalci: Lucija Čoga\
 , Petra Jan\, Urban Klanjšček\, Mark Kuzman\, Marko Polajnar\, Tomaž Po
 žar\, Jožica Sterle\nProstor: Predavalnica III/3A
END:VEVENT
BEGIN:VEVENT
SUMMARY:Maziva in mazanje (MZMP)\, Predavalniške vaje (VP)
DTSTART;TZID=Europe/Ljubljana:20240527T113000
DTEND;TZID=Europe/Ljubljana:20240527T133000
DTSTAMP:20260424T043747Z
UID:fs-AFLABS-URNIK:srecanje:3723-2024-05-27 11:30:00+02:00
DESCRIPTION:Predmet: Maziva in mazanje (MZMP)\, Predavalniške vaje (VP)\n
 Letniki: Konstruiranje strojev in naprav (PAP-2)\nIzvajalci: Lucija Čoga\
 , Petra Jan\, Urban Klanjšček\, Mark Kuzman\, Marko Polajnar\, Tomaž Po
 žar\, Jožica Sterle\nProstor: Predavalnica III/3A
END:VEVENT
BEGIN:VEVENT
SUMMARY:Maziva in mazanje (MZMP)\, Laboratorijske vaje (VL)\, [S1]
DTSTART;TZID=Europe/Ljubljana:20240304T113000
DTEND;TZID=Europe/Ljubljana:20240304T133000
DTSTAMP:20260424T043747Z
UID:fs-AFLABS-URNIK:srecanje:9164-2024-03-04 11:30:00+01:00
DESCRIPTION:Predmet: Maziva in mazanje (MZMP)\, Laboratorijske vaje (VL)\,
  [S1]\nLetniki: Konstruiranje strojev in naprav (PAP-2)\nIzvajalci: Lucija
  Čoga\, Petra Jan\, Urban Klanjšček\, Mark Kuzman\, Marko Polajnar\, To
 maž Požar\, Anastasia Samodurova\, Jožica Sterle\nProstor: Laboratorij 
 TINT TiNT 2
END:VEVENT
BEGIN:VEVENT
SUMMARY:Maziva in mazanje (MZMP)\, Laboratorijske vaje (VL)\, [S1]
DTSTART;TZID=Europe/Ljubljana:20240311T113000
DTEND;TZID=Europe/Ljubljana:20240311T133000
DTSTAMP:20260424T043747Z
UID:fs-AFLABS-URNIK:srecanje:9164-2024-03-11 11:30:00+01:00
DESCRIPTION:Predmet: Maziva in mazanje (MZMP)\, Laboratorijske vaje (VL)\,
  [S1]\nLetniki: Konstruiranje strojev in naprav (PAP-2)\nIzvajalci: Lucija
  Čoga\, Petra Jan\, Urban Klanjšček\, Mark Kuzman\, Marko Polajnar\, To
 maž Požar\, Anastasia Samodurova\, Jožica Sterle\nProstor: Laboratorij 
 TINT TiNT 2
END:VEVENT
BEGIN:VEVENT
SUMMARY:Maziva in mazanje (MZMP)\, Laboratorijske vaje (VL)\, [S1]
DTSTART;TZID=Europe/Ljubljana:20240325T113000
DTEND;TZID=Europe/Ljubljana:20240325T133000
DTSTAMP:20260424T043747Z
UID:fs-AFLABS-URNIK:srecanje:9164-2024-03-25 11:30:00+01:00
DESCRIPTION:Predmet: Maziva in mazanje (MZMP)\, Laboratorijske vaje (VL)\,
  [S1]\nLetniki: Konstruiranje strojev in naprav (PAP-2)\nIzvajalci: Lucija
  Čoga\, Petra Jan\, Urban Klanjšček\, Mark Kuzman\, Marko Polajnar\, To
 maž Požar\, Anastasia Samodurova\, Jožica Sterle\nProstor: Laboratorij 
 TINT TiNT 2
END:VEVENT
BEGIN:VEVENT
SUMMARY:Maziva in mazanje (MZMP)\, Laboratorijske vaje (VL)\, [S1]
DTSTART;TZID=Europe/Ljubljana:20240401T113000
DTEND;TZID=Europe/Ljubljana:20240401T133000
DTSTAMP:20260424T043747Z
UID:fs-AFLABS-URNIK:srecanje:9164-2024-04-01 11:30:00+02:00
DESCRIPTION:Predmet: Maziva in mazanje (MZMP)\, Laboratorijske vaje (VL)\,
  [S1]\nLetniki: Konstruiranje strojev in naprav (PAP-2)\nIzvajalci: Lucija
  Čoga\, Petra Jan\, Urban Klanjšček\, Mark Kuzman\, Marko Polajnar\, To
 maž Požar\, Anastasia Samodurova\, Jožica Sterle\nProstor: Laboratorij 
 TINT TiNT 2
END:VEVENT
BEGIN:VEVENT
SUMMARY:Maziva in mazanje (MZMP)\, Laboratorijske vaje (VL)\, [S1]
DTSTART;TZID=Europe/Ljubljana:20240408T113000
DTEND;TZID=Europe/Ljubljana:20240408T133000
DTSTAMP:20260424T043747Z
UID:fs-AFLABS-URNIK:srecanje:9164-2024-04-08 11:30:00+02:00
DESCRIPTION:Predmet: Maziva in mazanje (MZMP)\, Laboratorijske vaje (VL)\,
  [S1]\nLetniki: Konstruiranje strojev in naprav (PAP-2)\nIzvajalci: Lucija
  Čoga\, Petra Jan\, Urban Klanjšček\, Mark Kuzman\, Marko Polajnar\, To
 maž Požar\, Anastasia Samodurova\, Jožica Sterle\nProstor: Laboratorij 
 TINT TiNT 2
END:VEVENT
BEGIN:VEVENT
SUMMARY:Maziva in mazanje (MZMP)\, Laboratorijske vaje (VL)\, [S1]
DTSTART;TZID=Europe/Ljubljana:20240415T113000
DTEND;TZID=Europe/Ljubljana:20240415T133000
DTSTAMP:20260424T043747Z
UID:fs-AFLABS-URNIK:srecanje:9164-2024-04-15 11:30:00+02:00
DESCRIPTION:Predmet: Maziva in mazanje (MZMP)\, Laboratorijske vaje (VL)\,
  [S1]\nLetniki: Konstruiranje strojev in naprav (PAP-2)\nIzvajalci: Lucija
  Čoga\, Petra Jan\, Urban Klanjšček\, Mark Kuzman\, Marko Polajnar\, To
 maž Požar\, Anastasia Samodurova\, Jožica Sterle\nProstor: Laboratorij 
 TINT TiNT 2
END:VEVENT
BEGIN:VEVENT
SUMMARY:Maziva in mazanje (MZMP)\, Laboratorijske vaje (VL)\, [S1]
DTSTART;TZID=Europe/Ljubljana:20240506T113000
DTEND;TZID=Europe/Ljubljana:20240506T133000
DTSTAMP:20260424T043747Z
UID:fs-AFLABS-URNIK:srecanje:9164-2024-05-06 11:30:00+02:00
DESCRIPTION:Predmet: Maziva in mazanje (MZMP)\, Laboratorijske vaje (VL)\,
  [S1]\nLetniki: Konstruiranje strojev in naprav (PAP-2)\nIzvajalci: Lucija
  Čoga\, Petra Jan\, Urban Klanjšček\, Mark Kuzman\, Marko Polajnar\, To
 maž Požar\, Anastasia Samodurova\, Jožica Sterle\nProstor: Laboratorij 
 TINT TiNT 2
END:VEVENT
BEGIN:VEVENT
SUMMARY:Maziva in mazanje (MZMP)\, Laboratorijske vaje (VL)\, [S1]
DTSTART;TZID=Europe/Ljubljana:20240513T113000
DTEND;TZID=Europe/Ljubljana:20240513T133000
DTSTAMP:20260424T043747Z
UID:fs-AFLABS-URNIK:srecanje:9164-2024-05-13 11:30:00+02:00
DESCRIPTION:Predmet: Maziva in mazanje (MZMP)\, Laboratorijske vaje (VL)\,
  [S1]\nLetniki: Konstruiranje strojev in naprav (PAP-2)\nIzvajalci: Lucija
  Čoga\, Petra Jan\, Urban Klanjšček\, Mark Kuzman\, Marko Polajnar\, To
 maž Požar\, Anastasia Samodurova\, Jožica Sterle\nProstor: Laboratorij 
 TINT TiNT 2
END:VEVENT
BEGIN:VEVENT
SUMMARY:Maziva in mazanje (MZMP)\, Laboratorijske vaje (VL)\, [S2]
DTSTART;TZID=Europe/Ljubljana:20240304T133000
DTEND;TZID=Europe/Ljubljana:20240304T153000
DTSTAMP:20260424T043747Z
UID:fs-AFLABS-URNIK:srecanje:9165-2024-03-04 13:30:00+01:00
DESCRIPTION:Predmet: Maziva in mazanje (MZMP)\, Laboratorijske vaje (VL)\,
  [S2]\nLetniki: Konstruiranje strojev in naprav (PAP-2)\nIzvajalci: Lucija
  Čoga\, Petra Jan\, Urban Klanjšček\, Mark Kuzman\, Marko Polajnar\, To
 maž Požar\, Anastasia Samodurova\, Jožica Sterle\nProstor: Laboratorij 
 TINT TiNT 2
END:VEVENT
BEGIN:VEVENT
SUMMARY:Maziva in mazanje (MZMP)\, Laboratorijske vaje (VL)\, [S2]
DTSTART;TZID=Europe/Ljubljana:20240311T133000
DTEND;TZID=Europe/Ljubljana:20240311T153000
DTSTAMP:20260424T043747Z
UID:fs-AFLABS-URNIK:srecanje:9165-2024-03-11 13:30:00+01:00
DESCRIPTION:Predmet: Maziva in mazanje (MZMP)\, Laboratorijske vaje (VL)\,
  [S2]\nLetniki: Konstruiranje strojev in naprav (PAP-2)\nIzvajalci: Lucija
  Čoga\, Petra Jan\, Urban Klanjšček\, Mark Kuzman\, Marko Polajnar\, To
 maž Požar\, Anastasia Samodurova\, Jožica Sterle\nProstor: Laboratorij 
 TINT TiNT 2
END:VEVENT
BEGIN:VEVENT
SUMMARY:Maziva in mazanje (MZMP)\, Laboratorijske vaje (VL)\, [S2]
DTSTART;TZID=Europe/Ljubljana:20240325T133000
DTEND;TZID=Europe/Ljubljana:20240325T153000
DTSTAMP:20260424T043747Z
UID:fs-AFLABS-URNIK:srecanje:9165-2024-03-25 13:30:00+01:00
DESCRIPTION:Predmet: Maziva in mazanje (MZMP)\, Laboratorijske vaje (VL)\,
  [S2]\nLetniki: Konstruiranje strojev in naprav (PAP-2)\nIzvajalci: Lucija
  Čoga\, Petra Jan\, Urban Klanjšček\, Mark Kuzman\, Marko Polajnar\, To
 maž Požar\, Anastasia Samodurova\, Jožica Sterle\nProstor: Laboratorij 
 TINT TiNT 2
END:VEVENT
BEGIN:VEVENT
SUMMARY:Maziva in mazanje (MZMP)\, Laboratorijske vaje (VL)\, [S2]
DTSTART;TZID=Europe/Ljubljana:20240401T133000
DTEND;TZID=Europe/Ljubljana:20240401T153000
DTSTAMP:20260424T043747Z
UID:fs-AFLABS-URNIK:srecanje:9165-2024-04-01 13:30:00+02:00
DESCRIPTION:Predmet: Maziva in mazanje (MZMP)\, Laboratorijske vaje (VL)\,
  [S2]\nLetniki: Konstruiranje strojev in naprav (PAP-2)\nIzvajalci: Lucija
  Čoga\, Petra Jan\, Urban Klanjšček\, Mark Kuzman\, Marko Polajnar\, To
 maž Požar\, Anastasia Samodurova\, Jožica Sterle\nProstor: Laboratorij 
 TINT TiNT 2
END:VEVENT
BEGIN:VEVENT
SUMMARY:Maziva in mazanje (MZMP)\, Laboratorijske vaje (VL)\, [S2]
DTSTART;TZID=Europe/Ljubljana:20240408T133000
DTEND;TZID=Europe/Ljubljana:20240408T153000
DTSTAMP:20260424T043747Z
UID:fs-AFLABS-URNIK:srecanje:9165-2024-04-08 13:30:00+02:00
DESCRIPTION:Predmet: Maziva in mazanje (MZMP)\, Laboratorijske vaje (VL)\,
  [S2]\nLetniki: Konstruiranje strojev in naprav (PAP-2)\nIzvajalci: Lucija
  Čoga\, Petra Jan\, Urban Klanjšček\, Mark Kuzman\, Marko Polajnar\, To
 maž Požar\, Anastasia Samodurova\, Jožica Sterle\nProstor: Laboratorij 
 TINT TiNT 2
END:VEVENT
BEGIN:VEVENT
SUMMARY:Maziva in mazanje (MZMP)\, Laboratorijske vaje (VL)\, [S2]
DTSTART;TZID=Europe/Ljubljana:20240415T133000
DTEND;TZID=Europe/Ljubljana:20240415T153000
DTSTAMP:20260424T043747Z
UID:fs-AFLABS-URNIK:srecanje:9165-2024-04-15 13:30:00+02:00
DESCRIPTION:Predmet: Maziva in mazanje (MZMP)\, Laboratorijske vaje (VL)\,
  [S2]\nLetniki: Konstruiranje strojev in naprav (PAP-2)\nIzvajalci: Lucija
  Čoga\, Petra Jan\, Urban Klanjšček\, Mark Kuzman\, Marko Polajnar\, To
 maž Požar\, Anastasia Samodurova\, Jožica Sterle\nProstor: Laboratorij 
 TINT TiNT 2
END:VEVENT
BEGIN:VEVENT
SUMMARY:Maziva in mazanje (MZMP)\, Laboratorijske vaje (VL)\, [S2]
DTSTART;TZID=Europe/Ljubljana:20240506T133000
DTEND;TZID=Europe/Ljubljana:20240506T153000
DTSTAMP:20260424T043747Z
UID:fs-AFLABS-URNIK:srecanje:9165-2024-05-06 13:30:00+02:00
DESCRIPTION:Predmet: Maziva in mazanje (MZMP)\, Laboratorijske vaje (VL)\,
  [S2]\nLetniki: Konstruiranje strojev in naprav (PAP-2)\nIzvajalci: Lucija
  Čoga\, Petra Jan\, Urban Klanjšček\, Mark Kuzman\, Marko Polajnar\, To
 maž Požar\, Anastasia Samodurova\, Jožica Sterle\nProstor: Laboratorij 
 TINT TiNT 2
END:VEVENT
BEGIN:VEVENT
SUMMARY:Maziva in mazanje (MZMP)\, Laboratorijske vaje (VL)\, [S2]
DTSTART;TZID=Europe/Ljubljana:20240513T133000
DTEND;TZID=Europe/Ljubljana:20240513T153000
DTSTAMP:20260424T043747Z
UID:fs-AFLABS-URNIK:srecanje:9165-2024-05-13 13:30:00+02:00
DESCRIPTION:Predmet: Maziva in mazanje (MZMP)\, Laboratorijske vaje (VL)\,
  [S2]\nLetniki: Konstruiranje strojev in naprav (PAP-2)\nIzvajalci: Lucija
  Čoga\, Petra Jan\, Urban Klanjšček\, Mark Kuzman\, Marko Polajnar\, To
 maž Požar\, Anastasia Samodurova\, Jožica Sterle\nProstor: Laboratorij 
 TINT TiNT 2
END:VEVENT
BEGIN:VEVENT
SUMMARY:Maziva in mazanje (MZMP)\, Laboratorijske vaje (VL)\, [S3]
DTSTART;TZID=Europe/Ljubljana:20240304T153000
DTEND;TZID=Europe/Ljubljana:20240304T173000
DTSTAMP:20260424T043747Z
UID:fs-AFLABS-URNIK:srecanje:9166-2024-03-04 15:30:00+01:00
DESCRIPTION:Predmet: Maziva in mazanje (MZMP)\, Laboratorijske vaje (VL)\,
  [S3]\nLetniki: Konstruiranje strojev in naprav (PAP-2)\nIzvajalci: Lucija
  Čoga\, Petra Jan\, Urban Klanjšček\, Mark Kuzman\, Marko Polajnar\, To
 maž Požar\, Anastasia Samodurova\, Jožica Sterle\nProstor: Laboratorij 
 TINT TiNT 2
END:VEVENT
BEGIN:VEVENT
SUMMARY:Maziva in mazanje (MZMP)\, Laboratorijske vaje (VL)\, [S3]
DTSTART;TZID=Europe/Ljubljana:20240311T153000
DTEND;TZID=Europe/Ljubljana:20240311T173000
DTSTAMP:20260424T043747Z
UID:fs-AFLABS-URNIK:srecanje:9166-2024-03-11 15:30:00+01:00
DESCRIPTION:Predmet: Maziva in mazanje (MZMP)\, Laboratorijske vaje (VL)\,
  [S3]\nLetniki: Konstruiranje strojev in naprav (PAP-2)\nIzvajalci: Lucija
  Čoga\, Petra Jan\, Urban Klanjšček\, Mark Kuzman\, Marko Polajnar\, To
 maž Požar\, Anastasia Samodurova\, Jožica Sterle\nProstor: Laboratorij 
 TINT TiNT 2
END:VEVENT
BEGIN:VEVENT
SUMMARY:Maziva in mazanje (MZMP)\, Laboratorijske vaje (VL)\, [S3]
DTSTART;TZID=Europe/Ljubljana:20240325T153000
DTEND;TZID=Europe/Ljubljana:20240325T173000
DTSTAMP:20260424T043747Z
UID:fs-AFLABS-URNIK:srecanje:9166-2024-03-25 15:30:00+01:00
DESCRIPTION:Predmet: Maziva in mazanje (MZMP)\, Laboratorijske vaje (VL)\,
  [S3]\nLetniki: Konstruiranje strojev in naprav (PAP-2)\nIzvajalci: Lucija
  Čoga\, Petra Jan\, Urban Klanjšček\, Mark Kuzman\, Marko Polajnar\, To
 maž Požar\, Anastasia Samodurova\, Jožica Sterle\nProstor: Laboratorij 
 TINT TiNT 2
END:VEVENT
BEGIN:VEVENT
SUMMARY:Maziva in mazanje (MZMP)\, Laboratorijske vaje (VL)\, [S3]
DTSTART;TZID=Europe/Ljubljana:20240401T153000
DTEND;TZID=Europe/Ljubljana:20240401T173000
DTSTAMP:20260424T043747Z
UID:fs-AFLABS-URNIK:srecanje:9166-2024-04-01 15:30:00+02:00
DESCRIPTION:Predmet: Maziva in mazanje (MZMP)\, Laboratorijske vaje (VL)\,
  [S3]\nLetniki: Konstruiranje strojev in naprav (PAP-2)\nIzvajalci: Lucija
  Čoga\, Petra Jan\, Urban Klanjšček\, Mark Kuzman\, Marko Polajnar\, To
 maž Požar\, Anastasia Samodurova\, Jožica Sterle\nProstor: Laboratorij 
 TINT TiNT 2
END:VEVENT
BEGIN:VEVENT
SUMMARY:Maziva in mazanje (MZMP)\, Laboratorijske vaje (VL)\, [S3]
DTSTART;TZID=Europe/Ljubljana:20240408T153000
DTEND;TZID=Europe/Ljubljana:20240408T173000
DTSTAMP:20260424T043747Z
UID:fs-AFLABS-URNIK:srecanje:9166-2024-04-08 15:30:00+02:00
DESCRIPTION:Predmet: Maziva in mazanje (MZMP)\, Laboratorijske vaje (VL)\,
  [S3]\nLetniki: Konstruiranje strojev in naprav (PAP-2)\nIzvajalci: Lucija
  Čoga\, Petra Jan\, Urban Klanjšček\, Mark Kuzman\, Marko Polajnar\, To
 maž Požar\, Anastasia Samodurova\, Jožica Sterle\nProstor: Laboratorij 
 TINT TiNT 2
END:VEVENT
BEGIN:VEVENT
SUMMARY:Maziva in mazanje (MZMP)\, Laboratorijske vaje (VL)\, [S3]
DTSTART;TZID=Europe/Ljubljana:20240415T153000
DTEND;TZID=Europe/Ljubljana:20240415T173000
DTSTAMP:20260424T043747Z
UID:fs-AFLABS-URNIK:srecanje:9166-2024-04-15 15:30:00+02:00
DESCRIPTION:Predmet: Maziva in mazanje (MZMP)\, Laboratorijske vaje (VL)\,
  [S3]\nLetniki: Konstruiranje strojev in naprav (PAP-2)\nIzvajalci: Lucija
  Čoga\, Petra Jan\, Urban Klanjšček\, Mark Kuzman\, Marko Polajnar\, To
 maž Požar\, Anastasia Samodurova\, Jožica Sterle\nProstor: Laboratorij 
 TINT TiNT 2
END:VEVENT
BEGIN:VEVENT
SUMMARY:Maziva in mazanje (MZMP)\, Laboratorijske vaje (VL)\, [S3]
DTSTART;TZID=Europe/Ljubljana:20240506T153000
DTEND;TZID=Europe/Ljubljana:20240506T173000
DTSTAMP:20260424T043747Z
UID:fs-AFLABS-URNIK:srecanje:9166-2024-05-06 15:30:00+02:00
DESCRIPTION:Predmet: Maziva in mazanje (MZMP)\, Laboratorijske vaje (VL)\,
  [S3]\nLetniki: Konstruiranje strojev in naprav (PAP-2)\nIzvajalci: Lucija
  Čoga\, Petra Jan\, Urban Klanjšček\, Mark Kuzman\, Marko Polajnar\, To
 maž Požar\, Anastasia Samodurova\, Jožica Sterle\nProstor: Laboratorij 
 TINT TiNT 2
END:VEVENT
BEGIN:VEVENT
SUMMARY:Maziva in mazanje (MZMP)\, Laboratorijske vaje (VL)\, [S3]
DTSTART;TZID=Europe/Ljubljana:20240513T153000
DTEND;TZID=Europe/Ljubljana:20240513T173000
DTSTAMP:20260424T043747Z
UID:fs-AFLABS-URNIK:srecanje:9166-2024-05-13 15:30:00+02:00
DESCRIPTION:Predmet: Maziva in mazanje (MZMP)\, Laboratorijske vaje (VL)\,
  [S3]\nLetniki: Konstruiranje strojev in naprav (PAP-2)\nIzvajalci: Lucija
  Čoga\, Petra Jan\, Urban Klanjšček\, Mark Kuzman\, Marko Polajnar\, To
 maž Požar\, Anastasia Samodurova\, Jožica Sterle\nProstor: Laboratorij 
 TINT TiNT 2
END:VEVENT
BEGIN:VEVENT
SUMMARY:Maziva in mazanje (MZMP)\, Laboratorijske vaje (VL)\, [S4]
DTSTART;TZID=Europe/Ljubljana:20240305T133000
DTEND;TZID=Europe/Ljubljana:20240305T153000
DTSTAMP:20260424T043747Z
UID:fs-AFLABS-URNIK:srecanje:9168-2024-03-05 13:30:00+01:00
DESCRIPTION:Predmet: Maziva in mazanje (MZMP)\, Laboratorijske vaje (VL)\,
  [S4]\nLetniki: Konstruiranje strojev in naprav (PAP-2)\nIzvajalci: Mark K
 uzman\, Marko Polajnar\, Tomaž Požar\, Anastasia Samodurova\, Jožica St
 erle\nProstor: Laboratorij TINT TiNT 2
END:VEVENT
BEGIN:VEVENT
SUMMARY:Maziva in mazanje (MZMP)\, Laboratorijske vaje (VL)\, [S4]
DTSTART;TZID=Europe/Ljubljana:20240312T133000
DTEND;TZID=Europe/Ljubljana:20240312T153000
DTSTAMP:20260424T043747Z
UID:fs-AFLABS-URNIK:srecanje:9168-2024-03-12 13:30:00+01:00
DESCRIPTION:Predmet: Maziva in mazanje (MZMP)\, Laboratorijske vaje (VL)\,
  [S4]\nLetniki: Konstruiranje strojev in naprav (PAP-2)\nIzvajalci: Mark K
 uzman\, Marko Polajnar\, Tomaž Požar\, Anastasia Samodurova\, Jožica St
 erle\nProstor: Laboratorij TINT TiNT 2
END:VEVENT
BEGIN:VEVENT
SUMMARY:Maziva in mazanje (MZMP)\, Laboratorijske vaje (VL)\, [S4]
DTSTART;TZID=Europe/Ljubljana:20240326T133000
DTEND;TZID=Europe/Ljubljana:20240326T153000
DTSTAMP:20260424T043747Z
UID:fs-AFLABS-URNIK:srecanje:9168-2024-03-26 13:30:00+01:00
DESCRIPTION:Predmet: Maziva in mazanje (MZMP)\, Laboratorijske vaje (VL)\,
  [S4]\nLetniki: Konstruiranje strojev in naprav (PAP-2)\nIzvajalci: Mark K
 uzman\, Marko Polajnar\, Tomaž Požar\, Anastasia Samodurova\, Jožica St
 erle\nProstor: Laboratorij TINT TiNT 2
END:VEVENT
BEGIN:VEVENT
SUMMARY:Maziva in mazanje (MZMP)\, Laboratorijske vaje (VL)\, [S4]
DTSTART;TZID=Europe/Ljubljana:20240402T133000
DTEND;TZID=Europe/Ljubljana:20240402T153000
DTSTAMP:20260424T043747Z
UID:fs-AFLABS-URNIK:srecanje:9168-2024-04-02 13:30:00+02:00
DESCRIPTION:Predmet: Maziva in mazanje (MZMP)\, Laboratorijske vaje (VL)\,
  [S4]\nLetniki: Konstruiranje strojev in naprav (PAP-2)\nIzvajalci: Mark K
 uzman\, Marko Polajnar\, Tomaž Požar\, Anastasia Samodurova\, Jožica St
 erle\nProstor: Laboratorij TINT TiNT 2
END:VEVENT
BEGIN:VEVENT
SUMMARY:Maziva in mazanje (MZMP)\, Laboratorijske vaje (VL)\, [S4]
DTSTART;TZID=Europe/Ljubljana:20240409T133000
DTEND;TZID=Europe/Ljubljana:20240409T153000
DTSTAMP:20260424T043747Z
UID:fs-AFLABS-URNIK:srecanje:9168-2024-04-09 13:30:00+02:00
DESCRIPTION:Predmet: Maziva in mazanje (MZMP)\, Laboratorijske vaje (VL)\,
  [S4]\nLetniki: Konstruiranje strojev in naprav (PAP-2)\nIzvajalci: Mark K
 uzman\, Marko Polajnar\, Tomaž Požar\, Anastasia Samodurova\, Jožica St
 erle\nProstor: Laboratorij TINT TiNT 2
END:VEVENT
BEGIN:VEVENT
SUMMARY:Maziva in mazanje (MZMP)\, Laboratorijske vaje (VL)\, [S4]
DTSTART;TZID=Europe/Ljubljana:20240416T133000
DTEND;TZID=Europe/Ljubljana:20240416T153000
DTSTAMP:20260424T043747Z
UID:fs-AFLABS-URNIK:srecanje:9168-2024-04-16 13:30:00+02:00
DESCRIPTION:Predmet: Maziva in mazanje (MZMP)\, Laboratorijske vaje (VL)\,
  [S4]\nLetniki: Konstruiranje strojev in naprav (PAP-2)\nIzvajalci: Mark K
 uzman\, Marko Polajnar\, Tomaž Požar\, Anastasia Samodurova\, Jožica St
 erle\nProstor: Laboratorij TINT TiNT 2
END:VEVENT
BEGIN:VEVENT
SUMMARY:Maziva in mazanje (MZMP)\, Laboratorijske vaje (VL)\, [S4]
DTSTART;TZID=Europe/Ljubljana:20240507T133000
DTEND;TZID=Europe/Ljubljana:20240507T153000
DTSTAMP:20260424T043747Z
UID:fs-AFLABS-URNIK:srecanje:9168-2024-05-07 13:30:00+02:00
DESCRIPTION:Predmet: Maziva in mazanje (MZMP)\, Laboratorijske vaje (VL)\,
  [S4]\nLetniki: Konstruiranje strojev in naprav (PAP-2)\nIzvajalci: Mark K
 uzman\, Marko Polajnar\, Tomaž Požar\, Anastasia Samodurova\, Jožica St
 erle\nProstor: Laboratorij TINT TiNT 2
END:VEVENT
BEGIN:VEVENT
SUMMARY:Maziva in mazanje (MZMP)\, Laboratorijske vaje (VL)\, [S4]
DTSTART;TZID=Europe/Ljubljana:20240514T133000
DTEND;TZID=Europe/Ljubljana:20240514T153000
DTSTAMP:20260424T043747Z
UID:fs-AFLABS-URNIK:srecanje:9168-2024-05-14 13:30:00+02:00
DESCRIPTION:Predmet: Maziva in mazanje (MZMP)\, Laboratorijske vaje (VL)\,
  [S4]\nLetniki: Konstruiranje strojev in naprav (PAP-2)\nIzvajalci: Mark K
 uzman\, Marko Polajnar\, Tomaž Požar\, Anastasia Samodurova\, Jožica St
 erle\nProstor: Laboratorij TINT TiNT 2
END:VEVENT
END:VCALENDAR
