BEGIN:VCALENDAR
VERSION:2.0
PRODID:-//AFLabs urnik izvoz - fs//aflabs.si//SI
NAME:UL FS Urnik
X-WR-CALNAME:UL FS Urnik
DTSTAMP:20260425T110419Z
REFRESH-INTERVAL:PT1H
SOURCE:https://urnik.fs.uni-lj.si/teacher/1025/?day=2024-05-20&export=1
URL:https://urnik.fs.uni-lj.si/teacher/1025/?day=2024-05-20&export=1
X-PUBLISHED-TTL:PT1H
X-WR-TIMEZONE:Europe/Ljubljana
BEGIN:VTIMEZONE
TZID:Europe/Ljubljana
BEGIN:DAYLIGHT
DTSTART:20260329T020000
RDATE:20260329T020000
RDATE:20270328T020000
TZNAME:CEST
TZOFFSETFROM:+0100
TZOFFSETTO:+0200
END:DAYLIGHT
BEGIN:STANDARD
DTSTART:20261025T030000
RDATE:20261025T030000
RDATE:20271031T030000
TZNAME:CET
TZOFFSETFROM:+0200
TZOFFSETTO:+0100
END:STANDARD
END:VTIMEZONE
BEGIN:VEVENT
SUMMARY:Sestanek LAHDE
DTSTART;TZID=Europe/Ljubljana:20240425T093000
DTEND;TZID=Europe/Ljubljana:20240425T133000
DTSTAMP:20260425T110419Z
UID:fs-AFLABS-URNIK:rezervacija:4770
CATEGORIES:Reservation
COLOR:royalblue
DESCRIPTION:Predmeti: \nLetniki: \nIzvajalci: Nika Nežič\nProstori: Mala
  sejna soba
LOCATION:Mala sejna soba
ORGANIZER:Nika Nežič
X-WR-TIMEZONE:Europe/Ljubljana
END:VEVENT
BEGIN:VEVENT
SUMMARY:Sestanek LAHDE
DTSTART;TZID=Europe/Ljubljana:20240508T120000
DTEND;TZID=Europe/Ljubljana:20240508T140000
DTSTAMP:20260425T110419Z
UID:fs-AFLABS-URNIK:rezervacija:4866
CATEGORIES:Reservation
COLOR:royalblue
DESCRIPTION:Predmeti: \nLetniki: \nIzvajalci: Nika Nežič\nProstori: Pred
 avalnica III/3B
LOCATION:Predavalnica III/3B
ORGANIZER:Nika Nežič
X-WR-TIMEZONE:Europe/Ljubljana
END:VEVENT
BEGIN:VEVENT
SUMMARY:sestanek LAHDE
DTSTART;TZID=Europe/Ljubljana:20240423T090000
DTEND;TZID=Europe/Ljubljana:20240423T130000
DTSTAMP:20260425T110419Z
UID:fs-AFLABS-URNIK:rezervacija:4527
CATEGORIES:Reservation
COLOR:royalblue
DESCRIPTION:Predmeti: \nLetniki: \nIzvajalci: Nika Nežič\nProstori: Mala
  sejna soba
LOCATION:Mala sejna soba
ORGANIZER:Nika Nežič
X-WR-TIMEZONE:Europe/Ljubljana
END:VEVENT
BEGIN:VEVENT
SUMMARY:sestanek LAHDE
DTSTART;TZID=Europe/Ljubljana:20240419T150000
DTEND;TZID=Europe/Ljubljana:20240419T160000
DTSTAMP:20260425T110419Z
UID:fs-AFLABS-URNIK:rezervacija:4054
CATEGORIES:Reservation
COLOR:royalblue
DESCRIPTION:Predmeti: \nLetniki: \nIzvajalci: Nika Nežič\nProstori: Mala
  sejna soba
LOCATION:Mala sejna soba
ORGANIZER:Nika Nežič
X-WR-TIMEZONE:Europe/Ljubljana
END:VEVENT
BEGIN:VEVENT
SUMMARY:sestanek LAHDE
DTSTART;TZID=Europe/Ljubljana:20240515T110000
DTEND;TZID=Europe/Ljubljana:20240515T123000
DTSTAMP:20260425T110419Z
UID:fs-AFLABS-URNIK:rezervacija:4814
CATEGORIES:Reservation
COLOR:royalblue
DESCRIPTION:Predmeti: \nLetniki: \nIzvajalci: Nika Nežič\nProstori: Mala
  sejna soba
LOCATION:Mala sejna soba
ORGANIZER:Nika Nežič
X-WR-TIMEZONE:Europe/Ljubljana
END:VEVENT
BEGIN:VEVENT
SUMMARY:Sestanek LAHDE
DTSTART;TZID=Europe/Ljubljana:20240312T090000
DTEND;TZID=Europe/Ljubljana:20240312T110000
DTSTAMP:20260425T110419Z
UID:fs-AFLABS-URNIK:rezervacija:4501
CATEGORIES:Reservation
COLOR:royalblue
DESCRIPTION:Predmeti: \nLetniki: \nIzvajalci: Nika Nežič\nProstori: Mala
  sejna soba
LOCATION:Mala sejna soba
ORGANIZER:Nika Nežič
X-WR-TIMEZONE:Europe/Ljubljana
END:VEVENT
BEGIN:VEVENT
SUMMARY:sestanek LAHDE
DTSTART;TZID=Europe/Ljubljana:20240430T093000
DTEND;TZID=Europe/Ljubljana:20240430T103000
DTSTAMP:20260425T110419Z
UID:fs-AFLABS-URNIK:rezervacija:3489
CATEGORIES:Reservation
COLOR:royalblue
DESCRIPTION:Predmeti: \nLetniki: \nIzvajalci: Nika Nežič\nProstori: Mala
  sejna soba
LOCATION:Mala sejna soba
ORGANIZER:Nika Nežič
X-WR-TIMEZONE:Europe/Ljubljana
END:VEVENT
BEGIN:VEVENT
SUMMARY:sestanek LAHDE
DTSTART;TZID=Europe/Ljubljana:20240409T090000
DTEND;TZID=Europe/Ljubljana:20240409T110000
DTSTAMP:20260425T110419Z
UID:fs-AFLABS-URNIK:rezervacija:4620
CATEGORIES:Reservation
COLOR:royalblue
DESCRIPTION:Predmeti: \nLetniki: \nIzvajalci: Nika Nežič\nProstori: Mala
  sejna soba
LOCATION:Mala sejna soba
ORGANIZER:Nika Nežič
X-WR-TIMEZONE:Europe/Ljubljana
END:VEVENT
BEGIN:VEVENT
SUMMARY:Sestanek LAHDE
DTSTART;TZID=Europe/Ljubljana:20240430T103000
DTEND;TZID=Europe/Ljubljana:20240430T120000
DTSTAMP:20260425T110419Z
UID:fs-AFLABS-URNIK:rezervacija:4892
CATEGORIES:Reservation
COLOR:royalblue
DESCRIPTION:Predmeti: \nLetniki: \nIzvajalci: Nika Nežič\nProstori: Mala
  sejna soba
LOCATION:Mala sejna soba
ORGANIZER:Nika Nežič
X-WR-TIMEZONE:Europe/Ljubljana
END:VEVENT
BEGIN:VEVENT
SUMMARY:Sestanek LAHDE
DTSTART;TZID=Europe/Ljubljana:20240423T130000
DTEND;TZID=Europe/Ljubljana:20240423T140000
DTSTAMP:20260425T110419Z
UID:fs-AFLABS-URNIK:rezervacija:3504
CATEGORIES:Reservation
COLOR:royalblue
DESCRIPTION:Predmeti: \nLetniki: \nIzvajalci: Nika Nežič\nProstori: Mala
  sejna soba
LOCATION:Mala sejna soba
ORGANIZER:Nika Nežič
X-WR-TIMEZONE:Europe/Ljubljana
END:VEVENT
END:VCALENDAR
