BEGIN:VCALENDAR
VERSION:2.0
PRODID:-//AFLabs urnik izvoz - fs//aflabs.si//SI
NAME:UL FS Urnik
X-WR-CALNAME:UL FS Urnik
DTSTAMP:20260420T233010Z
REFRESH-INTERVAL:PT1H
SOURCE:https://urnik.fs.uni-lj.si/teacher/1028/?day=2024-02-12&export=1
URL:https://urnik.fs.uni-lj.si/teacher/1028/?day=2024-02-12&export=1
X-PUBLISHED-TTL:PT1H
X-WR-TIMEZONE:Europe/Ljubljana
BEGIN:VTIMEZONE
TZID:Europe/Ljubljana
BEGIN:DAYLIGHT
DTSTART:20260329T020000
RDATE:20260329T020000
RDATE:20270328T020000
TZNAME:CEST
TZOFFSETFROM:+0100
TZOFFSETTO:+0200
END:DAYLIGHT
BEGIN:STANDARD
DTSTART:20261025T030000
RDATE:20261025T030000
RDATE:20271031T030000
TZNAME:CET
TZOFFSETFROM:+0200
TZOFFSETTO:+0100
END:STANDARD
END:VTIMEZONE
BEGIN:VEVENT
SUMMARY:Stavbna fizika in notranje okolje (SFNP)\, Laboratorijske vaje (VL
 )\, [S1]
DTSTART;TZID=Europe/Ljubljana:20240228T113000
DTEND;TZID=Europe/Ljubljana:20240228T133000
DTSTAMP:20260420T233010Z
UID:fs-AFLABS-URNIK:srecanje:9169-2024-02-28 11:30:00+01:00
DESCRIPTION:Predmet: Stavbna fizika in notranje okolje (SFNP)\, Laboratori
 jske vaje (VL)\, [S1]\nLetniki: Procesno strojništvo (PAP-2)\nIzvajalci: 
 Ciril Arkar\, Suzana Domjan\, Lucija Gruden\, Urška Mlakar\, Primož Pore
 doš\, Eva Zavrl\nProstor: Laboratorij LOTZ DS-N3
END:VEVENT
BEGIN:VEVENT
SUMMARY:Stavbna fizika in notranje okolje (SFNP)\, Laboratorijske vaje (VL
 )\, [S1]
DTSTART;TZID=Europe/Ljubljana:20240313T113000
DTEND;TZID=Europe/Ljubljana:20240313T133000
DTSTAMP:20260420T233010Z
UID:fs-AFLABS-URNIK:srecanje:9169-2024-03-13 11:30:00+01:00
DESCRIPTION:Predmet: Stavbna fizika in notranje okolje (SFNP)\, Laboratori
 jske vaje (VL)\, [S1]\nLetniki: Procesno strojništvo (PAP-2)\nIzvajalci: 
 Ciril Arkar\, Suzana Domjan\, Lucija Gruden\, Urška Mlakar\, Primož Pore
 doš\, Eva Zavrl\nProstor: Laboratorij LOTZ DS-N3
END:VEVENT
BEGIN:VEVENT
SUMMARY:Stavbna fizika in notranje okolje (SFNP)\, Laboratorijske vaje (VL
 )\, [S2]
DTSTART;TZID=Europe/Ljubljana:20240228T153000
DTEND;TZID=Europe/Ljubljana:20240228T173000
DTSTAMP:20260420T233010Z
UID:fs-AFLABS-URNIK:srecanje:9170-2024-02-28 15:30:00+01:00
DESCRIPTION:Predmet: Stavbna fizika in notranje okolje (SFNP)\, Laboratori
 jske vaje (VL)\, [S2]\nLetniki: Procesno strojništvo (PAP-2)\nIzvajalci: 
 Ciril Arkar\, Suzana Domjan\, Lucija Gruden\, Urška Mlakar\, Primož Pore
 doš\, Eva Zavrl\nProstor: Laboratorij LOTZ DS-N3
END:VEVENT
BEGIN:VEVENT
SUMMARY:Stavbna fizika in notranje okolje (SFNP)\, Laboratorijske vaje (VL
 )\, [S2]
DTSTART;TZID=Europe/Ljubljana:20240313T153000
DTEND;TZID=Europe/Ljubljana:20240313T173000
DTSTAMP:20260420T233010Z
UID:fs-AFLABS-URNIK:srecanje:9170-2024-03-13 15:30:00+01:00
DESCRIPTION:Predmet: Stavbna fizika in notranje okolje (SFNP)\, Laboratori
 jske vaje (VL)\, [S2]\nLetniki: Procesno strojništvo (PAP-2)\nIzvajalci: 
 Ciril Arkar\, Suzana Domjan\, Lucija Gruden\, Urška Mlakar\, Primož Pore
 doš\, Eva Zavrl\nProstor: Laboratorij LOTZ DS-N3
END:VEVENT
END:VCALENDAR
