BEGIN:VCALENDAR
VERSION:2.0
PRODID:-//AFLabs urnik izvoz - fs//aflabs.si//SI
NAME:UL FS Urnik
X-WR-CALNAME:UL FS Urnik
DTSTAMP:20260425T145758Z
REFRESH-INTERVAL:PT1H
SOURCE:https://urnik.fs.uni-lj.si/teacher/1035/?day=2025-10-20&export=1
URL:https://urnik.fs.uni-lj.si/teacher/1035/?day=2025-10-20&export=1
X-PUBLISHED-TTL:PT1H
X-WR-TIMEZONE:Europe/Ljubljana
BEGIN:VTIMEZONE
TZID:Europe/Ljubljana
BEGIN:DAYLIGHT
DTSTART:20260329T020000
RDATE:20260329T020000
RDATE:20270328T020000
TZNAME:CEST
TZOFFSETFROM:+0100
TZOFFSETTO:+0200
END:DAYLIGHT
BEGIN:STANDARD
DTSTART:20261025T030000
RDATE:20261025T030000
RDATE:20271031T030000
TZNAME:CET
TZOFFSETFROM:+0200
TZOFFSETTO:+0100
END:STANDARD
END:VTIMEZONE
BEGIN:VEVENT
SUMMARY:Sestanek Gostiša
DTSTART;TZID=Europe/Ljubljana:20251007T120000
DTEND;TZID=Europe/Ljubljana:20251007T133000
DTSTAMP:20260425T145758Z
UID:fs-AFLABS-URNIK:rezervacija:11180
CATEGORIES:Reservation
COLOR:royalblue
DESCRIPTION:Predmeti: \nLetniki: \nIzvajalci: Jurij Gostiša\nProstori: Ma
 la sejna soba
LOCATION:Mala sejna soba
ORGANIZER:Jurij Gostiša
X-WR-TIMEZONE:Europe/Ljubljana
END:VEVENT
BEGIN:VEVENT
SUMMARY:sestanek LVTS/LAHDE
DTSTART;TZID=Europe/Ljubljana:20251009T113000
DTEND;TZID=Europe/Ljubljana:20251009T120000
DTSTAMP:20260425T145758Z
UID:fs-AFLABS-URNIK:rezervacija:11197
CATEGORIES:Reservation
COLOR:royalblue
DESCRIPTION:Predmeti: \nLetniki: \nIzvajalci: Jurij Gostiša\nProstori: Ma
 la sejna soba
LOCATION:Mala sejna soba
ORGANIZER:Jurij Gostiša
X-WR-TIMEZONE:Europe/Ljubljana
END:VEVENT
BEGIN:VEVENT
SUMMARY:LVTS sestanek
DTSTART;TZID=Europe/Ljubljana:20251010T103000
DTEND;TZID=Europe/Ljubljana:20251010T113000
DTSTAMP:20260425T145758Z
UID:fs-AFLABS-URNIK:rezervacija:11206
CATEGORIES:Reservation
COLOR:royalblue
DESCRIPTION:Predmeti: \nLetniki: \nIzvajalci: Matevž Dular\, Jurij Gosti
 ša\, Martin Petkovšek\nProstori: Mala sejna soba
LOCATION:Mala sejna soba
ORGANIZER:Matevž Dular, Jurij Gostiša, Martin Petkovšek
X-WR-TIMEZONE:Europe/Ljubljana
END:VEVENT
BEGIN:VEVENT
SUMMARY:LVTS sestanek
DTSTART;TZID=Europe/Ljubljana:20251020T123000
DTEND;TZID=Europe/Ljubljana:20251020T143000
DTSTAMP:20260425T145758Z
UID:fs-AFLABS-URNIK:rezervacija:11323
CATEGORIES:Reservation
COLOR:royalblue
DESCRIPTION:Predmeti: \nLetniki: \nIzvajalci: Matevž Dular\, Jurij Gosti
 ša\, Marko Hočevar\, Martin Petkovšek\nProstori: Mala sejna soba
LOCATION:Mala sejna soba
ORGANIZER:Matevž Dular, Jurij Gostiša, Marko Hočevar, Martin Petkovšek
X-WR-TIMEZONE:Europe/Ljubljana
END:VEVENT
BEGIN:VEVENT
SUMMARY:lvts sestanek
DTSTART;TZID=Europe/Ljubljana:20251020T110000
DTEND;TZID=Europe/Ljubljana:20251020T133000
DTSTAMP:20260425T145758Z
UID:fs-AFLABS-URNIK:rezervacija:11325
CATEGORIES:Reservation
COLOR:royalblue
DESCRIPTION:Predmeti: \nLetniki: \nIzvajalci: Matevž Dular\, Jurij Gosti
 ša\, Marko Hočevar\, Martin Petkovšek\nProstori: Predavalnica III/3B
LOCATION:Predavalnica III/3B
ORGANIZER:Matevž Dular, Jurij Gostiša, Marko Hočevar, Martin Petkovšek
X-WR-TIMEZONE:Europe/Ljubljana
END:VEVENT
END:VCALENDAR
