BEGIN:VCALENDAR
VERSION:2.0
PRODID:-//AFLabs urnik izvoz - fs//aflabs.si//SI
NAME:UL FS Urnik
X-WR-CALNAME:UL FS Urnik
DTSTAMP:20260425T181947Z
REFRESH-INTERVAL:PT1H
SOURCE:https://urnik.fs.uni-lj.si/teacher/1056/?day=2025-09-08&export=1
URL:https://urnik.fs.uni-lj.si/teacher/1056/?day=2025-09-08&export=1
X-PUBLISHED-TTL:PT1H
X-WR-TIMEZONE:Europe/Ljubljana
BEGIN:VTIMEZONE
TZID:Europe/Ljubljana
BEGIN:DAYLIGHT
DTSTART:20260329T020000
RDATE:20260329T020000
RDATE:20270328T020000
TZNAME:CEST
TZOFFSETFROM:+0100
TZOFFSETTO:+0200
END:DAYLIGHT
BEGIN:STANDARD
DTSTART:20261025T030000
RDATE:20261025T030000
RDATE:20271031T030000
TZNAME:CET
TZOFFSETFROM:+0200
TZOFFSETTO:+0100
END:STANDARD
END:VTIMEZONE
BEGIN:VEVENT
SUMMARY:Konstruiranje letal 2 (KL2P)\, Predavalniške vaje (VP)\, [S1]
DTSTART;TZID=Europe/Ljubljana:20251001T100000
DTEND;TZID=Europe/Ljubljana:20251001T120000
DTSTAMP:20260425T181947Z
UID:fs-AFLABS-URNIK:srecanje:17449-2025-10-01 10:00:00+02:00
DESCRIPTION:Predmet: Konstruiranje letal 2 (KL2P)\, Predavalniške vaje (V
 P)\, [S1]\nLetniki: Snovanje in vzdrževanje letal (PAP-3)\nIzvajalci: Ale
 ksej Majkić\, Peter Pipp\nProstor: Predavalnica IV/3A
END:VEVENT
BEGIN:VEVENT
SUMMARY:Konstruiranje letal 2 (KL2P)\, Predavalniške vaje (VP)\, [S1]
DTSTART;TZID=Europe/Ljubljana:20251008T100000
DTEND;TZID=Europe/Ljubljana:20251008T120000
DTSTAMP:20260425T181947Z
UID:fs-AFLABS-URNIK:srecanje:17449-2025-10-08 10:00:00+02:00
DESCRIPTION:Predmet: Konstruiranje letal 2 (KL2P)\, Predavalniške vaje (V
 P)\, [S1]\nLetniki: Snovanje in vzdrževanje letal (PAP-3)\nIzvajalci: Ale
 ksej Majkić\, Peter Pipp\nProstor: Predavalnica IV/3A
END:VEVENT
BEGIN:VEVENT
SUMMARY:Sistemi na letalu (SNLP)\, Laboratorijske vaje (VL)\, [S1]
DTSTART;TZID=Europe/Ljubljana:20251009T113000
DTEND;TZID=Europe/Ljubljana:20251009T133000
DTSTAMP:20260425T181947Z
UID:fs-AFLABS-URNIK:srecanje:16632-2025-10-09 11:30:00+02:00
DESCRIPTION:Predmet: Sistemi na letalu (SNLP)\, Laboratorijske vaje (VL)\,
  [S1]\nLetniki: Prometni pilot letala/helikopterja (PAP-3)\, Snovanje in v
 zdrževanje letal (PAP-3)\nIzvajalci: Aleksej Majkić\, Peter Pipp\nProsto
 r: Laboratorij AEROL 809
END:VEVENT
BEGIN:VEVENT
SUMMARY:Sistemi na letalu (SNLP)\, Laboratorijske vaje (VL)\, [S2]
DTSTART;TZID=Europe/Ljubljana:20251009T133000
DTEND;TZID=Europe/Ljubljana:20251009T153000
DTSTAMP:20260425T181947Z
UID:fs-AFLABS-URNIK:srecanje:16634-2025-10-09 13:30:00+02:00
DESCRIPTION:Predmet: Sistemi na letalu (SNLP)\, Laboratorijske vaje (VL)\,
  [S2]\nLetniki: Prometni pilot letala/helikopterja (PAP-3)\, Snovanje in v
 zdrževanje letal (PAP-3)\nIzvajalci: Aleksej Majkić\, Peter Pipp\nProsto
 r: Laboratorij AEROL 809
END:VEVENT
BEGIN:VEVENT
SUMMARY:Sistemi na letalu (SNLP)\, Laboratorijske vaje (VL)\, [S3]
DTSTART;TZID=Europe/Ljubljana:20251010T093000
DTEND;TZID=Europe/Ljubljana:20251010T113000
DTSTAMP:20260425T181947Z
UID:fs-AFLABS-URNIK:srecanje:16635-2025-10-10 09:30:00+02:00
DESCRIPTION:Predmet: Sistemi na letalu (SNLP)\, Laboratorijske vaje (VL)\,
  [S3]\nLetniki: Prometni pilot letala/helikopterja (PAP-3)\, Snovanje in v
 zdrževanje letal (PAP-3)\nIzvajalci: Aleksej Majkić\, Peter Pipp\nProsto
 r: Laboratorij AEROL 809
END:VEVENT
BEGIN:VEVENT
SUMMARY:Sistemi na letalu (SNLP)\, Laboratorijske vaje (VL)\, [S4]
DTSTART;TZID=Europe/Ljubljana:20251010T113000
DTEND;TZID=Europe/Ljubljana:20251010T133000
DTSTAMP:20260425T181947Z
UID:fs-AFLABS-URNIK:srecanje:16636-2025-10-10 11:30:00+02:00
DESCRIPTION:Predmet: Sistemi na letalu (SNLP)\, Laboratorijske vaje (VL)\,
  [S4]\nLetniki: Prometni pilot letala/helikopterja (PAP-3)\, Snovanje in v
 zdrževanje letal (PAP-3)\nIzvajalci: Aleksej Majkić\, Peter Pipp\nProsto
 r: Laboratorij AEROL 809
END:VEVENT
END:VCALENDAR
