BEGIN:VCALENDAR
VERSION:2.0
PRODID:-//AFLabs urnik izvoz - fs//aflabs.si//SI
NAME:UL FS Urnik
X-WR-CALNAME:UL FS Urnik
DTSTAMP:20260421T001512Z
REFRESH-INTERVAL:PT1H
SOURCE:https://urnik.fs.uni-lj.si/teacher/1056/?day=2026-02-02&export=1
URL:https://urnik.fs.uni-lj.si/teacher/1056/?day=2026-02-02&export=1
X-PUBLISHED-TTL:PT1H
X-WR-TIMEZONE:Europe/Ljubljana
BEGIN:VTIMEZONE
TZID:Europe/Ljubljana
BEGIN:DAYLIGHT
DTSTART:20260329T020000
RDATE:20260329T020000
RDATE:20270328T020000
TZNAME:CEST
TZOFFSETFROM:+0100
TZOFFSETTO:+0200
END:DAYLIGHT
BEGIN:STANDARD
DTSTART:20261025T030000
RDATE:20261025T030000
RDATE:20271031T030000
TZNAME:CET
TZOFFSETFROM:+0200
TZOFFSETTO:+0100
END:STANDARD
END:VTIMEZONE
BEGIN:VEVENT
SUMMARY:Letalska navigacija 2 (LN2P)\, Predavalniške vaje (VP)\, [S1]
DTSTART;TZID=Europe/Ljubljana:20260217T143000
DTEND;TZID=Europe/Ljubljana:20260217T163000
DTSTAMP:20260421T001512Z
UID:fs-AFLABS-URNIK:srecanje:17452-2026-02-17 14:30:00+01:00
DESCRIPTION:Predmet: Letalska navigacija 2 (LN2P)\, Predavalniške vaje (V
 P)\, [S1]\nLetniki: Prometni pilot letala/helikopterja (PAP-3)\nIzvajalci:
  Aleksej Majkić\, Peter Pipp\nProstor: Predavalnica V/2
END:VEVENT
BEGIN:VEVENT
SUMMARY:Letalska navigacija 2 (LN2P)\, Predavalniške vaje (VP)\, [S1]
DTSTART;TZID=Europe/Ljubljana:20260224T143000
DTEND;TZID=Europe/Ljubljana:20260224T163000
DTSTAMP:20260421T001512Z
UID:fs-AFLABS-URNIK:srecanje:17452-2026-02-24 14:30:00+01:00
DESCRIPTION:Predmet: Letalska navigacija 2 (LN2P)\, Predavalniške vaje (V
 P)\, [S1]\nLetniki: Prometni pilot letala/helikopterja (PAP-3)\nIzvajalci:
  Aleksej Majkić\, Peter Pipp\nProstor: Predavalnica V/2
END:VEVENT
BEGIN:VEVENT
SUMMARY:Letalska navigacija 2 (LN2P)\, Predavalniške vaje (VP)\, [S1]
DTSTART;TZID=Europe/Ljubljana:20260303T143000
DTEND;TZID=Europe/Ljubljana:20260303T163000
DTSTAMP:20260421T001512Z
UID:fs-AFLABS-URNIK:srecanje:17452-2026-03-03 14:30:00+01:00
DESCRIPTION:Predmet: Letalska navigacija 2 (LN2P)\, Predavalniške vaje (V
 P)\, [S1]\nLetniki: Prometni pilot letala/helikopterja (PAP-3)\nIzvajalci:
  Aleksej Majkić\, Peter Pipp\nProstor: Predavalnica V/2
END:VEVENT
BEGIN:VEVENT
SUMMARY:Konstruiranje letal 1 (KL1P)\, Predavalniške vaje (VP)\, [S1]
DTSTART;TZID=Europe/Ljubljana:20260218T093000
DTEND;TZID=Europe/Ljubljana:20260218T113000
DTSTAMP:20260421T001512Z
UID:fs-AFLABS-URNIK:srecanje:16463-2026-02-18 09:30:00+01:00
DESCRIPTION:Predmet: Konstruiranje letal 1 (KL1P)\, Predavalniške vaje (V
 P)\, [S1]\nLetniki: Snovanje in vzdrževanje letal (PAP-2)\nIzvajalci: Ale
 ksej Majkić\nProstor: Predavalnica IV/3A
END:VEVENT
BEGIN:VEVENT
SUMMARY:Konstruiranje letal 1 (KL1P)\, Predavalniške vaje (VP)\, [S1]
DTSTART;TZID=Europe/Ljubljana:20260225T093000
DTEND;TZID=Europe/Ljubljana:20260225T113000
DTSTAMP:20260421T001512Z
UID:fs-AFLABS-URNIK:srecanje:16463-2026-02-25 09:30:00+01:00
DESCRIPTION:Predmet: Konstruiranje letal 1 (KL1P)\, Predavalniške vaje (V
 P)\, [S1]\nLetniki: Snovanje in vzdrževanje letal (PAP-2)\nIzvajalci: Ale
 ksej Majkić\nProstor: Predavalnica IV/3A
END:VEVENT
BEGIN:VEVENT
SUMMARY:Konstruiranje letal 1 (KL1P)\, Predavalniške vaje (VP)\, [S1]
DTSTART;TZID=Europe/Ljubljana:20260304T093000
DTEND;TZID=Europe/Ljubljana:20260304T113000
DTSTAMP:20260421T001512Z
UID:fs-AFLABS-URNIK:srecanje:16463-2026-03-04 09:30:00+01:00
DESCRIPTION:Predmet: Konstruiranje letal 1 (KL1P)\, Predavalniške vaje (V
 P)\, [S1]\nLetniki: Snovanje in vzdrževanje letal (PAP-2)\nIzvajalci: Ale
 ksej Majkić\nProstor: Predavalnica IV/3A
END:VEVENT
BEGIN:VEVENT
SUMMARY:izpit pri KL2: najprej T\, potem V
DTSTART;TZID=Europe/Ljubljana:20260128T100000
DTEND;TZID=Europe/Ljubljana:20260128T130000
DTSTAMP:20260421T001512Z
UID:fs-AFLABS-URNIK:rezervacija:13587
ATTENDEE:Snovanje in vzdrževanje letal (PAP-3)
CATEGORIES:Reservation
COLOR:royalblue
DESCRIPTION:Predmeti: Konstruiranje letal 2 (KL2P)\nLetniki: Snovanje in v
 zdrževanje letal (PAP-3)\nIzvajalci: Aleksej Majkić\nProstori: Predavaln
 ica IV/3A
LOCATION:Predavalnica IV/3A
ORGANIZER:Aleksej Majkić
X-WR-TIMEZONE:Europe/Ljubljana
END:VEVENT
BEGIN:VEVENT
SUMMARY:vaje KL 1
DTSTART;TZID=Europe/Ljubljana:20260226T080000
DTEND;TZID=Europe/Ljubljana:20260226T093000
DTSTAMP:20260421T001512Z
UID:fs-AFLABS-URNIK:rezervacija:13963
ATTENDEE:Snovanje in vzdrževanje letal (PAP-2)
CATEGORIES:Reservation
COLOR:royalblue
DESCRIPTION:Predmeti: Konstruiranje letal 1 (KL1P)\nLetniki: Snovanje in v
 zdrževanje letal (PAP-2)\nIzvajalci: Aleksej Majkić\nProstori: Predavaln
 ica IV/3A
LOCATION:Predavalnica IV/3A
ORGANIZER:Aleksej Majkić
X-WR-TIMEZONE:Europe/Ljubljana
END:VEVENT
END:VCALENDAR
