BEGIN:VCALENDAR
VERSION:2.0
PRODID:-//AFLabs urnik izvoz - fs//aflabs.si//SI
NAME:UL FS Urnik
X-WR-CALNAME:UL FS Urnik
DTSTAMP:20260425T143820Z
REFRESH-INTERVAL:PT1H
SOURCE:https://urnik.fs.uni-lj.si/teacher/1063/?day=2025-10-20&export=1
URL:https://urnik.fs.uni-lj.si/teacher/1063/?day=2025-10-20&export=1
X-PUBLISHED-TTL:PT1H
X-WR-TIMEZONE:Europe/Ljubljana
BEGIN:VTIMEZONE
TZID:Europe/Ljubljana
BEGIN:DAYLIGHT
DTSTART:20260329T020000
RDATE:20260329T020000
RDATE:20270328T020000
TZNAME:CEST
TZOFFSETFROM:+0100
TZOFFSETTO:+0200
END:DAYLIGHT
BEGIN:STANDARD
DTSTART:20261025T030000
RDATE:20261025T030000
RDATE:20271031T030000
TZNAME:CET
TZOFFSETFROM:+0200
TZOFFSETTO:+0100
END:STANDARD
END:VTIMEZONE
BEGIN:VEVENT
SUMMARY:Krmiljenje mehatronskih sistemov (KMSP)\, Laboratorijske vaje (VL)
 \, [S1]
DTSTART;TZID=Europe/Ljubljana:20251112T133000
DTEND;TZID=Europe/Ljubljana:20251112T153000
DTSTAMP:20260425T143820Z
UID:fs-AFLABS-URNIK:srecanje:17495-2025-11-12 13:30:00+01:00
DESCRIPTION:Predmet: Krmiljenje mehatronskih sistemov (KMSP)\, Laboratorij
 ske vaje (VL)\, [S1]\nLetniki: Mehatronika (PAP-3)\nIzvajalci: Martina Ben
 ko Loknar\, Tomaž Požrl\, Luka Selak\nProstor: Laboratorij LAMPA SP-45A
END:VEVENT
BEGIN:VEVENT
SUMMARY:Krmiljenje mehatronskih sistemov (KMSP)\, Laboratorijske vaje (VL)
 \, [S1]
DTSTART;TZID=Europe/Ljubljana:20251203T133000
DTEND;TZID=Europe/Ljubljana:20251203T153000
DTSTAMP:20260425T143820Z
UID:fs-AFLABS-URNIK:srecanje:17495-2025-12-03 13:30:00+01:00
DESCRIPTION:Predmet: Krmiljenje mehatronskih sistemov (KMSP)\, Laboratorij
 ske vaje (VL)\, [S1]\nLetniki: Mehatronika (PAP-3)\nIzvajalci: Martina Ben
 ko Loknar\, Tomaž Požrl\, Luka Selak\nProstor: Laboratorij LAMPA SP-45A
END:VEVENT
BEGIN:VEVENT
SUMMARY:Krmiljenje mehatronskih sistemov (KMSP)\, Laboratorijske vaje (VL)
 \, [S1]
DTSTART;TZID=Europe/Ljubljana:20251210T133000
DTEND;TZID=Europe/Ljubljana:20251210T153000
DTSTAMP:20260425T143820Z
UID:fs-AFLABS-URNIK:srecanje:17495-2025-12-10 13:30:00+01:00
DESCRIPTION:Predmet: Krmiljenje mehatronskih sistemov (KMSP)\, Laboratorij
 ske vaje (VL)\, [S1]\nLetniki: Mehatronika (PAP-3)\nIzvajalci: Martina Ben
 ko Loknar\, Tomaž Požrl\, Luka Selak\nProstor: Laboratorij LAMPA SP-45A
END:VEVENT
BEGIN:VEVENT
SUMMARY:Krmiljenje mehatronskih sistemov (KMSP)\, Laboratorijske vaje (VL)
 \, [S1]
DTSTART;TZID=Europe/Ljubljana:20251224T133000
DTEND;TZID=Europe/Ljubljana:20251224T153000
DTSTAMP:20260425T143820Z
UID:fs-AFLABS-URNIK:srecanje:17495-2025-12-24 13:30:00+01:00
DESCRIPTION:Predmet: Krmiljenje mehatronskih sistemov (KMSP)\, Laboratorij
 ske vaje (VL)\, [S1]\nLetniki: Mehatronika (PAP-3)\nIzvajalci: Martina Ben
 ko Loknar\, Tomaž Požrl\, Luka Selak\nProstor: Laboratorij LAMPA SP-45A
END:VEVENT
BEGIN:VEVENT
SUMMARY:Krmiljenje mehatronskih sistemov (KMSP)\, Laboratorijske vaje (VL)
 \, [S1]
DTSTART;TZID=Europe/Ljubljana:20260107T133000
DTEND;TZID=Europe/Ljubljana:20260107T153000
DTSTAMP:20260425T143820Z
UID:fs-AFLABS-URNIK:srecanje:17495-2026-01-07 13:30:00+01:00
DESCRIPTION:Predmet: Krmiljenje mehatronskih sistemov (KMSP)\, Laboratorij
 ske vaje (VL)\, [S1]\nLetniki: Mehatronika (PAP-3)\nIzvajalci: Martina Ben
 ko Loknar\, Tomaž Požrl\, Luka Selak\nProstor: Laboratorij LAMPA SP-45A
END:VEVENT
BEGIN:VEVENT
SUMMARY:Krmiljenje mehatronskih sistemov (KMSP)\, Laboratorijske vaje (VL)
 \, [S2]
DTSTART;TZID=Europe/Ljubljana:20251112T153000
DTEND;TZID=Europe/Ljubljana:20251112T173000
DTSTAMP:20260425T143820Z
UID:fs-AFLABS-URNIK:srecanje:17496-2025-11-12 15:30:00+01:00
DESCRIPTION:Predmet: Krmiljenje mehatronskih sistemov (KMSP)\, Laboratorij
 ske vaje (VL)\, [S2]\nLetniki: Mehatronika (PAP-3)\nIzvajalci: Martina Ben
 ko Loknar\, Tomaž Požrl\, Luka Selak\nProstor: Laboratorij LAMPA SP-45A
END:VEVENT
BEGIN:VEVENT
SUMMARY:Krmiljenje mehatronskih sistemov (KMSP)\, Laboratorijske vaje (VL)
 \, [S2]
DTSTART;TZID=Europe/Ljubljana:20251203T153000
DTEND;TZID=Europe/Ljubljana:20251203T173000
DTSTAMP:20260425T143820Z
UID:fs-AFLABS-URNIK:srecanje:17496-2025-12-03 15:30:00+01:00
DESCRIPTION:Predmet: Krmiljenje mehatronskih sistemov (KMSP)\, Laboratorij
 ske vaje (VL)\, [S2]\nLetniki: Mehatronika (PAP-3)\nIzvajalci: Martina Ben
 ko Loknar\, Tomaž Požrl\, Luka Selak\nProstor: Laboratorij LAMPA SP-45A
END:VEVENT
BEGIN:VEVENT
SUMMARY:Krmiljenje mehatronskih sistemov (KMSP)\, Laboratorijske vaje (VL)
 \, [S2]
DTSTART;TZID=Europe/Ljubljana:20251210T153000
DTEND;TZID=Europe/Ljubljana:20251210T173000
DTSTAMP:20260425T143820Z
UID:fs-AFLABS-URNIK:srecanje:17496-2025-12-10 15:30:00+01:00
DESCRIPTION:Predmet: Krmiljenje mehatronskih sistemov (KMSP)\, Laboratorij
 ske vaje (VL)\, [S2]\nLetniki: Mehatronika (PAP-3)\nIzvajalci: Martina Ben
 ko Loknar\, Tomaž Požrl\, Luka Selak\nProstor: Laboratorij LAMPA SP-45A
END:VEVENT
BEGIN:VEVENT
SUMMARY:Krmiljenje mehatronskih sistemov (KMSP)\, Laboratorijske vaje (VL)
 \, [S2]
DTSTART;TZID=Europe/Ljubljana:20251224T153000
DTEND;TZID=Europe/Ljubljana:20251224T173000
DTSTAMP:20260425T143820Z
UID:fs-AFLABS-URNIK:srecanje:17496-2025-12-24 15:30:00+01:00
DESCRIPTION:Predmet: Krmiljenje mehatronskih sistemov (KMSP)\, Laboratorij
 ske vaje (VL)\, [S2]\nLetniki: Mehatronika (PAP-3)\nIzvajalci: Martina Ben
 ko Loknar\, Tomaž Požrl\, Luka Selak\nProstor: Laboratorij LAMPA SP-45A
END:VEVENT
BEGIN:VEVENT
SUMMARY:Krmiljenje mehatronskih sistemov (KMSP)\, Laboratorijske vaje (VL)
 \, [S2]
DTSTART;TZID=Europe/Ljubljana:20260107T153000
DTEND;TZID=Europe/Ljubljana:20260107T173000
DTSTAMP:20260425T143820Z
UID:fs-AFLABS-URNIK:srecanje:17496-2026-01-07 15:30:00+01:00
DESCRIPTION:Predmet: Krmiljenje mehatronskih sistemov (KMSP)\, Laboratorij
 ske vaje (VL)\, [S2]\nLetniki: Mehatronika (PAP-3)\nIzvajalci: Martina Ben
 ko Loknar\, Tomaž Požrl\, Luka Selak\nProstor: Laboratorij LAMPA SP-45A
END:VEVENT
BEGIN:VEVENT
SUMMARY:Krmiljenje mehatronskih sistemov (KMSP)\, Laboratorijske vaje (VL)
 \, [S1]
DTSTART;TZID=Europe/Ljubljana:20251217T133000
DTEND;TZID=Europe/Ljubljana:20251217T153000
DTSTAMP:20260425T143820Z
UID:fs-AFLABS-URNIK:srecanje:17506-2025-12-17 13:30:00+01:00
DESCRIPTION:Predmet: Krmiljenje mehatronskih sistemov (KMSP)\, Laboratorij
 ske vaje (VL)\, [S1]\nLetniki: Mehatronika (PAP-3)\nIzvajalci: Martina Ben
 ko Loknar\, Tomaž Požrl\, Luka Selak\nProstor: Laboratorij LAMPA SP-45
END:VEVENT
BEGIN:VEVENT
SUMMARY:Krmiljenje mehatronskih sistemov (KMSP)\, Laboratorijske vaje (VL)
 \, [S2]
DTSTART;TZID=Europe/Ljubljana:20251217T153000
DTEND;TZID=Europe/Ljubljana:20251217T173000
DTSTAMP:20260425T143820Z
UID:fs-AFLABS-URNIK:srecanje:17507-2025-12-17 15:30:00+01:00
DESCRIPTION:Predmet: Krmiljenje mehatronskih sistemov (KMSP)\, Laboratorij
 ske vaje (VL)\, [S2]\nLetniki: Mehatronika (PAP-3)\nIzvajalci: Martina Ben
 ko Loknar\, Tomaž Požrl\, Luka Selak\nProstor: Laboratorij LAMPA SP-45
END:VEVENT
END:VCALENDAR
