BEGIN:VCALENDAR
VERSION:2.0
PRODID:-//AFLabs urnik izvoz - fs//aflabs.si//SI
NAME:UL FS Urnik
X-WR-CALNAME:UL FS Urnik
DTSTAMP:20260421T023506Z
REFRESH-INTERVAL:PT1H
SOURCE:https://urnik.fs.uni-lj.si/teacher/634/?day=2023-09-04&export=1
URL:https://urnik.fs.uni-lj.si/teacher/634/?day=2023-09-04&export=1
X-PUBLISHED-TTL:PT1H
X-WR-TIMEZONE:Europe/Ljubljana
BEGIN:VTIMEZONE
TZID:Europe/Ljubljana
BEGIN:DAYLIGHT
DTSTART:20260329T020000
RDATE:20260329T020000
RDATE:20270328T020000
TZNAME:CEST
TZOFFSETFROM:+0100
TZOFFSETTO:+0200
END:DAYLIGHT
BEGIN:STANDARD
DTSTART:20261025T030000
RDATE:20261025T030000
RDATE:20271031T030000
TZNAME:CET
TZOFFSETFROM:+0200
TZOFFSETTO:+0100
END:STANDARD
END:VTIMEZONE
BEGIN:VEVENT
SUMMARY:Kovinski materiali - PAP (KVMP)\, Predavalniške vaje (VP)\, [S2]
DTSTART;TZID=Europe/Ljubljana:20231002T073000
DTEND;TZID=Europe/Ljubljana:20231002T093000
DTSTAMP:20260421T023506Z
UID:fs-AFLABS-URNIK:srecanje:2259-2023-10-02 07:30:00+02:00
DESCRIPTION:Predmet: Kovinski materiali - PAP (KVMP)\, Predavalniške vaje
  (VP)\, [S2]\nLetniki: PAP-1 (PAP-1)\nIzvajalci: Zoran Bergant\, Tomaž Ke
 k\, Sebastjan Žagar\nProstor: Predavalnica IV/2
END:VEVENT
BEGIN:VEVENT
SUMMARY:Kovinski materiali - PAP (KVMP)\, Predavalniške vaje (VP)\, [S2]
DTSTART;TZID=Europe/Ljubljana:20231009T073000
DTEND;TZID=Europe/Ljubljana:20231009T093000
DTSTAMP:20260421T023506Z
UID:fs-AFLABS-URNIK:srecanje:2259-2023-10-09 07:30:00+02:00
DESCRIPTION:Predmet: Kovinski materiali - PAP (KVMP)\, Predavalniške vaje
  (VP)\, [S2]\nLetniki: PAP-1 (PAP-1)\nIzvajalci: Zoran Bergant\, Tomaž Ke
 k\, Sebastjan Žagar\nProstor: Predavalnica IV/2
END:VEVENT
BEGIN:VEVENT
SUMMARY:Kovinski materiali - PAP (KVMP)\, Predavalniške vaje (VP)\, [S1]
DTSTART;TZID=Europe/Ljubljana:20231004T133000
DTEND;TZID=Europe/Ljubljana:20231004T153000
DTSTAMP:20260421T023506Z
UID:fs-AFLABS-URNIK:srecanje:2258-2023-10-04 13:30:00+02:00
DESCRIPTION:Predmet: Kovinski materiali - PAP (KVMP)\, Predavalniške vaje
  (VP)\, [S1]\nLetniki: PAP-1 (PAP-1)\nIzvajalci: Zoran Bergant\, Tomaž Ke
 k\, Sebastjan Žagar\nProstor: Predavalnica IV/2
END:VEVENT
BEGIN:VEVENT
SUMMARY:Toplotna obdelava (TPOM)\, Predavalniške vaje (VP)
DTSTART;TZID=Europe/Ljubljana:20231005T160000
DTEND;TZID=Europe/Ljubljana:20231005T180000
DTSTAMP:20260421T023506Z
UID:fs-AFLABS-URNIK:srecanje:2614-2023-10-05 16:00:00+02:00
DESCRIPTION:Predmet: Toplotna obdelava (TPOM)\, Predavalniške vaje (VP)\n
 Letniki: Proizvodno strojništvo (MAG-1)\nIzvajalci: Zoran Bergant\, Toma
 ž Kek\, Sebastjan Žagar\nProstor: Predavalnica III/4
END:VEVENT
BEGIN:VEVENT
SUMMARY:Načrtovanje toplotne obdelave (NTOP)\, Predavalniške vaje (VP)
DTSTART;TZID=Europe/Ljubljana:20231005T173000
DTEND;TZID=Europe/Ljubljana:20231005T193000
DTSTAMP:20260421T023506Z
UID:fs-AFLABS-URNIK:srecanje:4440-2023-10-05 17:30:00+02:00
DESCRIPTION:Predmet: Načrtovanje toplotne obdelave (NTOP)\, Predavalnišk
 e vaje (VP)\nLetniki: Proizvodne tehnologije (PAP-3)\nIzvajalci: Zoran Ber
 gant\, Tomaž Kek\, Sebastjan Žagar\nProstor: Predavalnica III/3A
END:VEVENT
END:VCALENDAR
