BEGIN:VCALENDAR
VERSION:2.0
PRODID:-//AFLabs urnik izvoz - fs//aflabs.si//SI
NAME:UL FS Urnik
X-WR-CALNAME:UL FS Urnik
DTSTAMP:20260424T210047Z
REFRESH-INTERVAL:PT1H
SOURCE:https://urnik.fs.uni-lj.si/teacher/635/?day=2023-11-20&export=1
URL:https://urnik.fs.uni-lj.si/teacher/635/?day=2023-11-20&export=1
X-PUBLISHED-TTL:PT1H
X-WR-TIMEZONE:Europe/Ljubljana
BEGIN:VTIMEZONE
TZID:Europe/Ljubljana
BEGIN:DAYLIGHT
DTSTART:20260329T020000
RDATE:20260329T020000
RDATE:20270328T020000
TZNAME:CEST
TZOFFSETFROM:+0100
TZOFFSETTO:+0200
END:DAYLIGHT
BEGIN:STANDARD
DTSTART:20261025T030000
RDATE:20261025T030000
RDATE:20271031T030000
TZNAME:CET
TZOFFSETFROM:+0200
TZOFFSETTO:+0100
END:STANDARD
END:VTIMEZONE
BEGIN:VEVENT
SUMMARY:Vodenje proizvodnje (VDPP)\, Predavanja (P)
DTSTART;TZID=Europe/Ljubljana:20231004T073000
DTEND;TZID=Europe/Ljubljana:20231004T093000
DTSTAMP:20260424T210047Z
UID:fs-AFLABS-URNIK:srecanje:4100-2023-10-04 07:30:00+02:00
DESCRIPTION:Predmet: Vodenje proizvodnje (VDPP)\, Predavanja (P)\nLetniki:
  Industrijsko inženirstvo (PAP-3)\nIzvajalci: Tomaž Berlec\nProstor: Pre
 davalnica II/3A
END:VEVENT
BEGIN:VEVENT
SUMMARY:Vodenje proizvodnje (VDPP)\, Predavanja (P)
DTSTART;TZID=Europe/Ljubljana:20231011T073000
DTEND;TZID=Europe/Ljubljana:20231011T093000
DTSTAMP:20260424T210047Z
UID:fs-AFLABS-URNIK:srecanje:4100-2023-10-11 07:30:00+02:00
DESCRIPTION:Predmet: Vodenje proizvodnje (VDPP)\, Predavanja (P)\nLetniki:
  Industrijsko inženirstvo (PAP-3)\nIzvajalci: Tomaž Berlec\nProstor: Pre
 davalnica II/3A
END:VEVENT
BEGIN:VEVENT
SUMMARY:Vodenje proizvodnje (VDPP)\, Predavanja (P)
DTSTART;TZID=Europe/Ljubljana:20231018T073000
DTEND;TZID=Europe/Ljubljana:20231018T093000
DTSTAMP:20260424T210047Z
UID:fs-AFLABS-URNIK:srecanje:4100-2023-10-18 07:30:00+02:00
DESCRIPTION:Predmet: Vodenje proizvodnje (VDPP)\, Predavanja (P)\nLetniki:
  Industrijsko inženirstvo (PAP-3)\nIzvajalci: Tomaž Berlec\nProstor: Pre
 davalnica II/3A
END:VEVENT
BEGIN:VEVENT
SUMMARY:Vodenje proizvodnje (VDPP)\, Predavanja (P)
DTSTART;TZID=Europe/Ljubljana:20231025T073000
DTEND;TZID=Europe/Ljubljana:20231025T093000
DTSTAMP:20260424T210047Z
UID:fs-AFLABS-URNIK:srecanje:4100-2023-10-25 07:30:00+02:00
DESCRIPTION:Predmet: Vodenje proizvodnje (VDPP)\, Predavanja (P)\nLetniki:
  Industrijsko inženirstvo (PAP-3)\nIzvajalci: Tomaž Berlec\nProstor: Pre
 davalnica II/3A
END:VEVENT
BEGIN:VEVENT
SUMMARY:Vodenje proizvodnje (VDPP)\, Predavanja (P)
DTSTART;TZID=Europe/Ljubljana:20231101T073000
DTEND;TZID=Europe/Ljubljana:20231101T093000
DTSTAMP:20260424T210047Z
UID:fs-AFLABS-URNIK:srecanje:4100-2023-11-01 07:30:00+01:00
DESCRIPTION:Predmet: Vodenje proizvodnje (VDPP)\, Predavanja (P)\nLetniki:
  Industrijsko inženirstvo (PAP-3)\nIzvajalci: Tomaž Berlec\nProstor: Pre
 davalnica II/3A
END:VEVENT
BEGIN:VEVENT
SUMMARY:Vodenje proizvodnje (VDPP)\, Predavanja (P)
DTSTART;TZID=Europe/Ljubljana:20231108T073000
DTEND;TZID=Europe/Ljubljana:20231108T093000
DTSTAMP:20260424T210047Z
UID:fs-AFLABS-URNIK:srecanje:4100-2023-11-08 07:30:00+01:00
DESCRIPTION:Predmet: Vodenje proizvodnje (VDPP)\, Predavanja (P)\nLetniki:
  Industrijsko inženirstvo (PAP-3)\nIzvajalci: Tomaž Berlec\nProstor: Pre
 davalnica II/3A
END:VEVENT
BEGIN:VEVENT
SUMMARY:Vodenje proizvodnje (VDPP)\, Predavanja (P)
DTSTART;TZID=Europe/Ljubljana:20231115T073000
DTEND;TZID=Europe/Ljubljana:20231115T093000
DTSTAMP:20260424T210047Z
UID:fs-AFLABS-URNIK:srecanje:4100-2023-11-15 07:30:00+01:00
DESCRIPTION:Predmet: Vodenje proizvodnje (VDPP)\, Predavanja (P)\nLetniki:
  Industrijsko inženirstvo (PAP-3)\nIzvajalci: Tomaž Berlec\nProstor: Pre
 davalnica II/3A
END:VEVENT
BEGIN:VEVENT
SUMMARY:Vodenje proizvodnje (VDPP)\, Predavanja (P)
DTSTART;TZID=Europe/Ljubljana:20231122T073000
DTEND;TZID=Europe/Ljubljana:20231122T093000
DTSTAMP:20260424T210047Z
UID:fs-AFLABS-URNIK:srecanje:4100-2023-11-22 07:30:00+01:00
DESCRIPTION:Predmet: Vodenje proizvodnje (VDPP)\, Predavanja (P)\nLetniki:
  Industrijsko inženirstvo (PAP-3)\nIzvajalci: Tomaž Berlec\nProstor: Pre
 davalnica II/3A
END:VEVENT
BEGIN:VEVENT
SUMMARY:Vodenje proizvodnje (VDPP)\, Predavanja (P)
DTSTART;TZID=Europe/Ljubljana:20231129T073000
DTEND;TZID=Europe/Ljubljana:20231129T093000
DTSTAMP:20260424T210047Z
UID:fs-AFLABS-URNIK:srecanje:4100-2023-11-29 07:30:00+01:00
DESCRIPTION:Predmet: Vodenje proizvodnje (VDPP)\, Predavanja (P)\nLetniki:
  Industrijsko inženirstvo (PAP-3)\nIzvajalci: Tomaž Berlec\nProstor: Pre
 davalnica II/3A
END:VEVENT
BEGIN:VEVENT
SUMMARY:Vodenje proizvodnje (VDPP)\, Predavanja (P)
DTSTART;TZID=Europe/Ljubljana:20231206T073000
DTEND;TZID=Europe/Ljubljana:20231206T093000
DTSTAMP:20260424T210047Z
UID:fs-AFLABS-URNIK:srecanje:4100-2023-12-06 07:30:00+01:00
DESCRIPTION:Predmet: Vodenje proizvodnje (VDPP)\, Predavanja (P)\nLetniki:
  Industrijsko inženirstvo (PAP-3)\nIzvajalci: Tomaž Berlec\nProstor: Pre
 davalnica II/3A
END:VEVENT
BEGIN:VEVENT
SUMMARY:Vodenje proizvodnje (VDPP)\, Predavanja (P)
DTSTART;TZID=Europe/Ljubljana:20231213T073000
DTEND;TZID=Europe/Ljubljana:20231213T093000
DTSTAMP:20260424T210047Z
UID:fs-AFLABS-URNIK:srecanje:4100-2023-12-13 07:30:00+01:00
DESCRIPTION:Predmet: Vodenje proizvodnje (VDPP)\, Predavanja (P)\nLetniki:
  Industrijsko inženirstvo (PAP-3)\nIzvajalci: Tomaž Berlec\nProstor: Pre
 davalnica II/3A
END:VEVENT
BEGIN:VEVENT
SUMMARY:Vodenje proizvodnje (VDPP)\, Predavanja (P)
DTSTART;TZID=Europe/Ljubljana:20231220T073000
DTEND;TZID=Europe/Ljubljana:20231220T093000
DTSTAMP:20260424T210047Z
UID:fs-AFLABS-URNIK:srecanje:4100-2023-12-20 07:30:00+01:00
DESCRIPTION:Predmet: Vodenje proizvodnje (VDPP)\, Predavanja (P)\nLetniki:
  Industrijsko inženirstvo (PAP-3)\nIzvajalci: Tomaž Berlec\nProstor: Pre
 davalnica II/3A
END:VEVENT
BEGIN:VEVENT
SUMMARY:Vodenje proizvodnje (VDPP)\, Predavanja (P)
DTSTART;TZID=Europe/Ljubljana:20240103T073000
DTEND;TZID=Europe/Ljubljana:20240103T093000
DTSTAMP:20260424T210047Z
UID:fs-AFLABS-URNIK:srecanje:4100-2024-01-03 07:30:00+01:00
DESCRIPTION:Predmet: Vodenje proizvodnje (VDPP)\, Predavanja (P)\nLetniki:
  Industrijsko inženirstvo (PAP-3)\nIzvajalci: Tomaž Berlec\nProstor: Pre
 davalnica II/3A
END:VEVENT
BEGIN:VEVENT
SUMMARY:Vodenje proizvodnje (VDPP)\, Predavanja (P)
DTSTART;TZID=Europe/Ljubljana:20240110T073000
DTEND;TZID=Europe/Ljubljana:20240110T093000
DTSTAMP:20260424T210047Z
UID:fs-AFLABS-URNIK:srecanje:4100-2024-01-10 07:30:00+01:00
DESCRIPTION:Predmet: Vodenje proizvodnje (VDPP)\, Predavanja (P)\nLetniki:
  Industrijsko inženirstvo (PAP-3)\nIzvajalci: Tomaž Berlec\nProstor: Pre
 davalnica II/3A
END:VEVENT
BEGIN:VEVENT
SUMMARY:Vodenje proizvodnje (VDPP)\, Predavanja (P)
DTSTART;TZID=Europe/Ljubljana:20240117T073000
DTEND;TZID=Europe/Ljubljana:20240117T093000
DTSTAMP:20260424T210047Z
UID:fs-AFLABS-URNIK:srecanje:4100-2024-01-17 07:30:00+01:00
DESCRIPTION:Predmet: Vodenje proizvodnje (VDPP)\, Predavanja (P)\nLetniki:
  Industrijsko inženirstvo (PAP-3)\nIzvajalci: Tomaž Berlec\nProstor: Pre
 davalnica II/3A
END:VEVENT
BEGIN:VEVENT
SUMMARY:Investicijski inženiring (INIP)\, Predavanja (P)
DTSTART;TZID=Europe/Ljubljana:20231006T073000
DTEND;TZID=Europe/Ljubljana:20231006T093000
DTSTAMP:20260424T210047Z
UID:fs-AFLABS-URNIK:srecanje:4105-2023-10-06 07:30:00+02:00
DESCRIPTION:Predmet: Investicijski inženiring (INIP)\, Predavanja (P)\nLe
 tniki: Industrijsko inženirstvo (PAP-3)\nIzvajalci: Tomaž Berlec\nProsto
 r: Predavalnica III/3B
END:VEVENT
BEGIN:VEVENT
SUMMARY:Investicijski inženiring (INIP)\, Predavanja (P)
DTSTART;TZID=Europe/Ljubljana:20231013T073000
DTEND;TZID=Europe/Ljubljana:20231013T093000
DTSTAMP:20260424T210047Z
UID:fs-AFLABS-URNIK:srecanje:4105-2023-10-13 07:30:00+02:00
DESCRIPTION:Predmet: Investicijski inženiring (INIP)\, Predavanja (P)\nLe
 tniki: Industrijsko inženirstvo (PAP-3)\nIzvajalci: Tomaž Berlec\nProsto
 r: Predavalnica III/3B
END:VEVENT
BEGIN:VEVENT
SUMMARY:Investicijski inženiring (INIP)\, Predavanja (P)
DTSTART;TZID=Europe/Ljubljana:20231020T073000
DTEND;TZID=Europe/Ljubljana:20231020T093000
DTSTAMP:20260424T210047Z
UID:fs-AFLABS-URNIK:srecanje:4105-2023-10-20 07:30:00+02:00
DESCRIPTION:Predmet: Investicijski inženiring (INIP)\, Predavanja (P)\nLe
 tniki: Industrijsko inženirstvo (PAP-3)\nIzvajalci: Tomaž Berlec\nProsto
 r: Predavalnica III/3B
END:VEVENT
BEGIN:VEVENT
SUMMARY:Investicijski inženiring (INIP)\, Predavanja (P)
DTSTART;TZID=Europe/Ljubljana:20231027T073000
DTEND;TZID=Europe/Ljubljana:20231027T093000
DTSTAMP:20260424T210047Z
UID:fs-AFLABS-URNIK:srecanje:4105-2023-10-27 07:30:00+02:00
DESCRIPTION:Predmet: Investicijski inženiring (INIP)\, Predavanja (P)\nLe
 tniki: Industrijsko inženirstvo (PAP-3)\nIzvajalci: Tomaž Berlec\nProsto
 r: Predavalnica III/3B
END:VEVENT
BEGIN:VEVENT
SUMMARY:Investicijski inženiring (INIP)\, Predavanja (P)
DTSTART;TZID=Europe/Ljubljana:20231110T073000
DTEND;TZID=Europe/Ljubljana:20231110T093000
DTSTAMP:20260424T210047Z
UID:fs-AFLABS-URNIK:srecanje:4105-2023-11-10 07:30:00+01:00
DESCRIPTION:Predmet: Investicijski inženiring (INIP)\, Predavanja (P)\nLe
 tniki: Industrijsko inženirstvo (PAP-3)\nIzvajalci: Tomaž Berlec\nProsto
 r: Predavalnica III/3B
END:VEVENT
BEGIN:VEVENT
SUMMARY:Investicijski inženiring (INIP)\, Predavanja (P)
DTSTART;TZID=Europe/Ljubljana:20231117T073000
DTEND;TZID=Europe/Ljubljana:20231117T093000
DTSTAMP:20260424T210047Z
UID:fs-AFLABS-URNIK:srecanje:4105-2023-11-17 07:30:00+01:00
DESCRIPTION:Predmet: Investicijski inženiring (INIP)\, Predavanja (P)\nLe
 tniki: Industrijsko inženirstvo (PAP-3)\nIzvajalci: Tomaž Berlec\nProsto
 r: Predavalnica III/3B
END:VEVENT
BEGIN:VEVENT
SUMMARY:Investicijski inženiring (INIP)\, Predavanja (P)
DTSTART;TZID=Europe/Ljubljana:20231124T073000
DTEND;TZID=Europe/Ljubljana:20231124T093000
DTSTAMP:20260424T210047Z
UID:fs-AFLABS-URNIK:srecanje:4105-2023-11-24 07:30:00+01:00
DESCRIPTION:Predmet: Investicijski inženiring (INIP)\, Predavanja (P)\nLe
 tniki: Industrijsko inženirstvo (PAP-3)\nIzvajalci: Tomaž Berlec\nProsto
 r: Predavalnica III/3B
END:VEVENT
BEGIN:VEVENT
SUMMARY:Investicijski inženiring (INIP)\, Predavanja (P)
DTSTART;TZID=Europe/Ljubljana:20231201T073000
DTEND;TZID=Europe/Ljubljana:20231201T093000
DTSTAMP:20260424T210047Z
UID:fs-AFLABS-URNIK:srecanje:4105-2023-12-01 07:30:00+01:00
DESCRIPTION:Predmet: Investicijski inženiring (INIP)\, Predavanja (P)\nLe
 tniki: Industrijsko inženirstvo (PAP-3)\nIzvajalci: Tomaž Berlec\nProsto
 r: Predavalnica III/3B
END:VEVENT
BEGIN:VEVENT
SUMMARY:Investicijski inženiring (INIP)\, Predavanja (P)
DTSTART;TZID=Europe/Ljubljana:20231208T073000
DTEND;TZID=Europe/Ljubljana:20231208T093000
DTSTAMP:20260424T210047Z
UID:fs-AFLABS-URNIK:srecanje:4105-2023-12-08 07:30:00+01:00
DESCRIPTION:Predmet: Investicijski inženiring (INIP)\, Predavanja (P)\nLe
 tniki: Industrijsko inženirstvo (PAP-3)\nIzvajalci: Tomaž Berlec\nProsto
 r: Predavalnica III/3B
END:VEVENT
BEGIN:VEVENT
SUMMARY:Investicijski inženiring (INIP)\, Predavanja (P)
DTSTART;TZID=Europe/Ljubljana:20231215T073000
DTEND;TZID=Europe/Ljubljana:20231215T093000
DTSTAMP:20260424T210047Z
UID:fs-AFLABS-URNIK:srecanje:4105-2023-12-15 07:30:00+01:00
DESCRIPTION:Predmet: Investicijski inženiring (INIP)\, Predavanja (P)\nLe
 tniki: Industrijsko inženirstvo (PAP-3)\nIzvajalci: Tomaž Berlec\nProsto
 r: Predavalnica III/3B
END:VEVENT
BEGIN:VEVENT
SUMMARY:Investicijski inženiring (INIP)\, Predavanja (P)
DTSTART;TZID=Europe/Ljubljana:20231222T073000
DTEND;TZID=Europe/Ljubljana:20231222T093000
DTSTAMP:20260424T210047Z
UID:fs-AFLABS-URNIK:srecanje:4105-2023-12-22 07:30:00+01:00
DESCRIPTION:Predmet: Investicijski inženiring (INIP)\, Predavanja (P)\nLe
 tniki: Industrijsko inženirstvo (PAP-3)\nIzvajalci: Tomaž Berlec\nProsto
 r: Predavalnica III/3B
END:VEVENT
BEGIN:VEVENT
SUMMARY:Investicijski inženiring (INIP)\, Predavanja (P)
DTSTART;TZID=Europe/Ljubljana:20240105T073000
DTEND;TZID=Europe/Ljubljana:20240105T093000
DTSTAMP:20260424T210047Z
UID:fs-AFLABS-URNIK:srecanje:4105-2024-01-05 07:30:00+01:00
DESCRIPTION:Predmet: Investicijski inženiring (INIP)\, Predavanja (P)\nLe
 tniki: Industrijsko inženirstvo (PAP-3)\nIzvajalci: Tomaž Berlec\nProsto
 r: Predavalnica III/3B
END:VEVENT
BEGIN:VEVENT
SUMMARY:Investicijski inženiring (INIP)\, Predavanja (P)
DTSTART;TZID=Europe/Ljubljana:20240112T073000
DTEND;TZID=Europe/Ljubljana:20240112T093000
DTSTAMP:20260424T210047Z
UID:fs-AFLABS-URNIK:srecanje:4105-2024-01-12 07:30:00+01:00
DESCRIPTION:Predmet: Investicijski inženiring (INIP)\, Predavanja (P)\nLe
 tniki: Industrijsko inženirstvo (PAP-3)\nIzvajalci: Tomaž Berlec\nProsto
 r: Predavalnica III/3B
END:VEVENT
BEGIN:VEVENT
SUMMARY:Investicijski inženiring (INIP)\, Predavanja (P)
DTSTART;TZID=Europe/Ljubljana:20240119T073000
DTEND;TZID=Europe/Ljubljana:20240119T093000
DTSTAMP:20260424T210047Z
UID:fs-AFLABS-URNIK:srecanje:4105-2024-01-19 07:30:00+01:00
DESCRIPTION:Predmet: Investicijski inženiring (INIP)\, Predavanja (P)\nLe
 tniki: Industrijsko inženirstvo (PAP-3)\nIzvajalci: Tomaž Berlec\nProsto
 r: Predavalnica III/3B
END:VEVENT
BEGIN:VEVENT
SUMMARY:Koloikvij Vodenje proizvodnje
DTSTART;TZID=Europe/Ljubljana:20231215T170000
DTEND;TZID=Europe/Ljubljana:20231215T180000
DTSTAMP:20260424T210047Z
UID:fs-AFLABS-URNIK:rezervacija:3274
ATTENDEE:Industrijsko inženirstvo (PAP-3)
CATEGORIES:Reservation
COLOR:royalblue
DESCRIPTION:Predmeti: Vodenje proizvodnje (VDPP)\nLetniki: Industrijsko in
 ženirstvo (PAP-3)\nIzvajalci: Tomaž Berlec\nProstori: Predavalnica V/2
LOCATION:Predavalnica V/2
ORGANIZER:Tomaž Berlec
X-WR-TIMEZONE:Europe/Ljubljana
END:VEVENT
END:VCALENDAR
