BEGIN:VCALENDAR
VERSION:2.0
PRODID:-//AFLabs urnik izvoz - fs//aflabs.si//SI
NAME:UL FS Urnik
X-WR-CALNAME:UL FS Urnik
DTSTAMP:20260424T044456Z
REFRESH-INTERVAL:PT1H
SOURCE:https://urnik.fs.uni-lj.si/teacher/639/?day=2025-02-03&export=1
URL:https://urnik.fs.uni-lj.si/teacher/639/?day=2025-02-03&export=1
X-PUBLISHED-TTL:PT1H
X-WR-TIMEZONE:Europe/Ljubljana
BEGIN:VTIMEZONE
TZID:Europe/Ljubljana
BEGIN:DAYLIGHT
DTSTART:20260329T020000
RDATE:20260329T020000
RDATE:20270328T020000
TZNAME:CEST
TZOFFSETFROM:+0100
TZOFFSETTO:+0200
END:DAYLIGHT
BEGIN:STANDARD
DTSTART:20261025T030000
RDATE:20261025T030000
RDATE:20271031T030000
TZNAME:CET
TZOFFSETFROM:+0200
TZOFFSETTO:+0100
END:STANDARD
END:VTIMEZONE
BEGIN:VEVENT
SUMMARY:Eksperimentalne metode v energetskem strojništvu (EMEP)\, Predava
 lniške vaje (VP)
DTSTART;TZID=Europe/Ljubljana:20250217T153000
DTEND;TZID=Europe/Ljubljana:20250217T173000
DTSTAMP:20260424T044456Z
UID:fs-AFLABS-URNIK:srecanje:9431-2025-02-17 15:30:00+01:00
DESCRIPTION:Predmet: Eksperimentalne metode v energetskem strojništvu (EM
 EP)\, Predavalniške vaje (VP)\nLetniki: Energetsko strojništvo (PAP-2)\n
 Izvajalci: Gregor Bobovnik\, Lovrenc Novak\, Jernej Ortar\, Andrej Svete\n
 Prostor: Predavalnica III/3A
END:VEVENT
BEGIN:VEVENT
SUMMARY:Eksperimentalne metode v energetskem strojništvu (EMEP)\, Predava
 lniške vaje (VP)
DTSTART;TZID=Europe/Ljubljana:20250310T153000
DTEND;TZID=Europe/Ljubljana:20250310T173000
DTSTAMP:20260424T044456Z
UID:fs-AFLABS-URNIK:srecanje:9431-2025-03-10 15:30:00+01:00
DESCRIPTION:Predmet: Eksperimentalne metode v energetskem strojništvu (EM
 EP)\, Predavalniške vaje (VP)\nLetniki: Energetsko strojništvo (PAP-2)\n
 Izvajalci: Gregor Bobovnik\, Lovrenc Novak\, Jernej Ortar\, Andrej Svete\n
 Prostor: Predavalnica III/3A
END:VEVENT
BEGIN:VEVENT
SUMMARY:Merilni praktikum (MRPP)\, Predavalniške vaje (VP)
DTSTART;TZID=Europe/Ljubljana:20250217T073000
DTEND;TZID=Europe/Ljubljana:20250217T093000
DTSTAMP:20260424T044456Z
UID:fs-AFLABS-URNIK:srecanje:9736-2025-02-17 07:30:00+01:00
DESCRIPTION:Predmet: Merilni praktikum (MRPP)\, Predavalniške vaje (VP)\n
 Letniki: Energetsko strojništvo (PAP-2)\, Industrijsko inženirstvo (PAP-
 2)\, Konstruiranje industrijskih sistemov (PAP-2)\, Konstruiranje strojev 
 in naprav (PAP-2)\, Mehatronika (PAP-2)\, Procesno strojništvo (PAP-2)\, 
 Proizvodne tehnologije (PAP-2)\nIzvajalci: Gregor Bobovnik\nProstor: Preda
 valnica IV/4
END:VEVENT
BEGIN:VEVENT
SUMMARY:Merilni praktikum (MRPP)\, Predavalniške vaje (VP)
DTSTART;TZID=Europe/Ljubljana:20250224T073000
DTEND;TZID=Europe/Ljubljana:20250224T093000
DTSTAMP:20260424T044456Z
UID:fs-AFLABS-URNIK:srecanje:9736-2025-02-24 07:30:00+01:00
DESCRIPTION:Predmet: Merilni praktikum (MRPP)\, Predavalniške vaje (VP)\n
 Letniki: Energetsko strojništvo (PAP-2)\, Industrijsko inženirstvo (PAP-
 2)\, Konstruiranje industrijskih sistemov (PAP-2)\, Konstruiranje strojev 
 in naprav (PAP-2)\, Mehatronika (PAP-2)\, Procesno strojništvo (PAP-2)\, 
 Proizvodne tehnologije (PAP-2)\nIzvajalci: Gregor Bobovnik\nProstor: Preda
 valnica IV/4
END:VEVENT
BEGIN:VEVENT
SUMMARY:Merilni praktikum (MRPP)\, Predavalniške vaje (VP)
DTSTART;TZID=Europe/Ljubljana:20250303T073000
DTEND;TZID=Europe/Ljubljana:20250303T093000
DTSTAMP:20260424T044456Z
UID:fs-AFLABS-URNIK:srecanje:9736-2025-03-03 07:30:00+01:00
DESCRIPTION:Predmet: Merilni praktikum (MRPP)\, Predavalniške vaje (VP)\n
 Letniki: Energetsko strojništvo (PAP-2)\, Industrijsko inženirstvo (PAP-
 2)\, Konstruiranje industrijskih sistemov (PAP-2)\, Konstruiranje strojev 
 in naprav (PAP-2)\, Mehatronika (PAP-2)\, Procesno strojništvo (PAP-2)\, 
 Proizvodne tehnologije (PAP-2)\nIzvajalci: Gregor Bobovnik\nProstor: Preda
 valnica IV/4
END:VEVENT
BEGIN:VEVENT
SUMMARY:Merilni praktikum (MRPP)\, Predavalniške vaje (VP)
DTSTART;TZID=Europe/Ljubljana:20250310T073000
DTEND;TZID=Europe/Ljubljana:20250310T093000
DTSTAMP:20260424T044456Z
UID:fs-AFLABS-URNIK:srecanje:9736-2025-03-10 07:30:00+01:00
DESCRIPTION:Predmet: Merilni praktikum (MRPP)\, Predavalniške vaje (VP)\n
 Letniki: Energetsko strojništvo (PAP-2)\, Industrijsko inženirstvo (PAP-
 2)\, Konstruiranje industrijskih sistemov (PAP-2)\, Konstruiranje strojev 
 in naprav (PAP-2)\, Mehatronika (PAP-2)\, Procesno strojništvo (PAP-2)\, 
 Proizvodne tehnologije (PAP-2)\nIzvajalci: Gregor Bobovnik\nProstor: Preda
 valnica IV/4
END:VEVENT
BEGIN:VEVENT
SUMMARY:Eksperimentalne metode v energetskem strojništvu (EMEP)\, Laborat
 orijske vaje (VL)\, [S1]
DTSTART;TZID=Europe/Ljubljana:20250224T153000
DTEND;TZID=Europe/Ljubljana:20250224T173000
DTSTAMP:20260424T044456Z
UID:fs-AFLABS-URNIK:srecanje:9429-2025-02-24 15:30:00+01:00
DESCRIPTION:Predmet: Eksperimentalne metode v energetskem strojništvu (EM
 EP)\, Laboratorijske vaje (VL)\, [S1]\nLetniki: Energetsko strojništvo (P
 AP-2)\nIzvajalci: Gregor Bobovnik\, Lovrenc Novak\, Jernej Ortar\, Andrej 
 Svete\nProstor: Laboratorij LMPS VP-11
END:VEVENT
BEGIN:VEVENT
SUMMARY:Eksperimentalne metode v energetskem strojništvu (EMEP)\, Laborat
 orijske vaje (VL)\, [S1]
DTSTART;TZID=Europe/Ljubljana:20250303T153000
DTEND;TZID=Europe/Ljubljana:20250303T173000
DTSTAMP:20260424T044456Z
UID:fs-AFLABS-URNIK:srecanje:9429-2025-03-03 15:30:00+01:00
DESCRIPTION:Predmet: Eksperimentalne metode v energetskem strojništvu (EM
 EP)\, Laboratorijske vaje (VL)\, [S1]\nLetniki: Energetsko strojništvo (P
 AP-2)\nIzvajalci: Gregor Bobovnik\, Lovrenc Novak\, Jernej Ortar\, Andrej 
 Svete\nProstor: Laboratorij LMPS VP-11
END:VEVENT
END:VCALENDAR
