BEGIN:VCALENDAR
VERSION:2.0
PRODID:-//AFLabs urnik izvoz - fs//aflabs.si//SI
NAME:UL FS Urnik
X-WR-CALNAME:UL FS Urnik
DTSTAMP:20260426T012122Z
REFRESH-INTERVAL:PT1H
SOURCE:https://urnik.fs.uni-lj.si/teacher/639/?day=2026-02-02&export=1
URL:https://urnik.fs.uni-lj.si/teacher/639/?day=2026-02-02&export=1
X-PUBLISHED-TTL:PT1H
X-WR-TIMEZONE:Europe/Ljubljana
BEGIN:VTIMEZONE
TZID:Europe/Ljubljana
BEGIN:DAYLIGHT
DTSTART:20260329T020000
RDATE:20260329T020000
RDATE:20270328T020000
TZNAME:CEST
TZOFFSETFROM:+0100
TZOFFSETTO:+0200
END:DAYLIGHT
BEGIN:STANDARD
DTSTART:20261025T030000
RDATE:20261025T030000
RDATE:20271031T030000
TZNAME:CET
TZOFFSETFROM:+0200
TZOFFSETTO:+0100
END:STANDARD
END:VTIMEZONE
BEGIN:VEVENT
SUMMARY:Merilni praktikum (MRPP)\, Predavalniške vaje (VP)\, [S1]
DTSTART;TZID=Europe/Ljubljana:20260216T073000
DTEND;TZID=Europe/Ljubljana:20260216T093000
DTSTAMP:20260426T012122Z
UID:fs-AFLABS-URNIK:srecanje:16418-2026-02-16 07:30:00+01:00
DESCRIPTION:Predmet: Merilni praktikum (MRPP)\, Predavalniške vaje (VP)\,
  [S1]\nLetniki: Energetsko strojništvo (PAP-2)\, Industrijsko inženirstv
 o (PAP-2)\, Konstruiranje industrijskih sistemov (PAP-2)\, Konstruiranje s
 trojev in naprav (PAP-2)\, Mehatronika (PAP-2)\, Procesno strojništvo (PA
 P-2)\, Proizvodne tehnologije (PAP-2)\nIzvajalci: Gregor Bobovnik\nProstor
 : Predavalnica IV/4
END:VEVENT
BEGIN:VEVENT
SUMMARY:Merilni praktikum (MRPP)\, Predavalniške vaje (VP)\, [S1]
DTSTART;TZID=Europe/Ljubljana:20260223T073000
DTEND;TZID=Europe/Ljubljana:20260223T093000
DTSTAMP:20260426T012122Z
UID:fs-AFLABS-URNIK:srecanje:16418-2026-02-23 07:30:00+01:00
DESCRIPTION:Predmet: Merilni praktikum (MRPP)\, Predavalniške vaje (VP)\,
  [S1]\nLetniki: Energetsko strojništvo (PAP-2)\, Industrijsko inženirstv
 o (PAP-2)\, Konstruiranje industrijskih sistemov (PAP-2)\, Konstruiranje s
 trojev in naprav (PAP-2)\, Mehatronika (PAP-2)\, Procesno strojništvo (PA
 P-2)\, Proizvodne tehnologije (PAP-2)\nIzvajalci: Gregor Bobovnik\nProstor
 : Predavalnica IV/4
END:VEVENT
BEGIN:VEVENT
SUMMARY:Merilni praktikum (MRPP)\, Predavalniške vaje (VP)\, [S1]
DTSTART;TZID=Europe/Ljubljana:20260302T073000
DTEND;TZID=Europe/Ljubljana:20260302T093000
DTSTAMP:20260426T012122Z
UID:fs-AFLABS-URNIK:srecanje:16418-2026-03-02 07:30:00+01:00
DESCRIPTION:Predmet: Merilni praktikum (MRPP)\, Predavalniške vaje (VP)\,
  [S1]\nLetniki: Energetsko strojništvo (PAP-2)\, Industrijsko inženirstv
 o (PAP-2)\, Konstruiranje industrijskih sistemov (PAP-2)\, Konstruiranje s
 trojev in naprav (PAP-2)\, Mehatronika (PAP-2)\, Procesno strojništvo (PA
 P-2)\, Proizvodne tehnologije (PAP-2)\nIzvajalci: Gregor Bobovnik\nProstor
 : Predavalnica IV/4
END:VEVENT
BEGIN:VEVENT
SUMMARY:Merilni praktikum (MRPP)\, Predavalniške vaje (VP)\, [S1]
DTSTART;TZID=Europe/Ljubljana:20260309T073000
DTEND;TZID=Europe/Ljubljana:20260309T093000
DTSTAMP:20260426T012122Z
UID:fs-AFLABS-URNIK:srecanje:16418-2026-03-09 07:30:00+01:00
DESCRIPTION:Predmet: Merilni praktikum (MRPP)\, Predavalniške vaje (VP)\,
  [S1]\nLetniki: Energetsko strojništvo (PAP-2)\, Industrijsko inženirstv
 o (PAP-2)\, Konstruiranje industrijskih sistemov (PAP-2)\, Konstruiranje s
 trojev in naprav (PAP-2)\, Mehatronika (PAP-2)\, Procesno strojništvo (PA
 P-2)\, Proizvodne tehnologije (PAP-2)\nIzvajalci: Gregor Bobovnik\nProstor
 : Predavalnica IV/4
END:VEVENT
BEGIN:VEVENT
SUMMARY:Eksperimentalne metode v energetskem strojništvu (EMEP)\, Predava
 lniške vaje (VP)\, [S1]
DTSTART;TZID=Europe/Ljubljana:20260216T153000
DTEND;TZID=Europe/Ljubljana:20260216T173000
DTSTAMP:20260426T012122Z
UID:fs-AFLABS-URNIK:srecanje:16435-2026-02-16 15:30:00+01:00
DESCRIPTION:Predmet: Eksperimentalne metode v energetskem strojništvu (EM
 EP)\, Predavalniške vaje (VP)\, [S1]\nLetniki: Energetsko strojništvo (P
 AP-2)\nIzvajalci: Gregor Bobovnik\, Lovrenc Novak\, Jernej Ortar\, Andrej 
 Svete\nProstor: Predavalnica III/3A
END:VEVENT
BEGIN:VEVENT
SUMMARY:Eksperimentalne metode v energetskem strojništvu (EMEP)\, Predava
 lniške vaje (VP)\, [S1]
DTSTART;TZID=Europe/Ljubljana:20260309T153000
DTEND;TZID=Europe/Ljubljana:20260309T173000
DTSTAMP:20260426T012122Z
UID:fs-AFLABS-URNIK:srecanje:16435-2026-03-09 15:30:00+01:00
DESCRIPTION:Predmet: Eksperimentalne metode v energetskem strojništvu (EM
 EP)\, Predavalniške vaje (VP)\, [S1]\nLetniki: Energetsko strojništvo (P
 AP-2)\nIzvajalci: Gregor Bobovnik\, Lovrenc Novak\, Jernej Ortar\, Andrej 
 Svete\nProstor: Predavalnica III/3A
END:VEVENT
BEGIN:VEVENT
SUMMARY:Eksperimentalne metode v energetskem strojništvu (EMEP)\, Laborat
 orijske vaje (VL)\, [S1]
DTSTART;TZID=Europe/Ljubljana:20260223T153000
DTEND;TZID=Europe/Ljubljana:20260223T173000
DTSTAMP:20260426T012122Z
UID:fs-AFLABS-URNIK:srecanje:17038-2026-02-23 15:30:00+01:00
DESCRIPTION:Predmet: Eksperimentalne metode v energetskem strojništvu (EM
 EP)\, Laboratorijske vaje (VL)\, [S1]\nLetniki: Energetsko strojništvo (P
 AP-2)\nIzvajalci: Gregor Bobovnik\, Benjamin Novak\, Lovrenc Novak\, Jerne
 j Ortar\, Žak Sovec\, Andrej Svete\nProstor: Laboratorij LMPS P-1
END:VEVENT
BEGIN:VEVENT
SUMMARY:Eksperimentalne metode v energetskem strojništvu (EMEP)\, Laborat
 orijske vaje (VL)\, [S1]
DTSTART;TZID=Europe/Ljubljana:20260302T153000
DTEND;TZID=Europe/Ljubljana:20260302T173000
DTSTAMP:20260426T012122Z
UID:fs-AFLABS-URNIK:srecanje:17038-2026-03-02 15:30:00+01:00
DESCRIPTION:Predmet: Eksperimentalne metode v energetskem strojništvu (EM
 EP)\, Laboratorijske vaje (VL)\, [S1]\nLetniki: Energetsko strojništvo (P
 AP-2)\nIzvajalci: Gregor Bobovnik\, Benjamin Novak\, Lovrenc Novak\, Jerne
 j Ortar\, Žak Sovec\, Andrej Svete\nProstor: Laboratorij LMPS P-1
END:VEVENT
BEGIN:VEVENT
SUMMARY:Eksperimentalne metode v energetskem strojništvu (EMEP)\, Laborat
 orijske vaje (VL)\, [S2]
DTSTART;TZID=Europe/Ljubljana:20260226T133000
DTEND;TZID=Europe/Ljubljana:20260226T153000
DTSTAMP:20260426T012122Z
UID:fs-AFLABS-URNIK:srecanje:17042-2026-02-26 13:30:00+01:00
DESCRIPTION:Predmet: Eksperimentalne metode v energetskem strojništvu (EM
 EP)\, Laboratorijske vaje (VL)\, [S2]\nLetniki: Energetsko strojništvo (P
 AP-2)\nIzvajalci: Gregor Bobovnik\, Benjamin Novak\, Lovrenc Novak\, Jerne
 j Ortar\, Žak Sovec\, Andrej Svete\nProstor: Laboratorij LMPS P-1
END:VEVENT
BEGIN:VEVENT
SUMMARY:Eksperimentalne metode v energetskem strojništvu (EMEP)\, Laborat
 orijske vaje (VL)\, [S2]
DTSTART;TZID=Europe/Ljubljana:20260305T133000
DTEND;TZID=Europe/Ljubljana:20260305T153000
DTSTAMP:20260426T012122Z
UID:fs-AFLABS-URNIK:srecanje:17042-2026-03-05 13:30:00+01:00
DESCRIPTION:Predmet: Eksperimentalne metode v energetskem strojništvu (EM
 EP)\, Laboratorijske vaje (VL)\, [S2]\nLetniki: Energetsko strojništvo (P
 AP-2)\nIzvajalci: Gregor Bobovnik\, Benjamin Novak\, Lovrenc Novak\, Jerne
 j Ortar\, Žak Sovec\, Andrej Svete\nProstor: Laboratorij LMPS P-1
END:VEVENT
END:VCALENDAR
