BEGIN:VCALENDAR
VERSION:2.0
PRODID:-//AFLabs urnik izvoz - fs//aflabs.si//SI
NAME:UL FS Urnik
X-WR-CALNAME:UL FS Urnik
DTSTAMP:20260419T223232Z
REFRESH-INTERVAL:PT1H
SOURCE:https://urnik.fs.uni-lj.si/teacher/646/?day=2023-10-30&export=1
URL:https://urnik.fs.uni-lj.si/teacher/646/?day=2023-10-30&export=1
X-PUBLISHED-TTL:PT1H
X-WR-TIMEZONE:Europe/Ljubljana
BEGIN:VTIMEZONE
TZID:Europe/Ljubljana
BEGIN:DAYLIGHT
DTSTART:20260329T020000
RDATE:20260329T020000
RDATE:20270328T020000
TZNAME:CEST
TZOFFSETFROM:+0100
TZOFFSETTO:+0200
END:DAYLIGHT
BEGIN:STANDARD
DTSTART:20261025T030000
RDATE:20261025T030000
RDATE:20271031T030000
TZNAME:CET
TZOFFSETFROM:+0200
TZOFFSETTO:+0100
END:STANDARD
END:VTIMEZONE
BEGIN:VEVENT
SUMMARY:Avtomatizacija proizvodnje (AMPM)\, Predavanja (P)
DTSTART;TZID=Europe/Ljubljana:20231002T140000
DTEND;TZID=Europe/Ljubljana:20231002T160000
DTSTAMP:20260419T223232Z
UID:fs-AFLABS-URNIK:srecanje:4743-2023-10-02 14:00:00+02:00
DESCRIPTION:Predmet: Avtomatizacija proizvodnje (AMPM)\, Predavanja (P)\nL
 etniki: Mehatronika in laserska tehnika (MAG-2)\nIzvajalci: Drago Bračun\
 nProstor: Predavalnica IV/3A
END:VEVENT
BEGIN:VEVENT
SUMMARY:Avtomatizacija proizvodnje (AMPM)\, Predavanja (P)
DTSTART;TZID=Europe/Ljubljana:20231009T140000
DTEND;TZID=Europe/Ljubljana:20231009T160000
DTSTAMP:20260419T223232Z
UID:fs-AFLABS-URNIK:srecanje:4743-2023-10-09 14:00:00+02:00
DESCRIPTION:Predmet: Avtomatizacija proizvodnje (AMPM)\, Predavanja (P)\nL
 etniki: Mehatronika in laserska tehnika (MAG-2)\nIzvajalci: Drago Bračun\
 nProstor: Predavalnica IV/3A
END:VEVENT
BEGIN:VEVENT
SUMMARY:Avtomatizacija proizvodnje (AMPM)\, Predavanja (P)
DTSTART;TZID=Europe/Ljubljana:20231016T140000
DTEND;TZID=Europe/Ljubljana:20231016T160000
DTSTAMP:20260419T223232Z
UID:fs-AFLABS-URNIK:srecanje:4743-2023-10-16 14:00:00+02:00
DESCRIPTION:Predmet: Avtomatizacija proizvodnje (AMPM)\, Predavanja (P)\nL
 etniki: Mehatronika in laserska tehnika (MAG-2)\nIzvajalci: Drago Bračun\
 nProstor: Predavalnica IV/3A
END:VEVENT
BEGIN:VEVENT
SUMMARY:Avtomatizacija proizvodnje (AMPM)\, Predavanja (P)
DTSTART;TZID=Europe/Ljubljana:20231023T140000
DTEND;TZID=Europe/Ljubljana:20231023T160000
DTSTAMP:20260419T223232Z
UID:fs-AFLABS-URNIK:srecanje:4743-2023-10-23 14:00:00+02:00
DESCRIPTION:Predmet: Avtomatizacija proizvodnje (AMPM)\, Predavanja (P)\nL
 etniki: Mehatronika in laserska tehnika (MAG-2)\nIzvajalci: Drago Bračun\
 nProstor: Predavalnica IV/3A
END:VEVENT
BEGIN:VEVENT
SUMMARY:Avtomatizacija proizvodnje (AMPM)\, Predavanja (P)
DTSTART;TZID=Europe/Ljubljana:20231106T140000
DTEND;TZID=Europe/Ljubljana:20231106T160000
DTSTAMP:20260419T223232Z
UID:fs-AFLABS-URNIK:srecanje:4743-2023-11-06 14:00:00+01:00
DESCRIPTION:Predmet: Avtomatizacija proizvodnje (AMPM)\, Predavanja (P)\nL
 etniki: Mehatronika in laserska tehnika (MAG-2)\nIzvajalci: Drago Bračun\
 nProstor: Predavalnica IV/3A
END:VEVENT
BEGIN:VEVENT
SUMMARY:Avtomatizacija proizvodnje (AMPM)\, Predavanja (P)
DTSTART;TZID=Europe/Ljubljana:20231113T140000
DTEND;TZID=Europe/Ljubljana:20231113T160000
DTSTAMP:20260419T223232Z
UID:fs-AFLABS-URNIK:srecanje:4743-2023-11-13 14:00:00+01:00
DESCRIPTION:Predmet: Avtomatizacija proizvodnje (AMPM)\, Predavanja (P)\nL
 etniki: Mehatronika in laserska tehnika (MAG-2)\nIzvajalci: Drago Bračun\
 nProstor: Predavalnica IV/3A
END:VEVENT
BEGIN:VEVENT
SUMMARY:Avtomatizacija proizvodnje (AMPM)\, Predavanja (P)
DTSTART;TZID=Europe/Ljubljana:20231120T140000
DTEND;TZID=Europe/Ljubljana:20231120T160000
DTSTAMP:20260419T223232Z
UID:fs-AFLABS-URNIK:srecanje:4743-2023-11-20 14:00:00+01:00
DESCRIPTION:Predmet: Avtomatizacija proizvodnje (AMPM)\, Predavanja (P)\nL
 etniki: Mehatronika in laserska tehnika (MAG-2)\nIzvajalci: Drago Bračun\
 nProstor: Predavalnica IV/3A
END:VEVENT
BEGIN:VEVENT
SUMMARY:Avtomatizacija proizvodnje (AMPM)\, Predavanja (P)
DTSTART;TZID=Europe/Ljubljana:20231127T140000
DTEND;TZID=Europe/Ljubljana:20231127T160000
DTSTAMP:20260419T223232Z
UID:fs-AFLABS-URNIK:srecanje:4743-2023-11-27 14:00:00+01:00
DESCRIPTION:Predmet: Avtomatizacija proizvodnje (AMPM)\, Predavanja (P)\nL
 etniki: Mehatronika in laserska tehnika (MAG-2)\nIzvajalci: Drago Bračun\
 nProstor: Predavalnica IV/3A
END:VEVENT
BEGIN:VEVENT
SUMMARY:Avtomatizacija proizvodnje (AMPM)\, Predavanja (P)
DTSTART;TZID=Europe/Ljubljana:20231204T140000
DTEND;TZID=Europe/Ljubljana:20231204T160000
DTSTAMP:20260419T223232Z
UID:fs-AFLABS-URNIK:srecanje:4743-2023-12-04 14:00:00+01:00
DESCRIPTION:Predmet: Avtomatizacija proizvodnje (AMPM)\, Predavanja (P)\nL
 etniki: Mehatronika in laserska tehnika (MAG-2)\nIzvajalci: Drago Bračun\
 nProstor: Predavalnica IV/3A
END:VEVENT
BEGIN:VEVENT
SUMMARY:Avtomatizacija proizvodnje (AMPM)\, Predavanja (P)
DTSTART;TZID=Europe/Ljubljana:20231211T140000
DTEND;TZID=Europe/Ljubljana:20231211T160000
DTSTAMP:20260419T223232Z
UID:fs-AFLABS-URNIK:srecanje:4743-2023-12-11 14:00:00+01:00
DESCRIPTION:Predmet: Avtomatizacija proizvodnje (AMPM)\, Predavanja (P)\nL
 etniki: Mehatronika in laserska tehnika (MAG-2)\nIzvajalci: Drago Bračun\
 nProstor: Predavalnica IV/3A
END:VEVENT
BEGIN:VEVENT
SUMMARY:Avtomatizacija proizvodnje (AMPM)\, Predavanja (P)
DTSTART;TZID=Europe/Ljubljana:20231218T140000
DTEND;TZID=Europe/Ljubljana:20231218T160000
DTSTAMP:20260419T223232Z
UID:fs-AFLABS-URNIK:srecanje:4743-2023-12-18 14:00:00+01:00
DESCRIPTION:Predmet: Avtomatizacija proizvodnje (AMPM)\, Predavanja (P)\nL
 etniki: Mehatronika in laserska tehnika (MAG-2)\nIzvajalci: Drago Bračun\
 nProstor: Predavalnica IV/3A
END:VEVENT
BEGIN:VEVENT
SUMMARY:Avtomatizacija proizvodnje (AMPM)\, Predavanja (P)
DTSTART;TZID=Europe/Ljubljana:20240101T140000
DTEND;TZID=Europe/Ljubljana:20240101T160000
DTSTAMP:20260419T223232Z
UID:fs-AFLABS-URNIK:srecanje:4743-2024-01-01 14:00:00+01:00
DESCRIPTION:Predmet: Avtomatizacija proizvodnje (AMPM)\, Predavanja (P)\nL
 etniki: Mehatronika in laserska tehnika (MAG-2)\nIzvajalci: Drago Bračun\
 nProstor: Predavalnica IV/3A
END:VEVENT
BEGIN:VEVENT
SUMMARY:Avtomatizacija proizvodnje (AMPM)\, Predavanja (P)
DTSTART;TZID=Europe/Ljubljana:20240108T140000
DTEND;TZID=Europe/Ljubljana:20240108T160000
DTSTAMP:20260419T223232Z
UID:fs-AFLABS-URNIK:srecanje:4743-2024-01-08 14:00:00+01:00
DESCRIPTION:Predmet: Avtomatizacija proizvodnje (AMPM)\, Predavanja (P)\nL
 etniki: Mehatronika in laserska tehnika (MAG-2)\nIzvajalci: Drago Bračun\
 nProstor: Predavalnica IV/3A
END:VEVENT
BEGIN:VEVENT
SUMMARY:Avtomatizacija proizvodnje (AMPM)\, Predavanja (P)
DTSTART;TZID=Europe/Ljubljana:20240115T140000
DTEND;TZID=Europe/Ljubljana:20240115T160000
DTSTAMP:20260419T223232Z
UID:fs-AFLABS-URNIK:srecanje:4743-2024-01-15 14:00:00+01:00
DESCRIPTION:Predmet: Avtomatizacija proizvodnje (AMPM)\, Predavanja (P)\nL
 etniki: Mehatronika in laserska tehnika (MAG-2)\nIzvajalci: Drago Bračun\
 nProstor: Predavalnica IV/3A
END:VEVENT
BEGIN:VEVENT
SUMMARY:Strojni vid (STVP)\, Predavanja (P)
DTSTART;TZID=Europe/Ljubljana:20231002T073000
DTEND;TZID=Europe/Ljubljana:20231002T093000
DTSTAMP:20260419T223232Z
UID:fs-AFLABS-URNIK:srecanje:3963-2023-10-02 07:30:00+02:00
DESCRIPTION:Predmet: Strojni vid (STVP)\, Predavanja (P)\nLetniki: Mehatro
 nika (PAP-3)\nIzvajalci: Drago Bračun\nProstor: Predavalnica III/3A
END:VEVENT
BEGIN:VEVENT
SUMMARY:Strojni vid (STVP)\, Predavanja (P)
DTSTART;TZID=Europe/Ljubljana:20231009T073000
DTEND;TZID=Europe/Ljubljana:20231009T093000
DTSTAMP:20260419T223232Z
UID:fs-AFLABS-URNIK:srecanje:3963-2023-10-09 07:30:00+02:00
DESCRIPTION:Predmet: Strojni vid (STVP)\, Predavanja (P)\nLetniki: Mehatro
 nika (PAP-3)\nIzvajalci: Drago Bračun\nProstor: Predavalnica III/3A
END:VEVENT
BEGIN:VEVENT
SUMMARY:Strojni vid (STVP)\, Predavanja (P)
DTSTART;TZID=Europe/Ljubljana:20231016T073000
DTEND;TZID=Europe/Ljubljana:20231016T093000
DTSTAMP:20260419T223232Z
UID:fs-AFLABS-URNIK:srecanje:3963-2023-10-16 07:30:00+02:00
DESCRIPTION:Predmet: Strojni vid (STVP)\, Predavanja (P)\nLetniki: Mehatro
 nika (PAP-3)\nIzvajalci: Drago Bračun\nProstor: Predavalnica III/3A
END:VEVENT
BEGIN:VEVENT
SUMMARY:Strojni vid (STVP)\, Predavanja (P)
DTSTART;TZID=Europe/Ljubljana:20231023T073000
DTEND;TZID=Europe/Ljubljana:20231023T093000
DTSTAMP:20260419T223232Z
UID:fs-AFLABS-URNIK:srecanje:3963-2023-10-23 07:30:00+02:00
DESCRIPTION:Predmet: Strojni vid (STVP)\, Predavanja (P)\nLetniki: Mehatro
 nika (PAP-3)\nIzvajalci: Drago Bračun\nProstor: Predavalnica III/3A
END:VEVENT
BEGIN:VEVENT
SUMMARY:Strojni vid (STVP)\, Predavanja (P)
DTSTART;TZID=Europe/Ljubljana:20231106T073000
DTEND;TZID=Europe/Ljubljana:20231106T093000
DTSTAMP:20260419T223232Z
UID:fs-AFLABS-URNIK:srecanje:3963-2023-11-06 07:30:00+01:00
DESCRIPTION:Predmet: Strojni vid (STVP)\, Predavanja (P)\nLetniki: Mehatro
 nika (PAP-3)\nIzvajalci: Drago Bračun\nProstor: Predavalnica III/3A
END:VEVENT
BEGIN:VEVENT
SUMMARY:Strojni vid (STVP)\, Predavanja (P)
DTSTART;TZID=Europe/Ljubljana:20231113T073000
DTEND;TZID=Europe/Ljubljana:20231113T093000
DTSTAMP:20260419T223232Z
UID:fs-AFLABS-URNIK:srecanje:3963-2023-11-13 07:30:00+01:00
DESCRIPTION:Predmet: Strojni vid (STVP)\, Predavanja (P)\nLetniki: Mehatro
 nika (PAP-3)\nIzvajalci: Drago Bračun\nProstor: Predavalnica III/3A
END:VEVENT
BEGIN:VEVENT
SUMMARY:Strojni vid (STVP)\, Predavanja (P)
DTSTART;TZID=Europe/Ljubljana:20231120T073000
DTEND;TZID=Europe/Ljubljana:20231120T093000
DTSTAMP:20260419T223232Z
UID:fs-AFLABS-URNIK:srecanje:3963-2023-11-20 07:30:00+01:00
DESCRIPTION:Predmet: Strojni vid (STVP)\, Predavanja (P)\nLetniki: Mehatro
 nika (PAP-3)\nIzvajalci: Drago Bračun\nProstor: Predavalnica III/3A
END:VEVENT
BEGIN:VEVENT
SUMMARY:Strojni vid (STVP)\, Predavanja (P)
DTSTART;TZID=Europe/Ljubljana:20231127T073000
DTEND;TZID=Europe/Ljubljana:20231127T093000
DTSTAMP:20260419T223232Z
UID:fs-AFLABS-URNIK:srecanje:3963-2023-11-27 07:30:00+01:00
DESCRIPTION:Predmet: Strojni vid (STVP)\, Predavanja (P)\nLetniki: Mehatro
 nika (PAP-3)\nIzvajalci: Drago Bračun\nProstor: Predavalnica III/3A
END:VEVENT
BEGIN:VEVENT
SUMMARY:Strojni vid (STVP)\, Predavanja (P)
DTSTART;TZID=Europe/Ljubljana:20231204T073000
DTEND;TZID=Europe/Ljubljana:20231204T093000
DTSTAMP:20260419T223232Z
UID:fs-AFLABS-URNIK:srecanje:3963-2023-12-04 07:30:00+01:00
DESCRIPTION:Predmet: Strojni vid (STVP)\, Predavanja (P)\nLetniki: Mehatro
 nika (PAP-3)\nIzvajalci: Drago Bračun\nProstor: Predavalnica III/3A
END:VEVENT
BEGIN:VEVENT
SUMMARY:Strojni vid (STVP)\, Predavanja (P)
DTSTART;TZID=Europe/Ljubljana:20231211T073000
DTEND;TZID=Europe/Ljubljana:20231211T093000
DTSTAMP:20260419T223232Z
UID:fs-AFLABS-URNIK:srecanje:3963-2023-12-11 07:30:00+01:00
DESCRIPTION:Predmet: Strojni vid (STVP)\, Predavanja (P)\nLetniki: Mehatro
 nika (PAP-3)\nIzvajalci: Drago Bračun\nProstor: Predavalnica III/3A
END:VEVENT
BEGIN:VEVENT
SUMMARY:Strojni vid (STVP)\, Predavanja (P)
DTSTART;TZID=Europe/Ljubljana:20231218T073000
DTEND;TZID=Europe/Ljubljana:20231218T093000
DTSTAMP:20260419T223232Z
UID:fs-AFLABS-URNIK:srecanje:3963-2023-12-18 07:30:00+01:00
DESCRIPTION:Predmet: Strojni vid (STVP)\, Predavanja (P)\nLetniki: Mehatro
 nika (PAP-3)\nIzvajalci: Drago Bračun\nProstor: Predavalnica III/3A
END:VEVENT
BEGIN:VEVENT
SUMMARY:Strojni vid (STVP)\, Predavanja (P)
DTSTART;TZID=Europe/Ljubljana:20240101T073000
DTEND;TZID=Europe/Ljubljana:20240101T093000
DTSTAMP:20260419T223232Z
UID:fs-AFLABS-URNIK:srecanje:3963-2024-01-01 07:30:00+01:00
DESCRIPTION:Predmet: Strojni vid (STVP)\, Predavanja (P)\nLetniki: Mehatro
 nika (PAP-3)\nIzvajalci: Drago Bračun\nProstor: Predavalnica III/3A
END:VEVENT
BEGIN:VEVENT
SUMMARY:Strojni vid (STVP)\, Predavanja (P)
DTSTART;TZID=Europe/Ljubljana:20240108T073000
DTEND;TZID=Europe/Ljubljana:20240108T093000
DTSTAMP:20260419T223232Z
UID:fs-AFLABS-URNIK:srecanje:3963-2024-01-08 07:30:00+01:00
DESCRIPTION:Predmet: Strojni vid (STVP)\, Predavanja (P)\nLetniki: Mehatro
 nika (PAP-3)\nIzvajalci: Drago Bračun\nProstor: Predavalnica III/3A
END:VEVENT
BEGIN:VEVENT
SUMMARY:Strojni vid (STVP)\, Predavanja (P)
DTSTART;TZID=Europe/Ljubljana:20240115T073000
DTEND;TZID=Europe/Ljubljana:20240115T093000
DTSTAMP:20260419T223232Z
UID:fs-AFLABS-URNIK:srecanje:3963-2024-01-15 07:30:00+01:00
DESCRIPTION:Predmet: Strojni vid (STVP)\, Predavanja (P)\nLetniki: Mehatro
 nika (PAP-3)\nIzvajalci: Drago Bračun\nProstor: Predavalnica III/3A
END:VEVENT
BEGIN:VEVENT
SUMMARY:Mehatronika in krmilna tehnika (MKTP)\, Predavanja (P)
DTSTART;TZID=Europe/Ljubljana:20231005T113000
DTEND;TZID=Europe/Ljubljana:20231005T133000
DTSTAMP:20260419T223232Z
UID:fs-AFLABS-URNIK:srecanje:2344-2023-10-05 11:30:00+02:00
DESCRIPTION:Predmet: Mehatronika in krmilna tehnika (MKTP)\, Predavanja (P
 )\nLetniki: Energetsko strojništvo (PAP-2)\, Industrijsko inženirstvo (P
 AP-2)\, Konstruiranje industrijskih sistemov (PAP-2)\, Konstruiranje stroj
 ev in naprav (PAP-2)\, Mehatronika (PAP-2)\, Procesno strojništvo (PAP-2)
 \, Proizvodne tehnologije (PAP-2)\, Prometni pilot letala/helikopterja (PA
 P-2)\, Snovanje in vzdrževanje letal (PAP-2)\nIzvajalci: Drago Bračun\, 
 Janez Diaci\nProstor: Predavalnica V/2
END:VEVENT
BEGIN:VEVENT
SUMMARY:Mehatronika in krmilna tehnika (MKTP)\, Predavanja (P)
DTSTART;TZID=Europe/Ljubljana:20231012T113000
DTEND;TZID=Europe/Ljubljana:20231012T133000
DTSTAMP:20260419T223232Z
UID:fs-AFLABS-URNIK:srecanje:2344-2023-10-12 11:30:00+02:00
DESCRIPTION:Predmet: Mehatronika in krmilna tehnika (MKTP)\, Predavanja (P
 )\nLetniki: Energetsko strojništvo (PAP-2)\, Industrijsko inženirstvo (P
 AP-2)\, Konstruiranje industrijskih sistemov (PAP-2)\, Konstruiranje stroj
 ev in naprav (PAP-2)\, Mehatronika (PAP-2)\, Procesno strojništvo (PAP-2)
 \, Proizvodne tehnologije (PAP-2)\, Prometni pilot letala/helikopterja (PA
 P-2)\, Snovanje in vzdrževanje letal (PAP-2)\nIzvajalci: Drago Bračun\, 
 Janez Diaci\nProstor: Predavalnica V/2
END:VEVENT
BEGIN:VEVENT
SUMMARY:Mehatronika in krmilna tehnika (MKTP)\, Predavanja (P)
DTSTART;TZID=Europe/Ljubljana:20231019T113000
DTEND;TZID=Europe/Ljubljana:20231019T133000
DTSTAMP:20260419T223232Z
UID:fs-AFLABS-URNIK:srecanje:2344-2023-10-19 11:30:00+02:00
DESCRIPTION:Predmet: Mehatronika in krmilna tehnika (MKTP)\, Predavanja (P
 )\nLetniki: Energetsko strojništvo (PAP-2)\, Industrijsko inženirstvo (P
 AP-2)\, Konstruiranje industrijskih sistemov (PAP-2)\, Konstruiranje stroj
 ev in naprav (PAP-2)\, Mehatronika (PAP-2)\, Procesno strojništvo (PAP-2)
 \, Proizvodne tehnologije (PAP-2)\, Prometni pilot letala/helikopterja (PA
 P-2)\, Snovanje in vzdrževanje letal (PAP-2)\nIzvajalci: Drago Bračun\, 
 Janez Diaci\nProstor: Predavalnica V/2
END:VEVENT
BEGIN:VEVENT
SUMMARY:Mehatronika in krmilna tehnika (MKTP)\, Predavanja (P)
DTSTART;TZID=Europe/Ljubljana:20231026T113000
DTEND;TZID=Europe/Ljubljana:20231026T133000
DTSTAMP:20260419T223232Z
UID:fs-AFLABS-URNIK:srecanje:2344-2023-10-26 11:30:00+02:00
DESCRIPTION:Predmet: Mehatronika in krmilna tehnika (MKTP)\, Predavanja (P
 )\nLetniki: Energetsko strojništvo (PAP-2)\, Industrijsko inženirstvo (P
 AP-2)\, Konstruiranje industrijskih sistemov (PAP-2)\, Konstruiranje stroj
 ev in naprav (PAP-2)\, Mehatronika (PAP-2)\, Procesno strojništvo (PAP-2)
 \, Proizvodne tehnologije (PAP-2)\, Prometni pilot letala/helikopterja (PA
 P-2)\, Snovanje in vzdrževanje letal (PAP-2)\nIzvajalci: Drago Bračun\, 
 Janez Diaci\nProstor: Predavalnica V/2
END:VEVENT
BEGIN:VEVENT
SUMMARY:Mehatronika in krmilna tehnika (MKTP)\, Predavanja (P)
DTSTART;TZID=Europe/Ljubljana:20231109T113000
DTEND;TZID=Europe/Ljubljana:20231109T133000
DTSTAMP:20260419T223232Z
UID:fs-AFLABS-URNIK:srecanje:2344-2023-11-09 11:30:00+01:00
DESCRIPTION:Predmet: Mehatronika in krmilna tehnika (MKTP)\, Predavanja (P
 )\nLetniki: Energetsko strojništvo (PAP-2)\, Industrijsko inženirstvo (P
 AP-2)\, Konstruiranje industrijskih sistemov (PAP-2)\, Konstruiranje stroj
 ev in naprav (PAP-2)\, Mehatronika (PAP-2)\, Procesno strojništvo (PAP-2)
 \, Proizvodne tehnologije (PAP-2)\, Prometni pilot letala/helikopterja (PA
 P-2)\, Snovanje in vzdrževanje letal (PAP-2)\nIzvajalci: Drago Bračun\, 
 Janez Diaci\nProstor: Predavalnica V/2
END:VEVENT
BEGIN:VEVENT
SUMMARY:Mehatronika in krmilna tehnika (MKTP)\, Predavanja (P)
DTSTART;TZID=Europe/Ljubljana:20231116T113000
DTEND;TZID=Europe/Ljubljana:20231116T133000
DTSTAMP:20260419T223232Z
UID:fs-AFLABS-URNIK:srecanje:2344-2023-11-16 11:30:00+01:00
DESCRIPTION:Predmet: Mehatronika in krmilna tehnika (MKTP)\, Predavanja (P
 )\nLetniki: Energetsko strojništvo (PAP-2)\, Industrijsko inženirstvo (P
 AP-2)\, Konstruiranje industrijskih sistemov (PAP-2)\, Konstruiranje stroj
 ev in naprav (PAP-2)\, Mehatronika (PAP-2)\, Procesno strojništvo (PAP-2)
 \, Proizvodne tehnologije (PAP-2)\, Prometni pilot letala/helikopterja (PA
 P-2)\, Snovanje in vzdrževanje letal (PAP-2)\nIzvajalci: Drago Bračun\, 
 Janez Diaci\nProstor: Predavalnica V/2
END:VEVENT
BEGIN:VEVENT
SUMMARY:Mehatronika in krmilna tehnika (MKTP)\, Predavanja (P)
DTSTART;TZID=Europe/Ljubljana:20231123T113000
DTEND;TZID=Europe/Ljubljana:20231123T133000
DTSTAMP:20260419T223232Z
UID:fs-AFLABS-URNIK:srecanje:2344-2023-11-23 11:30:00+01:00
DESCRIPTION:Predmet: Mehatronika in krmilna tehnika (MKTP)\, Predavanja (P
 )\nLetniki: Energetsko strojništvo (PAP-2)\, Industrijsko inženirstvo (P
 AP-2)\, Konstruiranje industrijskih sistemov (PAP-2)\, Konstruiranje stroj
 ev in naprav (PAP-2)\, Mehatronika (PAP-2)\, Procesno strojništvo (PAP-2)
 \, Proizvodne tehnologije (PAP-2)\, Prometni pilot letala/helikopterja (PA
 P-2)\, Snovanje in vzdrževanje letal (PAP-2)\nIzvajalci: Drago Bračun\, 
 Janez Diaci\nProstor: Predavalnica V/2
END:VEVENT
BEGIN:VEVENT
SUMMARY:Mehatronika in krmilna tehnika (MKTP)\, Predavanja (P)
DTSTART;TZID=Europe/Ljubljana:20231130T113000
DTEND;TZID=Europe/Ljubljana:20231130T133000
DTSTAMP:20260419T223232Z
UID:fs-AFLABS-URNIK:srecanje:2344-2023-11-30 11:30:00+01:00
DESCRIPTION:Predmet: Mehatronika in krmilna tehnika (MKTP)\, Predavanja (P
 )\nLetniki: Energetsko strojništvo (PAP-2)\, Industrijsko inženirstvo (P
 AP-2)\, Konstruiranje industrijskih sistemov (PAP-2)\, Konstruiranje stroj
 ev in naprav (PAP-2)\, Mehatronika (PAP-2)\, Procesno strojništvo (PAP-2)
 \, Proizvodne tehnologije (PAP-2)\, Prometni pilot letala/helikopterja (PA
 P-2)\, Snovanje in vzdrževanje letal (PAP-2)\nIzvajalci: Drago Bračun\, 
 Janez Diaci\nProstor: Predavalnica V/2
END:VEVENT
BEGIN:VEVENT
SUMMARY:Mehatronika in krmilna tehnika (MKTP)\, Predavanja (P)
DTSTART;TZID=Europe/Ljubljana:20231207T113000
DTEND;TZID=Europe/Ljubljana:20231207T133000
DTSTAMP:20260419T223232Z
UID:fs-AFLABS-URNIK:srecanje:2344-2023-12-07 11:30:00+01:00
DESCRIPTION:Predmet: Mehatronika in krmilna tehnika (MKTP)\, Predavanja (P
 )\nLetniki: Energetsko strojništvo (PAP-2)\, Industrijsko inženirstvo (P
 AP-2)\, Konstruiranje industrijskih sistemov (PAP-2)\, Konstruiranje stroj
 ev in naprav (PAP-2)\, Mehatronika (PAP-2)\, Procesno strojništvo (PAP-2)
 \, Proizvodne tehnologije (PAP-2)\, Prometni pilot letala/helikopterja (PA
 P-2)\, Snovanje in vzdrževanje letal (PAP-2)\nIzvajalci: Drago Bračun\, 
 Janez Diaci\nProstor: Predavalnica V/2
END:VEVENT
BEGIN:VEVENT
SUMMARY:Mehatronika in krmilna tehnika (MKTP)\, Predavanja (P)
DTSTART;TZID=Europe/Ljubljana:20231214T113000
DTEND;TZID=Europe/Ljubljana:20231214T133000
DTSTAMP:20260419T223232Z
UID:fs-AFLABS-URNIK:srecanje:2344-2023-12-14 11:30:00+01:00
DESCRIPTION:Predmet: Mehatronika in krmilna tehnika (MKTP)\, Predavanja (P
 )\nLetniki: Energetsko strojništvo (PAP-2)\, Industrijsko inženirstvo (P
 AP-2)\, Konstruiranje industrijskih sistemov (PAP-2)\, Konstruiranje stroj
 ev in naprav (PAP-2)\, Mehatronika (PAP-2)\, Procesno strojništvo (PAP-2)
 \, Proizvodne tehnologije (PAP-2)\, Prometni pilot letala/helikopterja (PA
 P-2)\, Snovanje in vzdrževanje letal (PAP-2)\nIzvajalci: Drago Bračun\, 
 Janez Diaci\nProstor: Predavalnica V/2
END:VEVENT
BEGIN:VEVENT
SUMMARY:Mehatronika in krmilna tehnika (MKTP)\, Predavanja (P)
DTSTART;TZID=Europe/Ljubljana:20231221T113000
DTEND;TZID=Europe/Ljubljana:20231221T133000
DTSTAMP:20260419T223232Z
UID:fs-AFLABS-URNIK:srecanje:2344-2023-12-21 11:30:00+01:00
DESCRIPTION:Predmet: Mehatronika in krmilna tehnika (MKTP)\, Predavanja (P
 )\nLetniki: Energetsko strojništvo (PAP-2)\, Industrijsko inženirstvo (P
 AP-2)\, Konstruiranje industrijskih sistemov (PAP-2)\, Konstruiranje stroj
 ev in naprav (PAP-2)\, Mehatronika (PAP-2)\, Procesno strojništvo (PAP-2)
 \, Proizvodne tehnologije (PAP-2)\, Prometni pilot letala/helikopterja (PA
 P-2)\, Snovanje in vzdrževanje letal (PAP-2)\nIzvajalci: Drago Bračun\, 
 Janez Diaci\nProstor: Predavalnica V/2
END:VEVENT
BEGIN:VEVENT
SUMMARY:Mehatronika in krmilna tehnika (MKTP)\, Predavanja (P)
DTSTART;TZID=Europe/Ljubljana:20240104T113000
DTEND;TZID=Europe/Ljubljana:20240104T133000
DTSTAMP:20260419T223232Z
UID:fs-AFLABS-URNIK:srecanje:2344-2024-01-04 11:30:00+01:00
DESCRIPTION:Predmet: Mehatronika in krmilna tehnika (MKTP)\, Predavanja (P
 )\nLetniki: Energetsko strojništvo (PAP-2)\, Industrijsko inženirstvo (P
 AP-2)\, Konstruiranje industrijskih sistemov (PAP-2)\, Konstruiranje stroj
 ev in naprav (PAP-2)\, Mehatronika (PAP-2)\, Procesno strojništvo (PAP-2)
 \, Proizvodne tehnologije (PAP-2)\, Prometni pilot letala/helikopterja (PA
 P-2)\, Snovanje in vzdrževanje letal (PAP-2)\nIzvajalci: Drago Bračun\, 
 Janez Diaci\nProstor: Predavalnica V/2
END:VEVENT
BEGIN:VEVENT
SUMMARY:Mehatronika in krmilna tehnika (MKTP)\, Predavanja (P)
DTSTART;TZID=Europe/Ljubljana:20240111T113000
DTEND;TZID=Europe/Ljubljana:20240111T133000
DTSTAMP:20260419T223232Z
UID:fs-AFLABS-URNIK:srecanje:2344-2024-01-11 11:30:00+01:00
DESCRIPTION:Predmet: Mehatronika in krmilna tehnika (MKTP)\, Predavanja (P
 )\nLetniki: Energetsko strojništvo (PAP-2)\, Industrijsko inženirstvo (P
 AP-2)\, Konstruiranje industrijskih sistemov (PAP-2)\, Konstruiranje stroj
 ev in naprav (PAP-2)\, Mehatronika (PAP-2)\, Procesno strojništvo (PAP-2)
 \, Proizvodne tehnologije (PAP-2)\, Prometni pilot letala/helikopterja (PA
 P-2)\, Snovanje in vzdrževanje letal (PAP-2)\nIzvajalci: Drago Bračun\, 
 Janez Diaci\nProstor: Predavalnica V/2
END:VEVENT
BEGIN:VEVENT
SUMMARY:Mehatronika in krmilna tehnika (MKTP)\, Predavanja (P)
DTSTART;TZID=Europe/Ljubljana:20240118T113000
DTEND;TZID=Europe/Ljubljana:20240118T133000
DTSTAMP:20260419T223232Z
UID:fs-AFLABS-URNIK:srecanje:2344-2024-01-18 11:30:00+01:00
DESCRIPTION:Predmet: Mehatronika in krmilna tehnika (MKTP)\, Predavanja (P
 )\nLetniki: Energetsko strojništvo (PAP-2)\, Industrijsko inženirstvo (P
 AP-2)\, Konstruiranje industrijskih sistemov (PAP-2)\, Konstruiranje stroj
 ev in naprav (PAP-2)\, Mehatronika (PAP-2)\, Procesno strojništvo (PAP-2)
 \, Proizvodne tehnologije (PAP-2)\, Prometni pilot letala/helikopterja (PA
 P-2)\, Snovanje in vzdrževanje letal (PAP-2)\nIzvajalci: Drago Bračun\, 
 Janez Diaci\nProstor: Predavalnica V/2
END:VEVENT
BEGIN:VEVENT
SUMMARY:Avtomatizacija proizvodnje (AMPM)\, Predavanja (P)
DTSTART;TZID=Europe/Ljubljana:20231102T140000
DTEND;TZID=Europe/Ljubljana:20231102T160000
DTSTAMP:20260419T223232Z
UID:fs-AFLABS-URNIK:premaknjeno-srecanje:62081
ATTENDEE:Mehatronika in laserska tehnika (MAG-2)
CATEGORIES:Entry,Special
COLOR:forestgreen
DESCRIPTION:Predmet: Avtomatizacija proizvodnje (AMPM)\, Predavanja (P)\nL
 etniki: Mehatronika in laserska tehnika (MAG-2)\nIzvajalci: Drago Bračun\
 nProstor: Predavalnica IV/3A
LOCATION:Predavalnica IV/3A
ORGANIZER:Drago Bračun
RELATED-TO:fs-AFLABS-URNIK:srecanje:7811
X-WR-TIMEZONE:Europe/Ljubljana
END:VEVENT
BEGIN:VEVENT
SUMMARY:Strojni vid (STVP)\, Predavanja (P)
DTSTART;TZID=Europe/Ljubljana:20231102T073000
DTEND;TZID=Europe/Ljubljana:20231102T093000
DTSTAMP:20260419T223232Z
UID:fs-AFLABS-URNIK:premaknjeno-srecanje:62153
ATTENDEE:Mehatronika (PAP-3)
CATEGORIES:Entry,Special
COLOR:forestgreen
DESCRIPTION:Predmet: Strojni vid (STVP)\, Predavanja (P)\nLetniki: Mehatro
 nika (PAP-3)\nIzvajalci: Drago Bračun\nProstor: Predavalnica III/3A
LOCATION:Predavalnica III/3A
ORGANIZER:Drago Bračun
RELATED-TO:fs-AFLABS-URNIK:srecanje:7883
X-WR-TIMEZONE:Europe/Ljubljana
END:VEVENT
BEGIN:VEVENT
SUMMARY:Kolokvij MKTP
DTSTART;TZID=Europe/Ljubljana:20231123T180000
DTEND;TZID=Europe/Ljubljana:20231123T200000
DTSTAMP:20260419T223232Z
UID:fs-AFLABS-URNIK:rezervacija:3374
CATEGORIES:Reservation
COLOR:royalblue
DESCRIPTION:Predmeti: \nLetniki: \nIzvajalci: Drago Bračun\, Marko Corn\n
 Prostori: Predavalnica II/5\, Predavalnica III/4\, Predavalnica IV/4
LOCATION:Predavalnica II/5\, Predavalnica III/4\, Predavalnica IV/4
ORGANIZER:Drago Bračun, Marko Corn
X-WR-TIMEZONE:Europe/Ljubljana
END:VEVENT
BEGIN:VEVENT
SUMMARY:Kolokvij
DTSTART;TZID=Europe/Ljubljana:20240111T180000
DTEND;TZID=Europe/Ljubljana:20240111T193000
DTSTAMP:20260419T223232Z
UID:fs-AFLABS-URNIK:rezervacija:4238
ATTENDEE:Mehatronika (PAP-3)
CATEGORIES:Reservation
COLOR:royalblue
DESCRIPTION:Predmeti: Strojni vid (STVP)\nLetniki: Mehatronika (PAP-3)\nIz
 vajalci: Drago Bračun\nProstori: Predavalnica II/2
LOCATION:Predavalnica II/2
ORGANIZER:Drago Bračun
X-WR-TIMEZONE:Europe/Ljubljana
END:VEVENT
BEGIN:VEVENT
SUMMARY:Kolokvij
DTSTART;TZID=Europe/Ljubljana:20240109T180000
DTEND;TZID=Europe/Ljubljana:20240109T193000
DTSTAMP:20260419T223232Z
UID:fs-AFLABS-URNIK:rezervacija:4239
ATTENDEE:Mehatronika in laserska tehnika (MAG-2)
CATEGORIES:Reservation
COLOR:royalblue
DESCRIPTION:Predmeti: Avtomatizacija proizvodnje (AMPM)\nLetniki: Mehatron
 ika in laserska tehnika (MAG-2)\nIzvajalci: Drago Bračun\nProstori: Preda
 valnica III/2
LOCATION:Predavalnica III/2
ORGANIZER:Drago Bračun
X-WR-TIMEZONE:Europe/Ljubljana
END:VEVENT
BEGIN:VEVENT
SUMMARY:Kolokvij
DTSTART;TZID=Europe/Ljubljana:20240112T170000
DTEND;TZID=Europe/Ljubljana:20240112T180000
DTSTAMP:20260419T223232Z
UID:fs-AFLABS-URNIK:rezervacija:4240
ATTENDEE:Energetsko strojništvo (PAP-2)
ATTENDEE:Industrijsko inženirstvo (PAP-2)
ATTENDEE:Konstruiranje industrijskih sistemov (PAP-2)
ATTENDEE:Konstruiranje strojev in naprav (PAP-2)
ATTENDEE:Mehatronika (PAP-2)
ATTENDEE:Procesno strojništvo (PAP-2)
ATTENDEE:Proizvodne tehnologije (PAP-2)
ATTENDEE:Prometni pilot letala/helikopterja (PAP-2)
ATTENDEE:Snovanje in vzdrževanje letal (PAP-2)
CATEGORIES:Reservation
COLOR:royalblue
DESCRIPTION:Predmeti: Mehatronika in krmilna tehnika (MKTP)\nLetniki: Ener
 getsko strojništvo (PAP-2)\, Industrijsko inženirstvo (PAP-2)\, Konstrui
 ranje industrijskih sistemov (PAP-2)\, Konstruiranje strojev in naprav (PA
 P-2)\, Mehatronika (PAP-2)\, Procesno strojništvo (PAP-2)\, Proizvodne te
 hnologije (PAP-2)\, Prometni pilot letala/helikopterja (PAP-2)\, Snovanje 
 in vzdrževanje letal (PAP-2)\nIzvajalci: Drago Bračun\nProstori: Predava
 lnica IV/2\, Predavalnica IV/4\, Predavalnica V/2
LOCATION:Predavalnica IV/2\, Predavalnica IV/4\, Predavalnica V/2
ORGANIZER:Drago Bračun
X-WR-TIMEZONE:Europe/Ljubljana
END:VEVENT
END:VCALENDAR
