BEGIN:VCALENDAR
VERSION:2.0
PRODID:-//AFLabs urnik izvoz - fs//aflabs.si//SI
NAME:UL FS Urnik
X-WR-CALNAME:UL FS Urnik
DTSTAMP:20260423T113040Z
REFRESH-INTERVAL:PT1H
SOURCE:https://urnik.fs.uni-lj.si/teacher/646/?day=2024-09-30&export=1
URL:https://urnik.fs.uni-lj.si/teacher/646/?day=2024-09-30&export=1
X-PUBLISHED-TTL:PT1H
X-WR-TIMEZONE:Europe/Ljubljana
BEGIN:VTIMEZONE
TZID:Europe/Ljubljana
BEGIN:DAYLIGHT
DTSTART:20260329T020000
RDATE:20260329T020000
RDATE:20270328T020000
TZNAME:CEST
TZOFFSETFROM:+0100
TZOFFSETTO:+0200
END:DAYLIGHT
BEGIN:STANDARD
DTSTART:20261025T030000
RDATE:20261025T030000
RDATE:20271031T030000
TZNAME:CET
TZOFFSETFROM:+0200
TZOFFSETTO:+0100
END:STANDARD
END:VTIMEZONE
BEGIN:VEVENT
SUMMARY:Mehatronika in krmilna tehnika (MKTP)\, Predavanja (P)
DTSTART;TZID=Europe/Ljubljana:20241003T113000
DTEND;TZID=Europe/Ljubljana:20241003T133000
DTSTAMP:20260423T113040Z
UID:fs-AFLABS-URNIK:srecanje:6889-2024-10-03 11:30:00+02:00
DESCRIPTION:Predmet: Mehatronika in krmilna tehnika (MKTP)\, Predavanja (P
 )\nLetniki: Energetsko strojništvo (PAP-2)\, Industrijsko inženirstvo (P
 AP-2)\, Konstruiranje industrijskih sistemov (PAP-2)\, Konstruiranje stroj
 ev in naprav (PAP-2)\, Mehatronika (PAP-2)\, Procesno strojništvo (PAP-2)
 \, Proizvodne tehnologije (PAP-2)\, Prometni pilot letala/helikopterja (PA
 P-2)\, Snovanje in vzdrževanje letal (PAP-2)\nIzvajalci: Drago Bračun\, 
 Janez Diaci\nProstor: Predavalnica V/2
END:VEVENT
BEGIN:VEVENT
SUMMARY:Mehatronika in krmilna tehnika (MKTP)\, Predavanja (P)
DTSTART;TZID=Europe/Ljubljana:20241010T113000
DTEND;TZID=Europe/Ljubljana:20241010T133000
DTSTAMP:20260423T113040Z
UID:fs-AFLABS-URNIK:srecanje:6889-2024-10-10 11:30:00+02:00
DESCRIPTION:Predmet: Mehatronika in krmilna tehnika (MKTP)\, Predavanja (P
 )\nLetniki: Energetsko strojništvo (PAP-2)\, Industrijsko inženirstvo (P
 AP-2)\, Konstruiranje industrijskih sistemov (PAP-2)\, Konstruiranje stroj
 ev in naprav (PAP-2)\, Mehatronika (PAP-2)\, Procesno strojništvo (PAP-2)
 \, Proizvodne tehnologije (PAP-2)\, Prometni pilot letala/helikopterja (PA
 P-2)\, Snovanje in vzdrževanje letal (PAP-2)\nIzvajalci: Drago Bračun\, 
 Janez Diaci\nProstor: Predavalnica V/2
END:VEVENT
BEGIN:VEVENT
SUMMARY:Mehatronika in krmilna tehnika (MKTP)\, Predavanja (P)
DTSTART;TZID=Europe/Ljubljana:20241017T113000
DTEND;TZID=Europe/Ljubljana:20241017T133000
DTSTAMP:20260423T113040Z
UID:fs-AFLABS-URNIK:srecanje:6889-2024-10-17 11:30:00+02:00
DESCRIPTION:Predmet: Mehatronika in krmilna tehnika (MKTP)\, Predavanja (P
 )\nLetniki: Energetsko strojništvo (PAP-2)\, Industrijsko inženirstvo (P
 AP-2)\, Konstruiranje industrijskih sistemov (PAP-2)\, Konstruiranje stroj
 ev in naprav (PAP-2)\, Mehatronika (PAP-2)\, Procesno strojništvo (PAP-2)
 \, Proizvodne tehnologije (PAP-2)\, Prometni pilot letala/helikopterja (PA
 P-2)\, Snovanje in vzdrževanje letal (PAP-2)\nIzvajalci: Drago Bračun\, 
 Janez Diaci\nProstor: Predavalnica V/2
END:VEVENT
BEGIN:VEVENT
SUMMARY:Mehatronika in krmilna tehnika (MKTP)\, Predavanja (P)
DTSTART;TZID=Europe/Ljubljana:20241024T113000
DTEND;TZID=Europe/Ljubljana:20241024T133000
DTSTAMP:20260423T113040Z
UID:fs-AFLABS-URNIK:srecanje:6889-2024-10-24 11:30:00+02:00
DESCRIPTION:Predmet: Mehatronika in krmilna tehnika (MKTP)\, Predavanja (P
 )\nLetniki: Energetsko strojništvo (PAP-2)\, Industrijsko inženirstvo (P
 AP-2)\, Konstruiranje industrijskih sistemov (PAP-2)\, Konstruiranje stroj
 ev in naprav (PAP-2)\, Mehatronika (PAP-2)\, Procesno strojništvo (PAP-2)
 \, Proizvodne tehnologije (PAP-2)\, Prometni pilot letala/helikopterja (PA
 P-2)\, Snovanje in vzdrževanje letal (PAP-2)\nIzvajalci: Drago Bračun\, 
 Janez Diaci\nProstor: Predavalnica V/2
END:VEVENT
BEGIN:VEVENT
SUMMARY:Avtomatizacija proizvodnje (AMPM)\, Predavanja (P)
DTSTART;TZID=Europe/Ljubljana:20241007T140000
DTEND;TZID=Europe/Ljubljana:20241007T160000
DTSTAMP:20260423T113040Z
UID:fs-AFLABS-URNIK:srecanje:6406-2024-10-07 14:00:00+02:00
DESCRIPTION:Predmet: Avtomatizacija proizvodnje (AMPM)\, Predavanja (P)\nL
 etniki: Mehatronika in laserska tehnika (MAG-2)\nIzvajalci: Drago Bračun\
 nProstor: Predavalnica IV/3A
END:VEVENT
BEGIN:VEVENT
SUMMARY:Avtomatizacija proizvodnje (AMPM)\, Predavanja (P)
DTSTART;TZID=Europe/Ljubljana:20241014T140000
DTEND;TZID=Europe/Ljubljana:20241014T160000
DTSTAMP:20260423T113040Z
UID:fs-AFLABS-URNIK:srecanje:6406-2024-10-14 14:00:00+02:00
DESCRIPTION:Predmet: Avtomatizacija proizvodnje (AMPM)\, Predavanja (P)\nL
 etniki: Mehatronika in laserska tehnika (MAG-2)\nIzvajalci: Drago Bračun\
 nProstor: Predavalnica IV/3A
END:VEVENT
BEGIN:VEVENT
SUMMARY:Avtomatizacija proizvodnje (AMPM)\, Predavanja (P)
DTSTART;TZID=Europe/Ljubljana:20241021T140000
DTEND;TZID=Europe/Ljubljana:20241021T160000
DTSTAMP:20260423T113040Z
UID:fs-AFLABS-URNIK:srecanje:6406-2024-10-21 14:00:00+02:00
DESCRIPTION:Predmet: Avtomatizacija proizvodnje (AMPM)\, Predavanja (P)\nL
 etniki: Mehatronika in laserska tehnika (MAG-2)\nIzvajalci: Drago Bračun\
 nProstor: Predavalnica IV/3A
END:VEVENT
BEGIN:VEVENT
SUMMARY:Avtomatizacija proizvodnje (AMPM)\, Predavanja (P)
DTSTART;TZID=Europe/Ljubljana:20241104T140000
DTEND;TZID=Europe/Ljubljana:20241104T160000
DTSTAMP:20260423T113040Z
UID:fs-AFLABS-URNIK:srecanje:6406-2024-11-04 14:00:00+01:00
DESCRIPTION:Predmet: Avtomatizacija proizvodnje (AMPM)\, Predavanja (P)\nL
 etniki: Mehatronika in laserska tehnika (MAG-2)\nIzvajalci: Drago Bračun\
 nProstor: Predavalnica IV/3A
END:VEVENT
BEGIN:VEVENT
SUMMARY:Strojni vid (STVP)\, Predavanja (P)
DTSTART;TZID=Europe/Ljubljana:20241007T073000
DTEND;TZID=Europe/Ljubljana:20241007T093000
DTSTAMP:20260423T113040Z
UID:fs-AFLABS-URNIK:srecanje:7486-2024-10-07 07:30:00+02:00
DESCRIPTION:Predmet: Strojni vid (STVP)\, Predavanja (P)\nLetniki: Mehatro
 nika (PAP-3)\nIzvajalci: Drago Bračun\nProstor: Predavalnica III/3A
END:VEVENT
BEGIN:VEVENT
SUMMARY:Strojni vid (STVP)\, Predavanja (P)
DTSTART;TZID=Europe/Ljubljana:20241014T073000
DTEND;TZID=Europe/Ljubljana:20241014T093000
DTSTAMP:20260423T113040Z
UID:fs-AFLABS-URNIK:srecanje:7486-2024-10-14 07:30:00+02:00
DESCRIPTION:Predmet: Strojni vid (STVP)\, Predavanja (P)\nLetniki: Mehatro
 nika (PAP-3)\nIzvajalci: Drago Bračun\nProstor: Predavalnica III/3A
END:VEVENT
BEGIN:VEVENT
SUMMARY:Strojni vid (STVP)\, Predavanja (P)
DTSTART;TZID=Europe/Ljubljana:20241021T073000
DTEND;TZID=Europe/Ljubljana:20241021T093000
DTSTAMP:20260423T113040Z
UID:fs-AFLABS-URNIK:srecanje:7486-2024-10-21 07:30:00+02:00
DESCRIPTION:Predmet: Strojni vid (STVP)\, Predavanja (P)\nLetniki: Mehatro
 nika (PAP-3)\nIzvajalci: Drago Bračun\nProstor: Predavalnica III/3A
END:VEVENT
BEGIN:VEVENT
SUMMARY:Strojni vid (STVP)\, Predavanja (P)
DTSTART;TZID=Europe/Ljubljana:20241104T073000
DTEND;TZID=Europe/Ljubljana:20241104T093000
DTSTAMP:20260423T113040Z
UID:fs-AFLABS-URNIK:srecanje:7486-2024-11-04 07:30:00+01:00
DESCRIPTION:Predmet: Strojni vid (STVP)\, Predavanja (P)\nLetniki: Mehatro
 nika (PAP-3)\nIzvajalci: Drago Bračun\nProstor: Predavalnica III/3A
END:VEVENT
BEGIN:VEVENT
SUMMARY:Mehatronika in krmilna tehnika (MKTP)\, Predavanja (P)
DTSTART;TZID=Europe/Ljubljana:20241028T113000
DTEND;TZID=Europe/Ljubljana:20241028T133000
DTSTAMP:20260423T113040Z
UID:fs-AFLABS-URNIK:premaknjeno-srecanje:101832
ATTENDEE:Energetsko strojništvo (PAP-2)
ATTENDEE:Industrijsko inženirstvo (PAP-2)
ATTENDEE:Konstruiranje industrijskih sistemov (PAP-2)
ATTENDEE:Konstruiranje strojev in naprav (PAP-2)
ATTENDEE:Mehatronika (PAP-2)
ATTENDEE:Procesno strojništvo (PAP-2)
ATTENDEE:Proizvodne tehnologije (PAP-2)
ATTENDEE:Prometni pilot letala/helikopterja (PAP-2)
ATTENDEE:Snovanje in vzdrževanje letal (PAP-2)
CATEGORIES:Entry,Special
COLOR:forestgreen
DESCRIPTION:Predmet: Mehatronika in krmilna tehnika (MKTP)\, Predavanja (P
 )\nLetniki: Energetsko strojništvo (PAP-2)\, Industrijsko inženirstvo (P
 AP-2)\, Konstruiranje industrijskih sistemov (PAP-2)\, Konstruiranje stroj
 ev in naprav (PAP-2)\, Mehatronika (PAP-2)\, Procesno strojništvo (PAP-2)
 \, Proizvodne tehnologije (PAP-2)\, Prometni pilot letala/helikopterja (PA
 P-2)\, Snovanje in vzdrževanje letal (PAP-2)\nIzvajalci: Drago Bračun\, 
 Janez Diaci\nProstor: Predavalnica V/2
LOCATION:Predavalnica V/2
ORGANIZER:Drago Bračun, Janez Diaci
RELATED-TO:fs-AFLABS-URNIK:srecanje:14045
X-WR-TIMEZONE:Europe/Ljubljana
END:VEVENT
BEGIN:VEVENT
SUMMARY:Izpit: Avtomatizacija proizvodnje
DTSTART;TZID=Europe/Ljubljana:20240828T140000
DTEND;TZID=Europe/Ljubljana:20240828T160000
DTSTAMP:20260423T113040Z
UID:fs-AFLABS-URNIK:rezervacija:5764
ATTENDEE:Mehatronika in laserska tehnika (MAG-2)
CATEGORIES:Reservation
COLOR:royalblue
DESCRIPTION:Predmeti: Avtomatizacija proizvodnje (AMPM)\nLetniki: Mehatron
 ika in laserska tehnika (MAG-2)\nIzvajalci: Drago Bračun\nProstori: Preda
 valnica II/5
LOCATION:Predavalnica II/5
ORGANIZER:Drago Bračun
X-WR-TIMEZONE:Europe/Ljubljana
END:VEVENT
BEGIN:VEVENT
SUMMARY:Izpit: Manufacturing Automation (6063-M)
DTSTART;TZID=Europe/Ljubljana:20240828T140000
DTEND;TZID=Europe/Ljubljana:20240828T160000
DTSTAMP:20260423T113040Z
UID:fs-AFLABS-URNIK:rezervacija:5765
CATEGORIES:Reservation
COLOR:royalblue
DESCRIPTION:Predmeti: \nLetniki: \nIzvajalci: Drago Bračun\nProstori: Pre
 davalnica II/5
LOCATION:Predavalnica II/5
ORGANIZER:Drago Bračun
X-WR-TIMEZONE:Europe/Ljubljana
END:VEVENT
BEGIN:VEVENT
SUMMARY:Izpit: Krmiljenje in statistični nadzor proizvodnje
DTSTART;TZID=Europe/Ljubljana:20240830T080000
DTEND;TZID=Europe/Ljubljana:20240830T100000
DTSTAMP:20260423T113040Z
UID:fs-AFLABS-URNIK:rezervacija:5815
ATTENDEE:Industrijsko inženirstvo (PAP-2)
CATEGORIES:Reservation
COLOR:royalblue
DESCRIPTION:Predmeti: Krmiljenje in statistični nadzor proizvodnje (KSNP)
 \nLetniki: Industrijsko inženirstvo (PAP-2)\nIzvajalci: Drago Bračun\nPr
 ostori: Predavalnica V/2
LOCATION:Predavalnica V/2
ORGANIZER:Drago Bračun
X-WR-TIMEZONE:Europe/Ljubljana
END:VEVENT
END:VCALENDAR
