BEGIN:VCALENDAR
VERSION:2.0
PRODID:-//AFLabs urnik izvoz - fs//aflabs.si//SI
NAME:UL FS Urnik
X-WR-CALNAME:UL FS Urnik
DTSTAMP:20260420T071252Z
REFRESH-INTERVAL:PT1H
SOURCE:https://urnik.fs.uni-lj.si/teacher/660/?day=2026-09-14&export=1
URL:https://urnik.fs.uni-lj.si/teacher/660/?day=2026-09-14&export=1
X-PUBLISHED-TTL:PT1H
X-WR-TIMEZONE:Europe/Ljubljana
BEGIN:VTIMEZONE
TZID:Europe/Ljubljana
BEGIN:DAYLIGHT
DTSTART:20260329T020000
RDATE:20260329T020000
RDATE:20270328T020000
TZNAME:CEST
TZOFFSETFROM:+0100
TZOFFSETTO:+0200
END:DAYLIGHT
BEGIN:STANDARD
DTSTART:20261025T030000
RDATE:20261025T030000
RDATE:20271031T030000
TZNAME:CET
TZOFFSETFROM:+0200
TZOFFSETTO:+0100
END:STANDARD
END:VTIMEZONE
BEGIN:VEVENT
SUMMARY:Izpit: Dinamika
DTSTART;TZID=Europe/Ljubljana:20260811T100000
DTEND;TZID=Europe/Ljubljana:20260811T130000
DTSTAMP:20260420T071252Z
UID:fs-AFLABS-URNIK:rezervacija:11615
ATTENDEE:PAP-1 (PAP-1)
CATEGORIES:Reservation
COLOR:royalblue
DESCRIPTION:Predmeti: Dinamika (DNMP)\nLetniki: PAP-1 (PAP-1)\nIzvajalci: 
 Martin Česnik\nProstori: Predavalnica V/2
LOCATION:Predavalnica V/2
ORGANIZER:Martin Česnik
X-WR-TIMEZONE:Europe/Ljubljana
END:VEVENT
BEGIN:VEVENT
SUMMARY:Izpit: Dinamika
DTSTART;TZID=Europe/Ljubljana:20260811T100000
DTEND;TZID=Europe/Ljubljana:20260811T130000
DTSTAMP:20260420T071252Z
UID:fs-AFLABS-URNIK:rezervacija:11616
ATTENDEE:PAP-1 (PAP-1)
CATEGORIES:Reservation
COLOR:royalblue
DESCRIPTION:Predmeti: Dinamika (DNMP)\nLetniki: PAP-1 (PAP-1)\nIzvajalci: 
 Martin Česnik\nProstori: Predavalnica V/2
LOCATION:Predavalnica V/2
ORGANIZER:Martin Česnik
X-WR-TIMEZONE:Europe/Ljubljana
END:VEVENT
END:VCALENDAR
