BEGIN:VCALENDAR
VERSION:2.0
PRODID:-//AFLabs urnik izvoz - fs//aflabs.si//SI
NAME:UL FS Urnik
X-WR-CALNAME:UL FS Urnik
DTSTAMP:20260422T062413Z
REFRESH-INTERVAL:PT1H
SOURCE:https://urnik.fs.uni-lj.si/teacher/665/?day=2024-09-09&export=1
URL:https://urnik.fs.uni-lj.si/teacher/665/?day=2024-09-09&export=1
X-PUBLISHED-TTL:PT1H
X-WR-TIMEZONE:Europe/Ljubljana
BEGIN:VTIMEZONE
TZID:Europe/Ljubljana
BEGIN:DAYLIGHT
DTSTART:20260329T020000
RDATE:20260329T020000
RDATE:20270328T020000
TZNAME:CEST
TZOFFSETFROM:+0100
TZOFFSETTO:+0200
END:DAYLIGHT
BEGIN:STANDARD
DTSTART:20261025T030000
RDATE:20261025T030000
RDATE:20271031T030000
TZNAME:CET
TZOFFSETFROM:+0200
TZOFFSETTO:+0100
END:STANDARD
END:VTIMEZONE
BEGIN:VEVENT
SUMMARY:Hidravlika in pnevmatika - RRP (HDPR)\, Predavalniške vaje (VP)\,
  [S3]
DTSTART;TZID=Europe/Ljubljana:20240930T150000
DTEND;TZID=Europe/Ljubljana:20240930T170000
DTSTAMP:20260422T062413Z
UID:fs-AFLABS-URNIK:srecanje:10691-2024-09-30 15:00:00+02:00
DESCRIPTION:Predmet: Hidravlika in pnevmatika - RRP (HDPR)\, Predavalnišk
 e vaje (VP)\, [S3]\nLetniki: RRP-3 (RRP-3)\nIzvajalci: Mihael Debevec\, Ne
 jc Novak\, Miha Pipan\nProstor: Predavalnica II/3A
END:VEVENT
BEGIN:VEVENT
SUMMARY:Hidravlika in pnevmatika - RRP (HDPR)\, Predavalniške vaje (VP)\,
  [S3]
DTSTART;TZID=Europe/Ljubljana:20241007T150000
DTEND;TZID=Europe/Ljubljana:20241007T170000
DTSTAMP:20260422T062413Z
UID:fs-AFLABS-URNIK:srecanje:10691-2024-10-07 15:00:00+02:00
DESCRIPTION:Predmet: Hidravlika in pnevmatika - RRP (HDPR)\, Predavalnišk
 e vaje (VP)\, [S3]\nLetniki: RRP-3 (RRP-3)\nIzvajalci: Mihael Debevec\, Ne
 jc Novak\, Miha Pipan\nProstor: Predavalnica II/3A
END:VEVENT
BEGIN:VEVENT
SUMMARY:Hidravlika in pnevmatika - RRP (HDPR)\, Predavalniške vaje (VP)\,
  [S3]
DTSTART;TZID=Europe/Ljubljana:20241014T150000
DTEND;TZID=Europe/Ljubljana:20241014T170000
DTSTAMP:20260422T062413Z
UID:fs-AFLABS-URNIK:srecanje:10691-2024-10-14 15:00:00+02:00
DESCRIPTION:Predmet: Hidravlika in pnevmatika - RRP (HDPR)\, Predavalnišk
 e vaje (VP)\, [S3]\nLetniki: RRP-3 (RRP-3)\nIzvajalci: Mihael Debevec\, Ne
 jc Novak\, Miha Pipan\nProstor: Predavalnica II/3A
END:VEVENT
BEGIN:VEVENT
SUMMARY:Hidravlika in pnevmatika - RRP (HDPR)\, Predavalniške vaje (VP)\,
  [S2]
DTSTART;TZID=Europe/Ljubljana:20241001T140000
DTEND;TZID=Europe/Ljubljana:20241001T160000
DTSTAMP:20260422T062413Z
UID:fs-AFLABS-URNIK:srecanje:10467-2024-10-01 14:00:00+02:00
DESCRIPTION:Predmet: Hidravlika in pnevmatika - RRP (HDPR)\, Predavalnišk
 e vaje (VP)\, [S2]\nLetniki: RRP-3 (RRP-3)\nIzvajalci: Mihael Debevec\, Ne
 jc Novak\, Miha Pipan\, Jan Pustavrh\, Marko Šimic\, Ana Trajkovski\nPros
 tor: Predavalnica V/2
END:VEVENT
BEGIN:VEVENT
SUMMARY:Hidravlika in pnevmatika - RRP (HDPR)\, Predavalniške vaje (VP)\,
  [S2]
DTSTART;TZID=Europe/Ljubljana:20241008T140000
DTEND;TZID=Europe/Ljubljana:20241008T160000
DTSTAMP:20260422T062413Z
UID:fs-AFLABS-URNIK:srecanje:10467-2024-10-08 14:00:00+02:00
DESCRIPTION:Predmet: Hidravlika in pnevmatika - RRP (HDPR)\, Predavalnišk
 e vaje (VP)\, [S2]\nLetniki: RRP-3 (RRP-3)\nIzvajalci: Mihael Debevec\, Ne
 jc Novak\, Miha Pipan\, Jan Pustavrh\, Marko Šimic\, Ana Trajkovski\nPros
 tor: Predavalnica V/2
END:VEVENT
BEGIN:VEVENT
SUMMARY:Logistika materiala in sredstev (LMSP)\, Predavanja (P)
DTSTART;TZID=Europe/Ljubljana:20241001T153000
DTEND;TZID=Europe/Ljubljana:20241001T173000
DTSTAMP:20260422T062413Z
UID:fs-AFLABS-URNIK:srecanje:6857-2024-10-01 15:30:00+02:00
DESCRIPTION:Predmet: Logistika materiala in sredstev (LMSP)\, Predavanja (
 P)\nLetniki: Industrijsko inženirstvo (PAP-3)\nIzvajalci: Mihael Debevec\
 , Niko Herakovič\, Marko Šimic\nProstor: Predavalnica III/3A
END:VEVENT
BEGIN:VEVENT
SUMMARY:Logistika materiala in sredstev (LMSP)\, Predavanja (P)
DTSTART;TZID=Europe/Ljubljana:20241008T153000
DTEND;TZID=Europe/Ljubljana:20241008T173000
DTSTAMP:20260422T062413Z
UID:fs-AFLABS-URNIK:srecanje:6857-2024-10-08 15:30:00+02:00
DESCRIPTION:Predmet: Logistika materiala in sredstev (LMSP)\, Predavanja (
 P)\nLetniki: Industrijsko inženirstvo (PAP-3)\nIzvajalci: Mihael Debevec\
 , Niko Herakovič\, Marko Šimic\nProstor: Predavalnica III/3A
END:VEVENT
BEGIN:VEVENT
SUMMARY:Robotizirana proizvodnja (RBPP)\, Predavalniške vaje (VP)
DTSTART;TZID=Europe/Ljubljana:20241001T093000
DTEND;TZID=Europe/Ljubljana:20241001T113000
DTSTAMP:20260422T062413Z
UID:fs-AFLABS-URNIK:srecanje:10275-2024-10-01 09:30:00+02:00
DESCRIPTION:Predmet: Robotizirana proizvodnja (RBPP)\, Predavalniške vaje
  (VP)\nLetniki: Industrijsko inženirstvo (PAP-3)\nIzvajalci: Mihael Debev
 ec\, Miha Pipan\nProstor: Predavalnica IV/3A
END:VEVENT
BEGIN:VEVENT
SUMMARY:Robotizirana proizvodnja (RBPP)\, Predavalniške vaje (VP)
DTSTART;TZID=Europe/Ljubljana:20241008T093000
DTEND;TZID=Europe/Ljubljana:20241008T113000
DTSTAMP:20260422T062413Z
UID:fs-AFLABS-URNIK:srecanje:10275-2024-10-08 09:30:00+02:00
DESCRIPTION:Predmet: Robotizirana proizvodnja (RBPP)\, Predavalniške vaje
  (VP)\nLetniki: Industrijsko inženirstvo (PAP-3)\nIzvajalci: Mihael Debev
 ec\, Miha Pipan\nProstor: Predavalnica IV/3A
END:VEVENT
BEGIN:VEVENT
SUMMARY:Hidravlika in pnevmatika - RRP (HDPR)\, Predavalniške vaje (VP)\,
  [S1]
DTSTART;TZID=Europe/Ljubljana:20241002T160000
DTEND;TZID=Europe/Ljubljana:20241002T180000
DTSTAMP:20260422T062413Z
UID:fs-AFLABS-URNIK:srecanje:6645-2024-10-02 16:00:00+02:00
DESCRIPTION:Predmet: Hidravlika in pnevmatika - RRP (HDPR)\, Predavalnišk
 e vaje (VP)\, [S1]\nLetniki: RRP-3 (RRP-3)\nIzvajalci: Mihael Debevec\, Ne
 jc Novak\, Miha Pipan\, Jan Pustavrh\, Marko Šimic\, Ana Trajkovski\nPros
 tor: Predavalnica III/3A
END:VEVENT
BEGIN:VEVENT
SUMMARY:Hidravlika in pnevmatika - RRP (HDPR)\, Predavalniške vaje (VP)\,
  [S1]
DTSTART;TZID=Europe/Ljubljana:20241009T160000
DTEND;TZID=Europe/Ljubljana:20241009T180000
DTSTAMP:20260422T062413Z
UID:fs-AFLABS-URNIK:srecanje:6645-2024-10-09 16:00:00+02:00
DESCRIPTION:Predmet: Hidravlika in pnevmatika - RRP (HDPR)\, Predavalnišk
 e vaje (VP)\, [S1]\nLetniki: RRP-3 (RRP-3)\nIzvajalci: Mihael Debevec\, Ne
 jc Novak\, Miha Pipan\, Jan Pustavrh\, Marko Šimic\, Ana Trajkovski\nPros
 tor: Predavalnica III/3A
END:VEVENT
BEGIN:VEVENT
SUMMARY:Logistika materiala in sredstev (LMSP)\, Predavalniške vaje (VP)
DTSTART;TZID=Europe/Ljubljana:20241002T093000
DTEND;TZID=Europe/Ljubljana:20241002T113000
DTSTAMP:20260422T062413Z
UID:fs-AFLABS-URNIK:srecanje:6862-2024-10-02 09:30:00+02:00
DESCRIPTION:Predmet: Logistika materiala in sredstev (LMSP)\, Predavalniš
 ke vaje (VP)\nLetniki: Industrijsko inženirstvo (PAP-3)\nIzvajalci: Mihae
 l Debevec\, Miha Pipan\nProstor: Predavalnica IV/3A
END:VEVENT
BEGIN:VEVENT
SUMMARY:Logistika materiala in sredstev (LMSP)\, Predavalniške vaje (VP)
DTSTART;TZID=Europe/Ljubljana:20241009T093000
DTEND;TZID=Europe/Ljubljana:20241009T113000
DTSTAMP:20260422T062413Z
UID:fs-AFLABS-URNIK:srecanje:6862-2024-10-09 09:30:00+02:00
DESCRIPTION:Predmet: Logistika materiala in sredstev (LMSP)\, Predavalniš
 ke vaje (VP)\nLetniki: Industrijsko inženirstvo (PAP-3)\nIzvajalci: Mihae
 l Debevec\, Miha Pipan\nProstor: Predavalnica IV/3A
END:VEVENT
BEGIN:VEVENT
SUMMARY:Smart Factories (SMFE)\, Predavalniške vaje (VP)
DTSTART;TZID=Europe/Ljubljana:20241004T160000
DTEND;TZID=Europe/Ljubljana:20241004T180000
DTSTAMP:20260422T062413Z
UID:fs-AFLABS-URNIK:srecanje:10677-2024-10-04 16:00:00+02:00
DESCRIPTION:Predmet: Smart Factories (SMFE)\, Predavalniške vaje (VP)\nLe
 tniki: Erasmus (Erasmus)\nIzvajalci: Mihael Debevec\nProstor: Predavalnica
  I/4A
END:VEVENT
BEGIN:VEVENT
SUMMARY:Smart Factories (SMFE)\, Predavalniške vaje (VP)
DTSTART;TZID=Europe/Ljubljana:20241011T160000
DTEND;TZID=Europe/Ljubljana:20241011T180000
DTSTAMP:20260422T062413Z
UID:fs-AFLABS-URNIK:srecanje:10677-2024-10-11 16:00:00+02:00
DESCRIPTION:Predmet: Smart Factories (SMFE)\, Predavalniške vaje (VP)\nLe
 tniki: Erasmus (Erasmus)\nIzvajalci: Mihael Debevec\nProstor: Predavalnica
  I/4A
END:VEVENT
BEGIN:VEVENT
SUMMARY:Pametne tovarne (PMTM)\, Predavalniške vaje (VP)
DTSTART;TZID=Europe/Ljubljana:20241004T140000
DTEND;TZID=Europe/Ljubljana:20241004T160000
DTSTAMP:20260422T062413Z
UID:fs-AFLABS-URNIK:srecanje:7138-2024-10-04 14:00:00+02:00
DESCRIPTION:Predmet: Pametne tovarne (PMTM)\, Predavalniške vaje (VP)\nLe
 tniki: Proizvodno strojništvo (MAG-2)\nIzvajalci: Mihael Debevec\nProstor
 : Predavalnica II/2
END:VEVENT
BEGIN:VEVENT
SUMMARY:Pametne tovarne (PMTM)\, Predavalniške vaje (VP)
DTSTART;TZID=Europe/Ljubljana:20241011T140000
DTEND;TZID=Europe/Ljubljana:20241011T160000
DTSTAMP:20260422T062413Z
UID:fs-AFLABS-URNIK:srecanje:7138-2024-10-11 14:00:00+02:00
DESCRIPTION:Predmet: Pametne tovarne (PMTM)\, Predavalniške vaje (VP)\nLe
 tniki: Proizvodno strojništvo (MAG-2)\nIzvajalci: Mihael Debevec\nProstor
 : Predavalnica II/2
END:VEVENT
BEGIN:VEVENT
SUMMARY:Logistika materiala in sredstev (LMSP)\, Laboratorijske vaje (VL)\
 , [S1]
DTSTART;TZID=Europe/Ljubljana:20241014T073000
DTEND;TZID=Europe/Ljubljana:20241014T093000
DTSTAMP:20260422T062413Z
UID:fs-AFLABS-URNIK:srecanje:6858-2024-10-14 07:30:00+02:00
DESCRIPTION:Predmet: Logistika materiala in sredstev (LMSP)\, Laboratorijs
 ke vaje (VL)\, [S1]\nLetniki: Industrijsko inženirstvo (PAP-3)\nIzvajalci
 : Mihael Debevec\, Miha Pipan\nProstor: Laboratorij LASIM DS-N1
END:VEVENT
BEGIN:VEVENT
SUMMARY:Logistika materiala in sredstev (LMSP)\, Laboratorijske vaje (VL)\
 , [S2]
DTSTART;TZID=Europe/Ljubljana:20241014T093000
DTEND;TZID=Europe/Ljubljana:20241014T113000
DTSTAMP:20260422T062413Z
UID:fs-AFLABS-URNIK:srecanje:6859-2024-10-14 09:30:00+02:00
DESCRIPTION:Predmet: Logistika materiala in sredstev (LMSP)\, Laboratorijs
 ke vaje (VL)\, [S2]\nLetniki: Industrijsko inženirstvo (PAP-3)\nIzvajalci
 : Mihael Debevec\, Miha Pipan\nProstor: Laboratorij LASIM DS-N1
END:VEVENT
BEGIN:VEVENT
SUMMARY:Logistika materiala in sredstev (LMSP)\, Laboratorijske vaje (VL)\
 , [S3]
DTSTART;TZID=Europe/Ljubljana:20241014T133000
DTEND;TZID=Europe/Ljubljana:20241014T153000
DTSTAMP:20260422T062413Z
UID:fs-AFLABS-URNIK:srecanje:6860-2024-10-14 13:30:00+02:00
DESCRIPTION:Predmet: Logistika materiala in sredstev (LMSP)\, Laboratorijs
 ke vaje (VL)\, [S3]\nLetniki: Industrijsko inženirstvo (PAP-3)\nIzvajalci
 : Mihael Debevec\, Miha Pipan\nProstor: Laboratorij LASIM SK-13
END:VEVENT
END:VCALENDAR
