BEGIN:VCALENDAR
VERSION:2.0
PRODID:-//AFLabs urnik izvoz - fs//aflabs.si//SI
NAME:UL FS Urnik
X-WR-CALNAME:UL FS Urnik
DTSTAMP:20260423T223609Z
REFRESH-INTERVAL:PT1H
SOURCE:https://urnik.fs.uni-lj.si/teacher/666/?day=2024-09-09&export=1
URL:https://urnik.fs.uni-lj.si/teacher/666/?day=2024-09-09&export=1
X-PUBLISHED-TTL:PT1H
X-WR-TIMEZONE:Europe/Ljubljana
BEGIN:VTIMEZONE
TZID:Europe/Ljubljana
BEGIN:DAYLIGHT
DTSTART:20260329T020000
RDATE:20260329T020000
RDATE:20270328T020000
TZNAME:CEST
TZOFFSETFROM:+0100
TZOFFSETTO:+0200
END:DAYLIGHT
BEGIN:STANDARD
DTSTART:20261025T030000
RDATE:20261025T030000
RDATE:20271031T030000
TZNAME:CET
TZOFFSETFROM:+0200
TZOFFSETTO:+0100
END:STANDARD
END:VTIMEZONE
BEGIN:VEVENT
SUMMARY:Engineering Design Techniques (EDTE)\, Predavalniške vaje (VP)
DTSTART;TZID=Europe/Ljubljana:20240930T180000
DTEND;TZID=Europe/Ljubljana:20240930T200000
DTSTAMP:20260423T223609Z
UID:fs-AFLABS-URNIK:srecanje:6559-2024-09-30 18:00:00+02:00
DESCRIPTION:Predmet: Engineering Design Techniques (EDTE)\, Predavalniške
  vaje (VP)\nLetniki: Erasmus (Erasmus)\nIzvajalci: Matic Brank\, Ivan Dem
 šar\, Leon Kos\nProstor: Laboratorij LECAD III/6
END:VEVENT
BEGIN:VEVENT
SUMMARY:Metodika konstruiranja - PAP (MTKP)\, Predavalniške vaje (VP)\, [
 S1]
DTSTART;TZID=Europe/Ljubljana:20240930T133000
DTEND;TZID=Europe/Ljubljana:20240930T153000
DTSTAMP:20260423T223609Z
UID:fs-AFLABS-URNIK:srecanje:6953-2024-09-30 13:30:00+02:00
DESCRIPTION:Predmet: Metodika konstruiranja - PAP (MTKP)\, Predavalniške 
 vaje (VP)\, [S1]\nLetniki: Energetsko strojništvo (PAP-2)\, Industrijsko 
 inženirstvo (PAP-2)\, Konstruiranje industrijskih sistemov (PAP-2)\, Kons
 truiranje strojev in naprav (PAP-2)\, Mehatronika (PAP-2)\, Procesno stroj
 ništvo (PAP-2)\, Proizvodne tehnologije (PAP-2)\, Prometni pilot letala/h
 elikopterja (PAP-2)\, Snovanje in vzdrževanje letal (PAP-2)\nIzvajalci: V
 anja Čok\, Ivan Demšar\nProstor: Predavalnica IV/2
END:VEVENT
BEGIN:VEVENT
SUMMARY:Metodika konstruiranja - PAP (MTKP)\, Predavalniške vaje (VP)\, [
 S1]
DTSTART;TZID=Europe/Ljubljana:20241014T133000
DTEND;TZID=Europe/Ljubljana:20241014T153000
DTSTAMP:20260423T223609Z
UID:fs-AFLABS-URNIK:srecanje:6953-2024-10-14 13:30:00+02:00
DESCRIPTION:Predmet: Metodika konstruiranja - PAP (MTKP)\, Predavalniške 
 vaje (VP)\, [S1]\nLetniki: Energetsko strojništvo (PAP-2)\, Industrijsko 
 inženirstvo (PAP-2)\, Konstruiranje industrijskih sistemov (PAP-2)\, Kons
 truiranje strojev in naprav (PAP-2)\, Mehatronika (PAP-2)\, Procesno stroj
 ništvo (PAP-2)\, Proizvodne tehnologije (PAP-2)\, Prometni pilot letala/h
 elikopterja (PAP-2)\, Snovanje in vzdrževanje letal (PAP-2)\nIzvajalci: V
 anja Čok\, Ivan Demšar\nProstor: Predavalnica IV/2
END:VEVENT
BEGIN:VEVENT
SUMMARY:Metodika konstruiranja - PAP (MTKP)\, Predavalniške vaje (VP)\, [
 S2]
DTSTART;TZID=Europe/Ljubljana:20240930T093000
DTEND;TZID=Europe/Ljubljana:20240930T113000
DTSTAMP:20260423T223609Z
UID:fs-AFLABS-URNIK:srecanje:6954-2024-09-30 09:30:00+02:00
DESCRIPTION:Predmet: Metodika konstruiranja - PAP (MTKP)\, Predavalniške 
 vaje (VP)\, [S2]\nLetniki: Energetsko strojništvo (PAP-2)\, Industrijsko 
 inženirstvo (PAP-2)\, Konstruiranje industrijskih sistemov (PAP-2)\, Kons
 truiranje strojev in naprav (PAP-2)\, Mehatronika (PAP-2)\, Procesno stroj
 ništvo (PAP-2)\, Proizvodne tehnologije (PAP-2)\, Prometni pilot letala/h
 elikopterja (PAP-2)\, Snovanje in vzdrževanje letal (PAP-2)\nIzvajalci: V
 anja Čok\, Ivan Demšar\nProstor: Predavalnica III/2
END:VEVENT
BEGIN:VEVENT
SUMMARY:Metodika konstruiranja - PAP (MTKP)\, Predavalniške vaje (VP)\, [
 S2]
DTSTART;TZID=Europe/Ljubljana:20241014T093000
DTEND;TZID=Europe/Ljubljana:20241014T113000
DTSTAMP:20260423T223609Z
UID:fs-AFLABS-URNIK:srecanje:6954-2024-10-14 09:30:00+02:00
DESCRIPTION:Predmet: Metodika konstruiranja - PAP (MTKP)\, Predavalniške 
 vaje (VP)\, [S2]\nLetniki: Energetsko strojništvo (PAP-2)\, Industrijsko 
 inženirstvo (PAP-2)\, Konstruiranje industrijskih sistemov (PAP-2)\, Kons
 truiranje strojev in naprav (PAP-2)\, Mehatronika (PAP-2)\, Procesno stroj
 ništvo (PAP-2)\, Proizvodne tehnologije (PAP-2)\, Prometni pilot letala/h
 elikopterja (PAP-2)\, Snovanje in vzdrževanje letal (PAP-2)\nIzvajalci: V
 anja Čok\, Ivan Demšar\nProstor: Predavalnica III/2
END:VEVENT
BEGIN:VEVENT
SUMMARY:Konstrukcijske tehnike (KNTM)\, Predavalniške vaje (VP)
DTSTART;TZID=Europe/Ljubljana:20241002T160000
DTEND;TZID=Europe/Ljubljana:20241002T180000
DTSTAMP:20260423T223609Z
UID:fs-AFLABS-URNIK:srecanje:10751-2024-10-02 16:00:00+02:00
DESCRIPTION:Predmet: Konstrukcijske tehnike (KNTM)\, Predavalniške vaje (
 VP)\nLetniki: Konstruiranje (MAG-1)\nIzvajalci: Matic Brank\, Ivan Demšar
 \nProstor: Predavalnica IV/2
END:VEVENT
BEGIN:VEVENT
SUMMARY:Metodika konstruiranja - PAP (MTKP)\, Laboratorijske vaje (VL)\, [
 S4]
DTSTART;TZID=Europe/Ljubljana:20241007T133000
DTEND;TZID=Europe/Ljubljana:20241007T153000
DTSTAMP:20260423T223609Z
UID:fs-AFLABS-URNIK:srecanje:6948-2024-10-07 13:30:00+02:00
DESCRIPTION:Predmet: Metodika konstruiranja - PAP (MTKP)\, Laboratorijske 
 vaje (VL)\, [S4]\nLetniki: Energetsko strojništvo (PAP-2)\, Industrijsko 
 inženirstvo (PAP-2)\, Konstruiranje industrijskih sistemov (PAP-2)\, Kons
 truiranje strojev in naprav (PAP-2)\, Mehatronika (PAP-2)\, Procesno stroj
 ništvo (PAP-2)\, Proizvodne tehnologije (PAP-2)\, Prometni pilot letala/h
 elikopterja (PAP-2)\, Snovanje in vzdrževanje letal (PAP-2)\nIzvajalci: V
 anja Čok\, Ivan Demšar\, Pavel Tomšič\nProstor: Laboratorij LECAD III/
 6
END:VEVENT
BEGIN:VEVENT
SUMMARY:Metodika konstruiranja - PAP (MTKP)\, Laboratorijske vaje (VL)\, [
 S6]
DTSTART;TZID=Europe/Ljubljana:20241007T093000
DTEND;TZID=Europe/Ljubljana:20241007T113000
DTSTAMP:20260423T223609Z
UID:fs-AFLABS-URNIK:srecanje:6950-2024-10-07 09:30:00+02:00
DESCRIPTION:Predmet: Metodika konstruiranja - PAP (MTKP)\, Laboratorijske 
 vaje (VL)\, [S6]\nLetniki: Energetsko strojništvo (PAP-2)\, Industrijsko 
 inženirstvo (PAP-2)\, Konstruiranje industrijskih sistemov (PAP-2)\, Kons
 truiranje strojev in naprav (PAP-2)\, Mehatronika (PAP-2)\, Procesno stroj
 ništvo (PAP-2)\, Proizvodne tehnologije (PAP-2)\, Prometni pilot letala/h
 elikopterja (PAP-2)\, Snovanje in vzdrževanje letal (PAP-2)\nIzvajalci: V
 anja Čok\, Ivan Demšar\, Pavel Tomšič\nProstor: Laboratorij LECAD III/
 6
END:VEVENT
BEGIN:VEVENT
SUMMARY:Metodika konstruiranja - PAP (MTKP)\, Laboratorijske vaje (VL)\, [
 S7]
DTSTART;TZID=Europe/Ljubljana:20241007T113000
DTEND;TZID=Europe/Ljubljana:20241007T133000
DTSTAMP:20260423T223609Z
UID:fs-AFLABS-URNIK:srecanje:6951-2024-10-07 11:30:00+02:00
DESCRIPTION:Predmet: Metodika konstruiranja - PAP (MTKP)\, Laboratorijske 
 vaje (VL)\, [S7]\nLetniki: Energetsko strojništvo (PAP-2)\, Industrijsko 
 inženirstvo (PAP-2)\, Konstruiranje industrijskih sistemov (PAP-2)\, Kons
 truiranje strojev in naprav (PAP-2)\, Mehatronika (PAP-2)\, Procesno stroj
 ništvo (PAP-2)\, Proizvodne tehnologije (PAP-2)\, Prometni pilot letala/h
 elikopterja (PAP-2)\, Snovanje in vzdrževanje letal (PAP-2)\nIzvajalci: V
 anja Čok\, Ivan Demšar\, Pavel Tomšič\nProstor: Laboratorij LECAD III/
 6
END:VEVENT
BEGIN:VEVENT
SUMMARY:Metodika konstruiranja - PAP (MTKP)\, Laboratorijske vaje (VL)\, [
 S8]
DTSTART;TZID=Europe/Ljubljana:20241007T073000
DTEND;TZID=Europe/Ljubljana:20241007T093000
DTSTAMP:20260423T223609Z
UID:fs-AFLABS-URNIK:srecanje:6952-2024-10-07 07:30:00+02:00
DESCRIPTION:Predmet: Metodika konstruiranja - PAP (MTKP)\, Laboratorijske 
 vaje (VL)\, [S8]\nLetniki: Energetsko strojništvo (PAP-2)\, Industrijsko 
 inženirstvo (PAP-2)\, Konstruiranje industrijskih sistemov (PAP-2)\, Kons
 truiranje strojev in naprav (PAP-2)\, Mehatronika (PAP-2)\, Procesno stroj
 ništvo (PAP-2)\, Proizvodne tehnologije (PAP-2)\, Prometni pilot letala/h
 elikopterja (PAP-2)\, Snovanje in vzdrževanje letal (PAP-2)\nIzvajalci: V
 anja Čok\, Ivan Demšar\, Pavel Tomšič\nProstor: Laboratorij LECAD III/
 6
END:VEVENT
BEGIN:VEVENT
SUMMARY:Engineering Design Techniques (EDTE)\, Predavalniške vaje (VP)
DTSTART;TZID=Europe/Ljubljana:20241007T180000
DTEND;TZID=Europe/Ljubljana:20241007T200000
DTSTAMP:20260423T223609Z
UID:fs-AFLABS-URNIK:srecanje:10811-2024-10-07 18:00:00+02:00
DESCRIPTION:Predmet: Engineering Design Techniques (EDTE)\, Predavalniške
  vaje (VP)\nLetniki: Erasmus (Erasmus)\nIzvajalci: Matic Brank\, Ivan Dem
 šar\, Leon Kos\nProstor: Laboratorij LECAD III/6
END:VEVENT
BEGIN:VEVENT
SUMMARY:Engineering Design Techniques (EDTE)\, Predavalniške vaje (VP)
DTSTART;TZID=Europe/Ljubljana:20241014T180000
DTEND;TZID=Europe/Ljubljana:20241014T200000
DTSTAMP:20260423T223609Z
UID:fs-AFLABS-URNIK:srecanje:10811-2024-10-14 18:00:00+02:00
DESCRIPTION:Predmet: Engineering Design Techniques (EDTE)\, Predavalniške
  vaje (VP)\nLetniki: Erasmus (Erasmus)\nIzvajalci: Matic Brank\, Ivan Dem
 šar\, Leon Kos\nProstor: Laboratorij LECAD III/6
END:VEVENT
BEGIN:VEVENT
SUMMARY:Metodika konstruiranja - PAP (MTKP)\, Laboratorijske vaje (VL)\, [
 S1]
DTSTART;TZID=Europe/Ljubljana:20241009T083000
DTEND;TZID=Europe/Ljubljana:20241009T100000
DTSTAMP:20260423T223609Z
UID:fs-AFLABS-URNIK:srecanje:6945-2024-10-09 08:30:00+02:00
DESCRIPTION:Predmet: Metodika konstruiranja - PAP (MTKP)\, Laboratorijske 
 vaje (VL)\, [S1]\nLetniki: Energetsko strojništvo (PAP-2)\, Industrijsko 
 inženirstvo (PAP-2)\, Konstruiranje industrijskih sistemov (PAP-2)\, Kons
 truiranje strojev in naprav (PAP-2)\, Mehatronika (PAP-2)\, Procesno stroj
 ništvo (PAP-2)\, Proizvodne tehnologije (PAP-2)\, Prometni pilot letala/h
 elikopterja (PAP-2)\, Snovanje in vzdrževanje letal (PAP-2)\nIzvajalci: V
 anja Čok\, Ivan Demšar\, Pavel Tomšič\nProstor: Laboratorij LECAD III/
 6
END:VEVENT
BEGIN:VEVENT
SUMMARY:Metodika konstruiranja - PAP (MTKP)\, Laboratorijske vaje (VL)\, [
 S2]
DTSTART;TZID=Europe/Ljubljana:20241009T103000
DTEND;TZID=Europe/Ljubljana:20241009T123000
DTSTAMP:20260423T223609Z
UID:fs-AFLABS-URNIK:srecanje:6946-2024-10-09 10:30:00+02:00
DESCRIPTION:Predmet: Metodika konstruiranja - PAP (MTKP)\, Laboratorijske 
 vaje (VL)\, [S2]\nLetniki: Energetsko strojništvo (PAP-2)\, Industrijsko 
 inženirstvo (PAP-2)\, Konstruiranje industrijskih sistemov (PAP-2)\, Kons
 truiranje strojev in naprav (PAP-2)\, Mehatronika (PAP-2)\, Procesno stroj
 ništvo (PAP-2)\, Proizvodne tehnologije (PAP-2)\, Prometni pilot letala/h
 elikopterja (PAP-2)\, Snovanje in vzdrževanje letal (PAP-2)\nIzvajalci: V
 anja Čok\, Ivan Demšar\, Pavel Tomšič\nProstor: Laboratorij LECAD III/
 6
END:VEVENT
BEGIN:VEVENT
SUMMARY:Metodika konstruiranja - PAP (MTKP)\, Laboratorijske vaje (VL)\, [
 S3]
DTSTART;TZID=Europe/Ljubljana:20241009T143000
DTEND;TZID=Europe/Ljubljana:20241009T163000
DTSTAMP:20260423T223609Z
UID:fs-AFLABS-URNIK:srecanje:6947-2024-10-09 14:30:00+02:00
DESCRIPTION:Predmet: Metodika konstruiranja - PAP (MTKP)\, Laboratorijske 
 vaje (VL)\, [S3]\nLetniki: Energetsko strojništvo (PAP-2)\, Industrijsko 
 inženirstvo (PAP-2)\, Konstruiranje industrijskih sistemov (PAP-2)\, Kons
 truiranje strojev in naprav (PAP-2)\, Mehatronika (PAP-2)\, Procesno stroj
 ništvo (PAP-2)\, Proizvodne tehnologije (PAP-2)\, Prometni pilot letala/h
 elikopterja (PAP-2)\, Snovanje in vzdrževanje letal (PAP-2)\nIzvajalci: V
 anja Čok\, Ivan Demšar\, Pavel Tomšič\nProstor: Laboratorij LECAD III/
 6
END:VEVENT
BEGIN:VEVENT
SUMMARY:Metodika konstruiranja - PAP (MTKP)\, Laboratorijske vaje (VL)\, [
 S5]
DTSTART;TZID=Europe/Ljubljana:20241009T123000
DTEND;TZID=Europe/Ljubljana:20241009T143000
DTSTAMP:20260423T223609Z
UID:fs-AFLABS-URNIK:srecanje:6949-2024-10-09 12:30:00+02:00
DESCRIPTION:Predmet: Metodika konstruiranja - PAP (MTKP)\, Laboratorijske 
 vaje (VL)\, [S5]\nLetniki: Energetsko strojništvo (PAP-2)\, Industrijsko 
 inženirstvo (PAP-2)\, Konstruiranje industrijskih sistemov (PAP-2)\, Kons
 truiranje strojev in naprav (PAP-2)\, Mehatronika (PAP-2)\, Procesno stroj
 ništvo (PAP-2)\, Proizvodne tehnologije (PAP-2)\, Prometni pilot letala/h
 elikopterja (PAP-2)\, Snovanje in vzdrževanje letal (PAP-2)\nIzvajalci: V
 anja Čok\, Ivan Demšar\, Pavel Tomšič\nProstor: Laboratorij LECAD III/
 6
END:VEVENT
BEGIN:VEVENT
SUMMARY:Konstrukcijske tehnike (KNTM)\, Laboratorijske vaje (VL)\, [S2]
DTSTART;TZID=Europe/Ljubljana:20241010T120000
DTEND;TZID=Europe/Ljubljana:20241010T140000
DTSTAMP:20260423T223609Z
UID:fs-AFLABS-URNIK:srecanje:6743-2024-10-10 12:00:00+02:00
DESCRIPTION:Predmet: Konstrukcijske tehnike (KNTM)\, Laboratorijske vaje (
 VL)\, [S2]\nLetniki: Konstruiranje (MAG-1)\nIzvajalci: Matic Brank\, Ivan 
 Demšar\nProstor: Laboratorij LECAD III/6
END:VEVENT
BEGIN:VEVENT
SUMMARY:Konstrukcijske tehnike (KNTM)\, Laboratorijske vaje (VL)\, [S1]
DTSTART;TZID=Europe/Ljubljana:20241011T120000
DTEND;TZID=Europe/Ljubljana:20241011T140000
DTSTAMP:20260423T223609Z
UID:fs-AFLABS-URNIK:srecanje:6742-2024-10-11 12:00:00+02:00
DESCRIPTION:Predmet: Konstrukcijske tehnike (KNTM)\, Laboratorijske vaje (
 VL)\, [S1]\nLetniki: Konstruiranje (MAG-1)\nIzvajalci: Matic Brank\, Ivan 
 Demšar\nProstor: Laboratorij LECAD III/6
END:VEVENT
BEGIN:VEVENT
SUMMARY:Konstrukcijske tehnike (KNTM)\, Laboratorijske vaje (VL)\, [S3]
DTSTART;TZID=Europe/Ljubljana:20241011T080000
DTEND;TZID=Europe/Ljubljana:20241011T100000
DTSTAMP:20260423T223609Z
UID:fs-AFLABS-URNIK:srecanje:6744-2024-10-11 08:00:00+02:00
DESCRIPTION:Predmet: Konstrukcijske tehnike (KNTM)\, Laboratorijske vaje (
 VL)\, [S3]\nLetniki: Konstruiranje (MAG-1)\nIzvajalci: Matic Brank\, Ivan 
 Demšar\nProstor: Laboratorij LECAD III/6
END:VEVENT
BEGIN:VEVENT
SUMMARY:Konstrukcijske tehnike (KNTM)\, Laboratorijske vaje (VL)\, [S4]
DTSTART;TZID=Europe/Ljubljana:20241011T100000
DTEND;TZID=Europe/Ljubljana:20241011T120000
DTSTAMP:20260423T223609Z
UID:fs-AFLABS-URNIK:srecanje:6745-2024-10-11 10:00:00+02:00
DESCRIPTION:Predmet: Konstrukcijske tehnike (KNTM)\, Laboratorijske vaje (
 VL)\, [S4]\nLetniki: Konstruiranje (MAG-1)\nIzvajalci: Matic Brank\, Ivan 
 Demšar\nProstor: Laboratorij LECAD III/6
END:VEVENT
END:VCALENDAR
