BEGIN:VCALENDAR
VERSION:2.0
PRODID:-//AFLabs urnik izvoz - fs//aflabs.si//SI
NAME:UL FS Urnik
X-WR-CALNAME:UL FS Urnik
DTSTAMP:20260419T122544Z
REFRESH-INTERVAL:PT1H
SOURCE:https://urnik.fs.uni-lj.si/teacher/667/?day=2023-12-11&export=1
URL:https://urnik.fs.uni-lj.si/teacher/667/?day=2023-12-11&export=1
X-PUBLISHED-TTL:PT1H
X-WR-TIMEZONE:Europe/Ljubljana
BEGIN:VTIMEZONE
TZID:Europe/Ljubljana
BEGIN:DAYLIGHT
DTSTART:20260329T020000
RDATE:20260329T020000
RDATE:20270328T020000
TZNAME:CEST
TZOFFSETFROM:+0100
TZOFFSETTO:+0200
END:DAYLIGHT
BEGIN:STANDARD
DTSTART:20261025T030000
RDATE:20261025T030000
RDATE:20271031T030000
TZNAME:CET
TZOFFSETFROM:+0200
TZOFFSETTO:+0100
END:STANDARD
END:VTIMEZONE
BEGIN:VEVENT
SUMMARY:Microprocessor Control (MPCE)\, Predavanja (P)
DTSTART;TZID=Europe/Ljubljana:20231003T160000
DTEND;TZID=Europe/Ljubljana:20231003T180000
DTSTAMP:20260419T122544Z
UID:fs-AFLABS-URNIK:srecanje:6202-2023-10-03 16:00:00+02:00
DESCRIPTION:Predmet: Microprocessor Control (MPCE)\, Predavanja (P)\nLetni
 ki: Erasmus (Erasmus)\nIzvajalci: Janez Diaci\, Primož Podržaj\nProstor:
  Predavalnica III/2
END:VEVENT
BEGIN:VEVENT
SUMMARY:Mikroprocesorska krmilja (MPKM)\, Predavanja (P)
DTSTART;TZID=Europe/Ljubljana:20231003T140000
DTEND;TZID=Europe/Ljubljana:20231003T160000
DTSTAMP:20260419T122544Z
UID:fs-AFLABS-URNIK:srecanje:2373-2023-10-03 14:00:00+02:00
DESCRIPTION:Predmet: Mikroprocesorska krmilja (MPKM)\, Predavanja (P)\nLet
 niki: Mehatronika in laserska tehnika (MAG-1)\nIzvajalci: Janez Diaci\, Do
 minik Kozjek\, Primož Podržaj\nProstor: Predavalnica III/4
END:VEVENT
BEGIN:VEVENT
SUMMARY:Mikroprocesorska krmilja (MPKM)\, Predavanja (P)
DTSTART;TZID=Europe/Ljubljana:20231010T140000
DTEND;TZID=Europe/Ljubljana:20231010T160000
DTSTAMP:20260419T122544Z
UID:fs-AFLABS-URNIK:srecanje:2373-2023-10-10 14:00:00+02:00
DESCRIPTION:Predmet: Mikroprocesorska krmilja (MPKM)\, Predavanja (P)\nLet
 niki: Mehatronika in laserska tehnika (MAG-1)\nIzvajalci: Janez Diaci\, Do
 minik Kozjek\, Primož Podržaj\nProstor: Predavalnica III/4
END:VEVENT
BEGIN:VEVENT
SUMMARY:Mikroprocesorska krmilja (MPKM)\, Predavanja (P)
DTSTART;TZID=Europe/Ljubljana:20231017T140000
DTEND;TZID=Europe/Ljubljana:20231017T160000
DTSTAMP:20260419T122544Z
UID:fs-AFLABS-URNIK:srecanje:2373-2023-10-17 14:00:00+02:00
DESCRIPTION:Predmet: Mikroprocesorska krmilja (MPKM)\, Predavanja (P)\nLet
 niki: Mehatronika in laserska tehnika (MAG-1)\nIzvajalci: Janez Diaci\, Do
 minik Kozjek\, Primož Podržaj\nProstor: Predavalnica III/4
END:VEVENT
BEGIN:VEVENT
SUMMARY:Mikroprocesorska krmilja (MPKM)\, Predavanja (P)
DTSTART;TZID=Europe/Ljubljana:20231024T140000
DTEND;TZID=Europe/Ljubljana:20231024T160000
DTSTAMP:20260419T122544Z
UID:fs-AFLABS-URNIK:srecanje:2373-2023-10-24 14:00:00+02:00
DESCRIPTION:Predmet: Mikroprocesorska krmilja (MPKM)\, Predavanja (P)\nLet
 niki: Mehatronika in laserska tehnika (MAG-1)\nIzvajalci: Janez Diaci\, Do
 minik Kozjek\, Primož Podržaj\nProstor: Predavalnica III/4
END:VEVENT
BEGIN:VEVENT
SUMMARY:Mikroprocesorska krmilja (MPKM)\, Predavanja (P)
DTSTART;TZID=Europe/Ljubljana:20231031T140000
DTEND;TZID=Europe/Ljubljana:20231031T160000
DTSTAMP:20260419T122544Z
UID:fs-AFLABS-URNIK:srecanje:2373-2023-10-31 14:00:00+01:00
DESCRIPTION:Predmet: Mikroprocesorska krmilja (MPKM)\, Predavanja (P)\nLet
 niki: Mehatronika in laserska tehnika (MAG-1)\nIzvajalci: Janez Diaci\, Do
 minik Kozjek\, Primož Podržaj\nProstor: Predavalnica III/4
END:VEVENT
BEGIN:VEVENT
SUMMARY:Mikroprocesorska krmilja (MPKM)\, Predavanja (P)
DTSTART;TZID=Europe/Ljubljana:20231107T140000
DTEND;TZID=Europe/Ljubljana:20231107T160000
DTSTAMP:20260419T122544Z
UID:fs-AFLABS-URNIK:srecanje:2373-2023-11-07 14:00:00+01:00
DESCRIPTION:Predmet: Mikroprocesorska krmilja (MPKM)\, Predavanja (P)\nLet
 niki: Mehatronika in laserska tehnika (MAG-1)\nIzvajalci: Janez Diaci\, Do
 minik Kozjek\, Primož Podržaj\nProstor: Predavalnica III/4
END:VEVENT
BEGIN:VEVENT
SUMMARY:Mikroprocesorska krmilja (MPKM)\, Predavanja (P)
DTSTART;TZID=Europe/Ljubljana:20231114T140000
DTEND;TZID=Europe/Ljubljana:20231114T160000
DTSTAMP:20260419T122544Z
UID:fs-AFLABS-URNIK:srecanje:2373-2023-11-14 14:00:00+01:00
DESCRIPTION:Predmet: Mikroprocesorska krmilja (MPKM)\, Predavanja (P)\nLet
 niki: Mehatronika in laserska tehnika (MAG-1)\nIzvajalci: Janez Diaci\, Do
 minik Kozjek\, Primož Podržaj\nProstor: Predavalnica III/4
END:VEVENT
BEGIN:VEVENT
SUMMARY:Mikroprocesorska krmilja (MPKM)\, Predavanja (P)
DTSTART;TZID=Europe/Ljubljana:20231121T140000
DTEND;TZID=Europe/Ljubljana:20231121T160000
DTSTAMP:20260419T122544Z
UID:fs-AFLABS-URNIK:srecanje:2373-2023-11-21 14:00:00+01:00
DESCRIPTION:Predmet: Mikroprocesorska krmilja (MPKM)\, Predavanja (P)\nLet
 niki: Mehatronika in laserska tehnika (MAG-1)\nIzvajalci: Janez Diaci\, Do
 minik Kozjek\, Primož Podržaj\nProstor: Predavalnica III/4
END:VEVENT
BEGIN:VEVENT
SUMMARY:Mikroprocesorska krmilja (MPKM)\, Predavanja (P)
DTSTART;TZID=Europe/Ljubljana:20231128T140000
DTEND;TZID=Europe/Ljubljana:20231128T160000
DTSTAMP:20260419T122544Z
UID:fs-AFLABS-URNIK:srecanje:2373-2023-11-28 14:00:00+01:00
DESCRIPTION:Predmet: Mikroprocesorska krmilja (MPKM)\, Predavanja (P)\nLet
 niki: Mehatronika in laserska tehnika (MAG-1)\nIzvajalci: Janez Diaci\, Do
 minik Kozjek\, Primož Podržaj\nProstor: Predavalnica III/4
END:VEVENT
BEGIN:VEVENT
SUMMARY:Mikroprocesorska krmilja (MPKM)\, Predavanja (P)
DTSTART;TZID=Europe/Ljubljana:20231205T140000
DTEND;TZID=Europe/Ljubljana:20231205T160000
DTSTAMP:20260419T122544Z
UID:fs-AFLABS-URNIK:srecanje:2373-2023-12-05 14:00:00+01:00
DESCRIPTION:Predmet: Mikroprocesorska krmilja (MPKM)\, Predavanja (P)\nLet
 niki: Mehatronika in laserska tehnika (MAG-1)\nIzvajalci: Janez Diaci\, Do
 minik Kozjek\, Primož Podržaj\nProstor: Predavalnica III/4
END:VEVENT
BEGIN:VEVENT
SUMMARY:Mikroprocesorska krmilja (MPKM)\, Predavanja (P)
DTSTART;TZID=Europe/Ljubljana:20231212T140000
DTEND;TZID=Europe/Ljubljana:20231212T160000
DTSTAMP:20260419T122544Z
UID:fs-AFLABS-URNIK:srecanje:2373-2023-12-12 14:00:00+01:00
DESCRIPTION:Predmet: Mikroprocesorska krmilja (MPKM)\, Predavanja (P)\nLet
 niki: Mehatronika in laserska tehnika (MAG-1)\nIzvajalci: Janez Diaci\, Do
 minik Kozjek\, Primož Podržaj\nProstor: Predavalnica III/4
END:VEVENT
BEGIN:VEVENT
SUMMARY:Mikroprocesorska krmilja (MPKM)\, Predavanja (P)
DTSTART;TZID=Europe/Ljubljana:20231219T140000
DTEND;TZID=Europe/Ljubljana:20231219T160000
DTSTAMP:20260419T122544Z
UID:fs-AFLABS-URNIK:srecanje:2373-2023-12-19 14:00:00+01:00
DESCRIPTION:Predmet: Mikroprocesorska krmilja (MPKM)\, Predavanja (P)\nLet
 niki: Mehatronika in laserska tehnika (MAG-1)\nIzvajalci: Janez Diaci\, Do
 minik Kozjek\, Primož Podržaj\nProstor: Predavalnica III/4
END:VEVENT
BEGIN:VEVENT
SUMMARY:Mikroprocesorska krmilja (MPKM)\, Predavanja (P)
DTSTART;TZID=Europe/Ljubljana:20240102T140000
DTEND;TZID=Europe/Ljubljana:20240102T160000
DTSTAMP:20260419T122544Z
UID:fs-AFLABS-URNIK:srecanje:2373-2024-01-02 14:00:00+01:00
DESCRIPTION:Predmet: Mikroprocesorska krmilja (MPKM)\, Predavanja (P)\nLet
 niki: Mehatronika in laserska tehnika (MAG-1)\nIzvajalci: Janez Diaci\, Do
 minik Kozjek\, Primož Podržaj\nProstor: Predavalnica III/4
END:VEVENT
BEGIN:VEVENT
SUMMARY:Mikroprocesorska krmilja (MPKM)\, Predavanja (P)
DTSTART;TZID=Europe/Ljubljana:20240109T140000
DTEND;TZID=Europe/Ljubljana:20240109T160000
DTSTAMP:20260419T122544Z
UID:fs-AFLABS-URNIK:srecanje:2373-2024-01-09 14:00:00+01:00
DESCRIPTION:Predmet: Mikroprocesorska krmilja (MPKM)\, Predavanja (P)\nLet
 niki: Mehatronika in laserska tehnika (MAG-1)\nIzvajalci: Janez Diaci\, Do
 minik Kozjek\, Primož Podržaj\nProstor: Predavalnica III/4
END:VEVENT
BEGIN:VEVENT
SUMMARY:Mikroprocesorska krmilja (MPKM)\, Predavanja (P)
DTSTART;TZID=Europe/Ljubljana:20240116T140000
DTEND;TZID=Europe/Ljubljana:20240116T160000
DTSTAMP:20260419T122544Z
UID:fs-AFLABS-URNIK:srecanje:2373-2024-01-16 14:00:00+01:00
DESCRIPTION:Predmet: Mikroprocesorska krmilja (MPKM)\, Predavanja (P)\nLet
 niki: Mehatronika in laserska tehnika (MAG-1)\nIzvajalci: Janez Diaci\, Do
 minik Kozjek\, Primož Podržaj\nProstor: Predavalnica III/4
END:VEVENT
BEGIN:VEVENT
SUMMARY:Mehatronika in krmilna tehnika (MKTP)\, Predavanja (P)
DTSTART;TZID=Europe/Ljubljana:20231005T113000
DTEND;TZID=Europe/Ljubljana:20231005T133000
DTSTAMP:20260419T122544Z
UID:fs-AFLABS-URNIK:srecanje:2344-2023-10-05 11:30:00+02:00
DESCRIPTION:Predmet: Mehatronika in krmilna tehnika (MKTP)\, Predavanja (P
 )\nLetniki: Energetsko strojništvo (PAP-2)\, Industrijsko inženirstvo (P
 AP-2)\, Konstruiranje industrijskih sistemov (PAP-2)\, Konstruiranje stroj
 ev in naprav (PAP-2)\, Mehatronika (PAP-2)\, Procesno strojništvo (PAP-2)
 \, Proizvodne tehnologije (PAP-2)\, Prometni pilot letala/helikopterja (PA
 P-2)\, Snovanje in vzdrževanje letal (PAP-2)\nIzvajalci: Drago Bračun\, 
 Janez Diaci\nProstor: Predavalnica V/2
END:VEVENT
BEGIN:VEVENT
SUMMARY:Mehatronika in krmilna tehnika (MKTP)\, Predavanja (P)
DTSTART;TZID=Europe/Ljubljana:20231012T113000
DTEND;TZID=Europe/Ljubljana:20231012T133000
DTSTAMP:20260419T122544Z
UID:fs-AFLABS-URNIK:srecanje:2344-2023-10-12 11:30:00+02:00
DESCRIPTION:Predmet: Mehatronika in krmilna tehnika (MKTP)\, Predavanja (P
 )\nLetniki: Energetsko strojništvo (PAP-2)\, Industrijsko inženirstvo (P
 AP-2)\, Konstruiranje industrijskih sistemov (PAP-2)\, Konstruiranje stroj
 ev in naprav (PAP-2)\, Mehatronika (PAP-2)\, Procesno strojništvo (PAP-2)
 \, Proizvodne tehnologije (PAP-2)\, Prometni pilot letala/helikopterja (PA
 P-2)\, Snovanje in vzdrževanje letal (PAP-2)\nIzvajalci: Drago Bračun\, 
 Janez Diaci\nProstor: Predavalnica V/2
END:VEVENT
BEGIN:VEVENT
SUMMARY:Mehatronika in krmilna tehnika (MKTP)\, Predavanja (P)
DTSTART;TZID=Europe/Ljubljana:20231019T113000
DTEND;TZID=Europe/Ljubljana:20231019T133000
DTSTAMP:20260419T122544Z
UID:fs-AFLABS-URNIK:srecanje:2344-2023-10-19 11:30:00+02:00
DESCRIPTION:Predmet: Mehatronika in krmilna tehnika (MKTP)\, Predavanja (P
 )\nLetniki: Energetsko strojništvo (PAP-2)\, Industrijsko inženirstvo (P
 AP-2)\, Konstruiranje industrijskih sistemov (PAP-2)\, Konstruiranje stroj
 ev in naprav (PAP-2)\, Mehatronika (PAP-2)\, Procesno strojništvo (PAP-2)
 \, Proizvodne tehnologije (PAP-2)\, Prometni pilot letala/helikopterja (PA
 P-2)\, Snovanje in vzdrževanje letal (PAP-2)\nIzvajalci: Drago Bračun\, 
 Janez Diaci\nProstor: Predavalnica V/2
END:VEVENT
BEGIN:VEVENT
SUMMARY:Mehatronika in krmilna tehnika (MKTP)\, Predavanja (P)
DTSTART;TZID=Europe/Ljubljana:20231026T113000
DTEND;TZID=Europe/Ljubljana:20231026T133000
DTSTAMP:20260419T122544Z
UID:fs-AFLABS-URNIK:srecanje:2344-2023-10-26 11:30:00+02:00
DESCRIPTION:Predmet: Mehatronika in krmilna tehnika (MKTP)\, Predavanja (P
 )\nLetniki: Energetsko strojništvo (PAP-2)\, Industrijsko inženirstvo (P
 AP-2)\, Konstruiranje industrijskih sistemov (PAP-2)\, Konstruiranje stroj
 ev in naprav (PAP-2)\, Mehatronika (PAP-2)\, Procesno strojništvo (PAP-2)
 \, Proizvodne tehnologije (PAP-2)\, Prometni pilot letala/helikopterja (PA
 P-2)\, Snovanje in vzdrževanje letal (PAP-2)\nIzvajalci: Drago Bračun\, 
 Janez Diaci\nProstor: Predavalnica V/2
END:VEVENT
BEGIN:VEVENT
SUMMARY:Mehatronika in krmilna tehnika (MKTP)\, Predavanja (P)
DTSTART;TZID=Europe/Ljubljana:20231109T113000
DTEND;TZID=Europe/Ljubljana:20231109T133000
DTSTAMP:20260419T122544Z
UID:fs-AFLABS-URNIK:srecanje:2344-2023-11-09 11:30:00+01:00
DESCRIPTION:Predmet: Mehatronika in krmilna tehnika (MKTP)\, Predavanja (P
 )\nLetniki: Energetsko strojništvo (PAP-2)\, Industrijsko inženirstvo (P
 AP-2)\, Konstruiranje industrijskih sistemov (PAP-2)\, Konstruiranje stroj
 ev in naprav (PAP-2)\, Mehatronika (PAP-2)\, Procesno strojništvo (PAP-2)
 \, Proizvodne tehnologije (PAP-2)\, Prometni pilot letala/helikopterja (PA
 P-2)\, Snovanje in vzdrževanje letal (PAP-2)\nIzvajalci: Drago Bračun\, 
 Janez Diaci\nProstor: Predavalnica V/2
END:VEVENT
BEGIN:VEVENT
SUMMARY:Mehatronika in krmilna tehnika (MKTP)\, Predavanja (P)
DTSTART;TZID=Europe/Ljubljana:20231116T113000
DTEND;TZID=Europe/Ljubljana:20231116T133000
DTSTAMP:20260419T122544Z
UID:fs-AFLABS-URNIK:srecanje:2344-2023-11-16 11:30:00+01:00
DESCRIPTION:Predmet: Mehatronika in krmilna tehnika (MKTP)\, Predavanja (P
 )\nLetniki: Energetsko strojništvo (PAP-2)\, Industrijsko inženirstvo (P
 AP-2)\, Konstruiranje industrijskih sistemov (PAP-2)\, Konstruiranje stroj
 ev in naprav (PAP-2)\, Mehatronika (PAP-2)\, Procesno strojništvo (PAP-2)
 \, Proizvodne tehnologije (PAP-2)\, Prometni pilot letala/helikopterja (PA
 P-2)\, Snovanje in vzdrževanje letal (PAP-2)\nIzvajalci: Drago Bračun\, 
 Janez Diaci\nProstor: Predavalnica V/2
END:VEVENT
BEGIN:VEVENT
SUMMARY:Mehatronika in krmilna tehnika (MKTP)\, Predavanja (P)
DTSTART;TZID=Europe/Ljubljana:20231123T113000
DTEND;TZID=Europe/Ljubljana:20231123T133000
DTSTAMP:20260419T122544Z
UID:fs-AFLABS-URNIK:srecanje:2344-2023-11-23 11:30:00+01:00
DESCRIPTION:Predmet: Mehatronika in krmilna tehnika (MKTP)\, Predavanja (P
 )\nLetniki: Energetsko strojništvo (PAP-2)\, Industrijsko inženirstvo (P
 AP-2)\, Konstruiranje industrijskih sistemov (PAP-2)\, Konstruiranje stroj
 ev in naprav (PAP-2)\, Mehatronika (PAP-2)\, Procesno strojništvo (PAP-2)
 \, Proizvodne tehnologije (PAP-2)\, Prometni pilot letala/helikopterja (PA
 P-2)\, Snovanje in vzdrževanje letal (PAP-2)\nIzvajalci: Drago Bračun\, 
 Janez Diaci\nProstor: Predavalnica V/2
END:VEVENT
BEGIN:VEVENT
SUMMARY:Mehatronika in krmilna tehnika (MKTP)\, Predavanja (P)
DTSTART;TZID=Europe/Ljubljana:20231130T113000
DTEND;TZID=Europe/Ljubljana:20231130T133000
DTSTAMP:20260419T122544Z
UID:fs-AFLABS-URNIK:srecanje:2344-2023-11-30 11:30:00+01:00
DESCRIPTION:Predmet: Mehatronika in krmilna tehnika (MKTP)\, Predavanja (P
 )\nLetniki: Energetsko strojništvo (PAP-2)\, Industrijsko inženirstvo (P
 AP-2)\, Konstruiranje industrijskih sistemov (PAP-2)\, Konstruiranje stroj
 ev in naprav (PAP-2)\, Mehatronika (PAP-2)\, Procesno strojništvo (PAP-2)
 \, Proizvodne tehnologije (PAP-2)\, Prometni pilot letala/helikopterja (PA
 P-2)\, Snovanje in vzdrževanje letal (PAP-2)\nIzvajalci: Drago Bračun\, 
 Janez Diaci\nProstor: Predavalnica V/2
END:VEVENT
BEGIN:VEVENT
SUMMARY:Mehatronika in krmilna tehnika (MKTP)\, Predavanja (P)
DTSTART;TZID=Europe/Ljubljana:20231207T113000
DTEND;TZID=Europe/Ljubljana:20231207T133000
DTSTAMP:20260419T122544Z
UID:fs-AFLABS-URNIK:srecanje:2344-2023-12-07 11:30:00+01:00
DESCRIPTION:Predmet: Mehatronika in krmilna tehnika (MKTP)\, Predavanja (P
 )\nLetniki: Energetsko strojništvo (PAP-2)\, Industrijsko inženirstvo (P
 AP-2)\, Konstruiranje industrijskih sistemov (PAP-2)\, Konstruiranje stroj
 ev in naprav (PAP-2)\, Mehatronika (PAP-2)\, Procesno strojništvo (PAP-2)
 \, Proizvodne tehnologije (PAP-2)\, Prometni pilot letala/helikopterja (PA
 P-2)\, Snovanje in vzdrževanje letal (PAP-2)\nIzvajalci: Drago Bračun\, 
 Janez Diaci\nProstor: Predavalnica V/2
END:VEVENT
BEGIN:VEVENT
SUMMARY:Mehatronika in krmilna tehnika (MKTP)\, Predavanja (P)
DTSTART;TZID=Europe/Ljubljana:20231214T113000
DTEND;TZID=Europe/Ljubljana:20231214T133000
DTSTAMP:20260419T122544Z
UID:fs-AFLABS-URNIK:srecanje:2344-2023-12-14 11:30:00+01:00
DESCRIPTION:Predmet: Mehatronika in krmilna tehnika (MKTP)\, Predavanja (P
 )\nLetniki: Energetsko strojništvo (PAP-2)\, Industrijsko inženirstvo (P
 AP-2)\, Konstruiranje industrijskih sistemov (PAP-2)\, Konstruiranje stroj
 ev in naprav (PAP-2)\, Mehatronika (PAP-2)\, Procesno strojništvo (PAP-2)
 \, Proizvodne tehnologije (PAP-2)\, Prometni pilot letala/helikopterja (PA
 P-2)\, Snovanje in vzdrževanje letal (PAP-2)\nIzvajalci: Drago Bračun\, 
 Janez Diaci\nProstor: Predavalnica V/2
END:VEVENT
BEGIN:VEVENT
SUMMARY:Mehatronika in krmilna tehnika (MKTP)\, Predavanja (P)
DTSTART;TZID=Europe/Ljubljana:20231221T113000
DTEND;TZID=Europe/Ljubljana:20231221T133000
DTSTAMP:20260419T122544Z
UID:fs-AFLABS-URNIK:srecanje:2344-2023-12-21 11:30:00+01:00
DESCRIPTION:Predmet: Mehatronika in krmilna tehnika (MKTP)\, Predavanja (P
 )\nLetniki: Energetsko strojništvo (PAP-2)\, Industrijsko inženirstvo (P
 AP-2)\, Konstruiranje industrijskih sistemov (PAP-2)\, Konstruiranje stroj
 ev in naprav (PAP-2)\, Mehatronika (PAP-2)\, Procesno strojništvo (PAP-2)
 \, Proizvodne tehnologije (PAP-2)\, Prometni pilot letala/helikopterja (PA
 P-2)\, Snovanje in vzdrževanje letal (PAP-2)\nIzvajalci: Drago Bračun\, 
 Janez Diaci\nProstor: Predavalnica V/2
END:VEVENT
BEGIN:VEVENT
SUMMARY:Mehatronika in krmilna tehnika (MKTP)\, Predavanja (P)
DTSTART;TZID=Europe/Ljubljana:20240104T113000
DTEND;TZID=Europe/Ljubljana:20240104T133000
DTSTAMP:20260419T122544Z
UID:fs-AFLABS-URNIK:srecanje:2344-2024-01-04 11:30:00+01:00
DESCRIPTION:Predmet: Mehatronika in krmilna tehnika (MKTP)\, Predavanja (P
 )\nLetniki: Energetsko strojništvo (PAP-2)\, Industrijsko inženirstvo (P
 AP-2)\, Konstruiranje industrijskih sistemov (PAP-2)\, Konstruiranje stroj
 ev in naprav (PAP-2)\, Mehatronika (PAP-2)\, Procesno strojništvo (PAP-2)
 \, Proizvodne tehnologije (PAP-2)\, Prometni pilot letala/helikopterja (PA
 P-2)\, Snovanje in vzdrževanje letal (PAP-2)\nIzvajalci: Drago Bračun\, 
 Janez Diaci\nProstor: Predavalnica V/2
END:VEVENT
BEGIN:VEVENT
SUMMARY:Mehatronika in krmilna tehnika (MKTP)\, Predavanja (P)
DTSTART;TZID=Europe/Ljubljana:20240111T113000
DTEND;TZID=Europe/Ljubljana:20240111T133000
DTSTAMP:20260419T122544Z
UID:fs-AFLABS-URNIK:srecanje:2344-2024-01-11 11:30:00+01:00
DESCRIPTION:Predmet: Mehatronika in krmilna tehnika (MKTP)\, Predavanja (P
 )\nLetniki: Energetsko strojništvo (PAP-2)\, Industrijsko inženirstvo (P
 AP-2)\, Konstruiranje industrijskih sistemov (PAP-2)\, Konstruiranje stroj
 ev in naprav (PAP-2)\, Mehatronika (PAP-2)\, Procesno strojništvo (PAP-2)
 \, Proizvodne tehnologije (PAP-2)\, Prometni pilot letala/helikopterja (PA
 P-2)\, Snovanje in vzdrževanje letal (PAP-2)\nIzvajalci: Drago Bračun\, 
 Janez Diaci\nProstor: Predavalnica V/2
END:VEVENT
BEGIN:VEVENT
SUMMARY:Mehatronika in krmilna tehnika (MKTP)\, Predavanja (P)
DTSTART;TZID=Europe/Ljubljana:20240118T113000
DTEND;TZID=Europe/Ljubljana:20240118T133000
DTSTAMP:20260419T122544Z
UID:fs-AFLABS-URNIK:srecanje:2344-2024-01-18 11:30:00+01:00
DESCRIPTION:Predmet: Mehatronika in krmilna tehnika (MKTP)\, Predavanja (P
 )\nLetniki: Energetsko strojništvo (PAP-2)\, Industrijsko inženirstvo (P
 AP-2)\, Konstruiranje industrijskih sistemov (PAP-2)\, Konstruiranje stroj
 ev in naprav (PAP-2)\, Mehatronika (PAP-2)\, Procesno strojništvo (PAP-2)
 \, Proizvodne tehnologije (PAP-2)\, Prometni pilot letala/helikopterja (PA
 P-2)\, Snovanje in vzdrževanje letal (PAP-2)\nIzvajalci: Drago Bračun\, 
 Janez Diaci\nProstor: Predavalnica V/2
END:VEVENT
BEGIN:VEVENT
SUMMARY:Microprocessor Control (MPCE)\, Predavanja (P)
DTSTART;TZID=Europe/Ljubljana:20231010T120000
DTEND;TZID=Europe/Ljubljana:20231010T140000
DTSTAMP:20260419T122544Z
UID:fs-AFLABS-URNIK:srecanje:6201-2023-10-10 12:00:00+02:00
DESCRIPTION:Predmet: Microprocessor Control (MPCE)\, Predavanja (P)\nLetni
 ki: Erasmus (Erasmus)\nIzvajalci: Janez Diaci\, Dominik Kozjek\, Primož P
 održaj\nProstor: Predavalnica II/5
END:VEVENT
BEGIN:VEVENT
SUMMARY:Microprocessor Control (MPCE)\, Predavanja (P)
DTSTART;TZID=Europe/Ljubljana:20231017T120000
DTEND;TZID=Europe/Ljubljana:20231017T140000
DTSTAMP:20260419T122544Z
UID:fs-AFLABS-URNIK:srecanje:6201-2023-10-17 12:00:00+02:00
DESCRIPTION:Predmet: Microprocessor Control (MPCE)\, Predavanja (P)\nLetni
 ki: Erasmus (Erasmus)\nIzvajalci: Janez Diaci\, Dominik Kozjek\, Primož P
 održaj\nProstor: Predavalnica II/5
END:VEVENT
BEGIN:VEVENT
SUMMARY:Microprocessor Control (MPCE)\, Predavanja (P)
DTSTART;TZID=Europe/Ljubljana:20231024T120000
DTEND;TZID=Europe/Ljubljana:20231024T140000
DTSTAMP:20260419T122544Z
UID:fs-AFLABS-URNIK:srecanje:6201-2023-10-24 12:00:00+02:00
DESCRIPTION:Predmet: Microprocessor Control (MPCE)\, Predavanja (P)\nLetni
 ki: Erasmus (Erasmus)\nIzvajalci: Janez Diaci\, Dominik Kozjek\, Primož P
 održaj\nProstor: Predavalnica II/5
END:VEVENT
BEGIN:VEVENT
SUMMARY:Microprocessor Control (MPCE)\, Predavanja (P)
DTSTART;TZID=Europe/Ljubljana:20231031T120000
DTEND;TZID=Europe/Ljubljana:20231031T140000
DTSTAMP:20260419T122544Z
UID:fs-AFLABS-URNIK:srecanje:6201-2023-10-31 12:00:00+01:00
DESCRIPTION:Predmet: Microprocessor Control (MPCE)\, Predavanja (P)\nLetni
 ki: Erasmus (Erasmus)\nIzvajalci: Janez Diaci\, Dominik Kozjek\, Primož P
 održaj\nProstor: Predavalnica II/5
END:VEVENT
BEGIN:VEVENT
SUMMARY:Microprocessor Control (MPCE)\, Predavanja (P)
DTSTART;TZID=Europe/Ljubljana:20231107T120000
DTEND;TZID=Europe/Ljubljana:20231107T140000
DTSTAMP:20260419T122544Z
UID:fs-AFLABS-URNIK:srecanje:6201-2023-11-07 12:00:00+01:00
DESCRIPTION:Predmet: Microprocessor Control (MPCE)\, Predavanja (P)\nLetni
 ki: Erasmus (Erasmus)\nIzvajalci: Janez Diaci\, Dominik Kozjek\, Primož P
 održaj\nProstor: Predavalnica II/5
END:VEVENT
BEGIN:VEVENT
SUMMARY:Microprocessor Control (MPCE)\, Predavanja (P)
DTSTART;TZID=Europe/Ljubljana:20231114T120000
DTEND;TZID=Europe/Ljubljana:20231114T140000
DTSTAMP:20260419T122544Z
UID:fs-AFLABS-URNIK:srecanje:6201-2023-11-14 12:00:00+01:00
DESCRIPTION:Predmet: Microprocessor Control (MPCE)\, Predavanja (P)\nLetni
 ki: Erasmus (Erasmus)\nIzvajalci: Janez Diaci\, Dominik Kozjek\, Primož P
 održaj\nProstor: Predavalnica II/5
END:VEVENT
BEGIN:VEVENT
SUMMARY:Microprocessor Control (MPCE)\, Predavanja (P)
DTSTART;TZID=Europe/Ljubljana:20231121T120000
DTEND;TZID=Europe/Ljubljana:20231121T140000
DTSTAMP:20260419T122544Z
UID:fs-AFLABS-URNIK:srecanje:6201-2023-11-21 12:00:00+01:00
DESCRIPTION:Predmet: Microprocessor Control (MPCE)\, Predavanja (P)\nLetni
 ki: Erasmus (Erasmus)\nIzvajalci: Janez Diaci\, Dominik Kozjek\, Primož P
 održaj\nProstor: Predavalnica II/5
END:VEVENT
BEGIN:VEVENT
SUMMARY:Microprocessor Control (MPCE)\, Predavanja (P)
DTSTART;TZID=Europe/Ljubljana:20231128T120000
DTEND;TZID=Europe/Ljubljana:20231128T140000
DTSTAMP:20260419T122544Z
UID:fs-AFLABS-URNIK:srecanje:6201-2023-11-28 12:00:00+01:00
DESCRIPTION:Predmet: Microprocessor Control (MPCE)\, Predavanja (P)\nLetni
 ki: Erasmus (Erasmus)\nIzvajalci: Janez Diaci\, Dominik Kozjek\, Primož P
 održaj\nProstor: Predavalnica II/5
END:VEVENT
BEGIN:VEVENT
SUMMARY:Microprocessor Control (MPCE)\, Predavanja (P)
DTSTART;TZID=Europe/Ljubljana:20231205T120000
DTEND;TZID=Europe/Ljubljana:20231205T140000
DTSTAMP:20260419T122544Z
UID:fs-AFLABS-URNIK:srecanje:6201-2023-12-05 12:00:00+01:00
DESCRIPTION:Predmet: Microprocessor Control (MPCE)\, Predavanja (P)\nLetni
 ki: Erasmus (Erasmus)\nIzvajalci: Janez Diaci\, Dominik Kozjek\, Primož P
 održaj\nProstor: Predavalnica II/5
END:VEVENT
BEGIN:VEVENT
SUMMARY:Microprocessor Control (MPCE)\, Predavanja (P)
DTSTART;TZID=Europe/Ljubljana:20231212T120000
DTEND;TZID=Europe/Ljubljana:20231212T140000
DTSTAMP:20260419T122544Z
UID:fs-AFLABS-URNIK:srecanje:6201-2023-12-12 12:00:00+01:00
DESCRIPTION:Predmet: Microprocessor Control (MPCE)\, Predavanja (P)\nLetni
 ki: Erasmus (Erasmus)\nIzvajalci: Janez Diaci\, Dominik Kozjek\, Primož P
 održaj\nProstor: Predavalnica II/5
END:VEVENT
BEGIN:VEVENT
SUMMARY:Microprocessor Control (MPCE)\, Predavanja (P)
DTSTART;TZID=Europe/Ljubljana:20231219T120000
DTEND;TZID=Europe/Ljubljana:20231219T140000
DTSTAMP:20260419T122544Z
UID:fs-AFLABS-URNIK:srecanje:6201-2023-12-19 12:00:00+01:00
DESCRIPTION:Predmet: Microprocessor Control (MPCE)\, Predavanja (P)\nLetni
 ki: Erasmus (Erasmus)\nIzvajalci: Janez Diaci\, Dominik Kozjek\, Primož P
 održaj\nProstor: Predavalnica II/5
END:VEVENT
BEGIN:VEVENT
SUMMARY:Microprocessor Control (MPCE)\, Predavanja (P)
DTSTART;TZID=Europe/Ljubljana:20240102T120000
DTEND;TZID=Europe/Ljubljana:20240102T140000
DTSTAMP:20260419T122544Z
UID:fs-AFLABS-URNIK:srecanje:6201-2024-01-02 12:00:00+01:00
DESCRIPTION:Predmet: Microprocessor Control (MPCE)\, Predavanja (P)\nLetni
 ki: Erasmus (Erasmus)\nIzvajalci: Janez Diaci\, Dominik Kozjek\, Primož P
 održaj\nProstor: Predavalnica II/5
END:VEVENT
BEGIN:VEVENT
SUMMARY:Microprocessor Control (MPCE)\, Predavanja (P)
DTSTART;TZID=Europe/Ljubljana:20240109T120000
DTEND;TZID=Europe/Ljubljana:20240109T140000
DTSTAMP:20260419T122544Z
UID:fs-AFLABS-URNIK:srecanje:6201-2024-01-09 12:00:00+01:00
DESCRIPTION:Predmet: Microprocessor Control (MPCE)\, Predavanja (P)\nLetni
 ki: Erasmus (Erasmus)\nIzvajalci: Janez Diaci\, Dominik Kozjek\, Primož P
 održaj\nProstor: Predavalnica II/5
END:VEVENT
BEGIN:VEVENT
SUMMARY:Microprocessor Control (MPCE)\, Predavanja (P)
DTSTART;TZID=Europe/Ljubljana:20240116T120000
DTEND;TZID=Europe/Ljubljana:20240116T140000
DTSTAMP:20260419T122544Z
UID:fs-AFLABS-URNIK:srecanje:6201-2024-01-16 12:00:00+01:00
DESCRIPTION:Predmet: Microprocessor Control (MPCE)\, Predavanja (P)\nLetni
 ki: Erasmus (Erasmus)\nIzvajalci: Janez Diaci\, Dominik Kozjek\, Primož P
 održaj\nProstor: Predavalnica II/5
END:VEVENT
BEGIN:VEVENT
SUMMARY:Microprocessor Control (MPCE)\, Predavanja (P)
DTSTART;TZID=Europe/Ljubljana:20231103T120000
DTEND;TZID=Europe/Ljubljana:20231103T140000
DTSTAMP:20260419T122544Z
UID:fs-AFLABS-URNIK:premaknjeno-srecanje:62211
ATTENDEE:Erasmus (Erasmus)
CATEGORIES:Entry,Special
COLOR:forestgreen
DESCRIPTION:Predmet: Microprocessor Control (MPCE)\, Predavanja (P)\nLetni
 ki: Erasmus (Erasmus)\nIzvajalci: Janez Diaci\, Dominik Kozjek\, Primož P
 održaj\nProstor: Predavalnica II/5
LOCATION:Predavalnica II/5
ORGANIZER:Janez Diaci, Dominik Kozjek, Primož Podržaj
RELATED-TO:fs-AFLABS-URNIK:srecanje:7941
X-WR-TIMEZONE:Europe/Ljubljana
END:VEVENT
BEGIN:VEVENT
SUMMARY:Mikroprocesorska krmilja (MPKM)\, Predavanja (P)
DTSTART;TZID=Europe/Ljubljana:20231103T140000
DTEND;TZID=Europe/Ljubljana:20231103T160000
DTSTAMP:20260419T122544Z
UID:fs-AFLABS-URNIK:premaknjeno-srecanje:62215
ATTENDEE:Mehatronika in laserska tehnika (MAG-1)
CATEGORIES:Entry,Special
COLOR:forestgreen
DESCRIPTION:Predmet: Mikroprocesorska krmilja (MPKM)\, Predavanja (P)\nLet
 niki: Mehatronika in laserska tehnika (MAG-1)\nIzvajalci: Janez Diaci\, Do
 minik Kozjek\, Primož Podržaj\nProstor: Predavalnica III/4
LOCATION:Predavalnica III/4
ORGANIZER:Janez Diaci, Dominik Kozjek, Primož Podržaj
RELATED-TO:fs-AFLABS-URNIK:srecanje:7945
X-WR-TIMEZONE:Europe/Ljubljana
END:VEVENT
END:VCALENDAR
