BEGIN:VCALENDAR
VERSION:2.0
PRODID:-//AFLabs urnik izvoz - fs//aflabs.si//SI
NAME:UL FS Urnik
X-WR-CALNAME:UL FS Urnik
DTSTAMP:20260425T160517Z
REFRESH-INTERVAL:PT1H
SOURCE:https://urnik.fs.uni-lj.si/teacher/673/?day=2025-09-15&export=1
URL:https://urnik.fs.uni-lj.si/teacher/673/?day=2025-09-15&export=1
X-PUBLISHED-TTL:PT1H
X-WR-TIMEZONE:Europe/Ljubljana
BEGIN:VTIMEZONE
TZID:Europe/Ljubljana
BEGIN:DAYLIGHT
DTSTART:20260329T020000
RDATE:20260329T020000
RDATE:20270328T020000
TZNAME:CEST
TZOFFSETFROM:+0100
TZOFFSETTO:+0200
END:DAYLIGHT
BEGIN:STANDARD
DTSTART:20261025T030000
RDATE:20261025T030000
RDATE:20271031T030000
TZNAME:CET
TZOFFSETFROM:+0200
TZOFFSETTO:+0100
END:STANDARD
END:VTIMEZONE
BEGIN:VEVENT
SUMMARY:Energetski stroji in naprave - RRP (ESNR)\, Predavalniške vaje (V
 P)\, [S3\, S4]
DTSTART;TZID=Europe/Ljubljana:20250929T080000
DTEND;TZID=Europe/Ljubljana:20250929T100000
DTSTAMP:20260425T160517Z
UID:fs-AFLABS-URNIK:srecanje:15825-2025-09-29 08:00:00+02:00
DESCRIPTION:Predmet: Energetski stroji in naprave - RRP (ESNR)\, Predavaln
 iške vaje (VP)\, [S3\, S4]\nLetniki: RRP-3 (RRP-3)\nIzvajalci: Boštjan D
 robnič\, Andrej Lotrič\, Rok Stropnik\nProstor: Predavalnica IV/4
END:VEVENT
BEGIN:VEVENT
SUMMARY:Energetski stroji in naprave - RRP (ESNR)\, Predavalniške vaje (V
 P)\, [S3\, S4]
DTSTART;TZID=Europe/Ljubljana:20251006T080000
DTEND;TZID=Europe/Ljubljana:20251006T100000
DTSTAMP:20260425T160517Z
UID:fs-AFLABS-URNIK:srecanje:15825-2025-10-06 08:00:00+02:00
DESCRIPTION:Predmet: Energetski stroji in naprave - RRP (ESNR)\, Predavaln
 iške vaje (VP)\, [S3\, S4]\nLetniki: RRP-3 (RRP-3)\nIzvajalci: Boštjan D
 robnič\, Andrej Lotrič\, Rok Stropnik\nProstor: Predavalnica IV/4
END:VEVENT
BEGIN:VEVENT
SUMMARY:Energetski stroji in naprave - RRP (ESNR)\, Predavalniške vaje (V
 P)\, [S3\, S4]
DTSTART;TZID=Europe/Ljubljana:20251013T080000
DTEND;TZID=Europe/Ljubljana:20251013T100000
DTSTAMP:20260425T160517Z
UID:fs-AFLABS-URNIK:srecanje:15825-2025-10-13 08:00:00+02:00
DESCRIPTION:Predmet: Energetski stroji in naprave - RRP (ESNR)\, Predavaln
 iške vaje (VP)\, [S3\, S4]\nLetniki: RRP-3 (RRP-3)\nIzvajalci: Boštjan D
 robnič\, Andrej Lotrič\, Rok Stropnik\nProstor: Predavalnica IV/4
END:VEVENT
BEGIN:VEVENT
SUMMARY:Energetski stroji in naprave - RRP (ESNR)\, Predavalniške vaje (V
 P)\, [S3\, S4]
DTSTART;TZID=Europe/Ljubljana:20251020T080000
DTEND;TZID=Europe/Ljubljana:20251020T100000
DTSTAMP:20260425T160517Z
UID:fs-AFLABS-URNIK:srecanje:15825-2025-10-20 08:00:00+02:00
DESCRIPTION:Predmet: Energetski stroji in naprave - RRP (ESNR)\, Predavaln
 iške vaje (VP)\, [S3\, S4]\nLetniki: RRP-3 (RRP-3)\nIzvajalci: Boštjan D
 robnič\, Andrej Lotrič\, Rok Stropnik\nProstor: Predavalnica IV/4
END:VEVENT
BEGIN:VEVENT
SUMMARY:Energetski sistemi (ENSM)\, Predavalniške vaje (VP)\, [S1]
DTSTART;TZID=Europe/Ljubljana:20250930T080000
DTEND;TZID=Europe/Ljubljana:20250930T100000
DTSTAMP:20260425T160517Z
UID:fs-AFLABS-URNIK:srecanje:16468-2025-09-30 08:00:00+02:00
DESCRIPTION:Predmet: Energetski sistemi (ENSM)\, Predavalniške vaje (VP)\
 , [S1]\nLetniki: Energetsko strojništvo (MAG-1)\nIzvajalci: Boštjan Drob
 nič\nProstor: Predavalnica III/4
END:VEVENT
BEGIN:VEVENT
SUMMARY:Energetski sistemi (ENSM)\, Predavalniške vaje (VP)\, [S1]
DTSTART;TZID=Europe/Ljubljana:20251007T080000
DTEND;TZID=Europe/Ljubljana:20251007T100000
DTSTAMP:20260425T160517Z
UID:fs-AFLABS-URNIK:srecanje:16468-2025-10-07 08:00:00+02:00
DESCRIPTION:Predmet: Energetski sistemi (ENSM)\, Predavalniške vaje (VP)\
 , [S1]\nLetniki: Energetsko strojništvo (MAG-1)\nIzvajalci: Boštjan Drob
 nič\nProstor: Predavalnica III/4
END:VEVENT
BEGIN:VEVENT
SUMMARY:Trajnostne tehnologije v energetiki (TTEP)\, Predavalniške vaje (
 VP)\, [S1]
DTSTART;TZID=Europe/Ljubljana:20250930T133000
DTEND;TZID=Europe/Ljubljana:20250930T153000
DTSTAMP:20260425T160517Z
UID:fs-AFLABS-URNIK:srecanje:16042-2025-09-30 13:30:00+02:00
DESCRIPTION:Predmet: Trajnostne tehnologije v energetiki (TTEP)\, Predaval
 niške vaje (VP)\, [S1]\nLetniki: Energetsko strojništvo (PAP-3)\nIzvajal
 ci: Boštjan Drobnič\, Andrej Lotrič\, Rok Stropnik\nProstor: Predavalni
 ca II/3B
END:VEVENT
BEGIN:VEVENT
SUMMARY:Trajnostne tehnologije v energetiki (TTEP)\, Predavalniške vaje (
 VP)\, [S1]
DTSTART;TZID=Europe/Ljubljana:20251007T133000
DTEND;TZID=Europe/Ljubljana:20251007T153000
DTSTAMP:20260425T160517Z
UID:fs-AFLABS-URNIK:srecanje:16042-2025-10-07 13:30:00+02:00
DESCRIPTION:Predmet: Trajnostne tehnologije v energetiki (TTEP)\, Predaval
 niške vaje (VP)\, [S1]\nLetniki: Energetsko strojništvo (PAP-3)\nIzvajal
 ci: Boštjan Drobnič\, Andrej Lotrič\, Rok Stropnik\nProstor: Predavalni
 ca II/3B
END:VEVENT
BEGIN:VEVENT
SUMMARY:Napredni procesi zgorevanja (NPZM)\, Predavalniške vaje (VP)\, [S
 1]
DTSTART;TZID=Europe/Ljubljana:20251001T100000
DTEND;TZID=Europe/Ljubljana:20251001T120000
DTSTAMP:20260425T160517Z
UID:fs-AFLABS-URNIK:srecanje:15952-2025-10-01 10:00:00+02:00
DESCRIPTION:Predmet: Napredni procesi zgorevanja (NPZM)\, Predavalniške v
 aje (VP)\, [S1]\nLetniki: Energetsko strojništvo (MAG-1)\nIzvajalci: Boš
 tjan Drobnič\, Anton Žnidarčič\nProstor: Predavalnica I/4A
END:VEVENT
BEGIN:VEVENT
SUMMARY:Napredni procesi zgorevanja (NPZM)\, Predavalniške vaje (VP)\, [S
 1]
DTSTART;TZID=Europe/Ljubljana:20251008T100000
DTEND;TZID=Europe/Ljubljana:20251008T120000
DTSTAMP:20260425T160517Z
UID:fs-AFLABS-URNIK:srecanje:15952-2025-10-08 10:00:00+02:00
DESCRIPTION:Predmet: Napredni procesi zgorevanja (NPZM)\, Predavalniške v
 aje (VP)\, [S1]\nLetniki: Energetsko strojništvo (MAG-1)\nIzvajalci: Boš
 tjan Drobnič\, Anton Žnidarčič\nProstor: Predavalnica I/4A
END:VEVENT
BEGIN:VEVENT
SUMMARY:Napredni procesi zgorevanja (NPZM)\, Predavalniške vaje (VP)\, [S
 1]
DTSTART;TZID=Europe/Ljubljana:20251015T100000
DTEND;TZID=Europe/Ljubljana:20251015T120000
DTSTAMP:20260425T160517Z
UID:fs-AFLABS-URNIK:srecanje:15952-2025-10-15 10:00:00+02:00
DESCRIPTION:Predmet: Napredni procesi zgorevanja (NPZM)\, Predavalniške v
 aje (VP)\, [S1]\nLetniki: Energetsko strojništvo (MAG-1)\nIzvajalci: Boš
 tjan Drobnič\, Anton Žnidarčič\nProstor: Predavalnica I/4A
END:VEVENT
BEGIN:VEVENT
SUMMARY:Energetski stroji in naprave - RRP (ESNR)\, Predavalniške vaje (V
 P)\, [S1\, S2]
DTSTART;TZID=Europe/Ljubljana:20251002T120000
DTEND;TZID=Europe/Ljubljana:20251002T140000
DTSTAMP:20260425T160517Z
UID:fs-AFLABS-URNIK:srecanje:15826-2025-10-02 12:00:00+02:00
DESCRIPTION:Predmet: Energetski stroji in naprave - RRP (ESNR)\, Predavaln
 iške vaje (VP)\, [S1\, S2]\nLetniki: RRP-3 (RRP-3)\nIzvajalci: Boštjan D
 robnič\, Andrej Lotrič\, Rok Stropnik\nProstor: Predavalnica II/2
END:VEVENT
BEGIN:VEVENT
SUMMARY:Energetski stroji in naprave - RRP (ESNR)\, Predavalniške vaje (V
 P)\, [S1\, S2]
DTSTART;TZID=Europe/Ljubljana:20251009T120000
DTEND;TZID=Europe/Ljubljana:20251009T140000
DTSTAMP:20260425T160517Z
UID:fs-AFLABS-URNIK:srecanje:15826-2025-10-09 12:00:00+02:00
DESCRIPTION:Predmet: Energetski stroji in naprave - RRP (ESNR)\, Predavaln
 iške vaje (VP)\, [S1\, S2]\nLetniki: RRP-3 (RRP-3)\nIzvajalci: Boštjan D
 robnič\, Andrej Lotrič\, Rok Stropnik\nProstor: Predavalnica II/2
END:VEVENT
BEGIN:VEVENT
SUMMARY:Energetski stroji in naprave - RRP (ESNR)\, Predavalniške vaje (V
 P)\, [S1\, S2]
DTSTART;TZID=Europe/Ljubljana:20251016T120000
DTEND;TZID=Europe/Ljubljana:20251016T140000
DTSTAMP:20260425T160517Z
UID:fs-AFLABS-URNIK:srecanje:15826-2025-10-16 12:00:00+02:00
DESCRIPTION:Predmet: Energetski stroji in naprave - RRP (ESNR)\, Predavaln
 iške vaje (VP)\, [S1\, S2]\nLetniki: RRP-3 (RRP-3)\nIzvajalci: Boštjan D
 robnič\, Andrej Lotrič\, Rok Stropnik\nProstor: Predavalnica II/2
END:VEVENT
BEGIN:VEVENT
SUMMARY:Energetika v krožnem gospodarstvu (EKGM)\, Predavalniške vaje (V
 P)\, [S1]
DTSTART;TZID=Europe/Ljubljana:20251003T100000
DTEND;TZID=Europe/Ljubljana:20251003T120000
DTSTAMP:20260425T160517Z
UID:fs-AFLABS-URNIK:srecanje:15985-2025-10-03 10:00:00+02:00
DESCRIPTION:Predmet: Energetika v krožnem gospodarstvu (EKGM)\, Predavaln
 iške vaje (VP)\, [S1]\nLetniki: Energetsko strojništvo (MAG-2)\nIzvajalc
 i: Boštjan Drobnič\, Urban Žvar Baškovič\nProstor: Predavalnica IV/4
END:VEVENT
BEGIN:VEVENT
SUMMARY:Energetski sistemi (ENSM)\, Laboratorijske vaje (VL)\, [S1]
DTSTART;TZID=Europe/Ljubljana:20251013T120000
DTEND;TZID=Europe/Ljubljana:20251013T140000
DTSTAMP:20260425T160517Z
UID:fs-AFLABS-URNIK:srecanje:16677-2025-10-13 12:00:00+02:00
DESCRIPTION:Predmet: Energetski sistemi (ENSM)\, Laboratorijske vaje (VL)\
 , [S1]\nLetniki: Energetsko strojništvo (MAG-1)\nIzvajalci: Boštjan Drob
 nič\, Domen Hojkar\, Mihael Boštjan Končar\, Andrej Lotrič\, Mitja Mor
 i\nProstor: Laboratorij LTE SI-60A
END:VEVENT
BEGIN:VEVENT
SUMMARY:Energetski sistemi (ENSM)\, Laboratorijske vaje (VL)\, [S1]
DTSTART;TZID=Europe/Ljubljana:20251020T120000
DTEND;TZID=Europe/Ljubljana:20251020T140000
DTSTAMP:20260425T160517Z
UID:fs-AFLABS-URNIK:srecanje:16677-2025-10-20 12:00:00+02:00
DESCRIPTION:Predmet: Energetski sistemi (ENSM)\, Laboratorijske vaje (VL)\
 , [S1]\nLetniki: Energetsko strojništvo (MAG-1)\nIzvajalci: Boštjan Drob
 nič\, Domen Hojkar\, Mihael Boštjan Končar\, Andrej Lotrič\, Mitja Mor
 i\nProstor: Laboratorij LTE SI-60A
END:VEVENT
BEGIN:VEVENT
SUMMARY:Energetski sistemi (ENSM)\, Laboratorijske vaje (VL)\, [S2]
DTSTART;TZID=Europe/Ljubljana:20251013T140000
DTEND;TZID=Europe/Ljubljana:20251013T160000
DTSTAMP:20260425T160517Z
UID:fs-AFLABS-URNIK:srecanje:16678-2025-10-13 14:00:00+02:00
DESCRIPTION:Predmet: Energetski sistemi (ENSM)\, Laboratorijske vaje (VL)\
 , [S2]\nLetniki: Energetsko strojništvo (MAG-1)\nIzvajalci: Boštjan Drob
 nič\, Domen Hojkar\, Mihael Boštjan Končar\, Andrej Lotrič\, Mitja Mor
 i\nProstor: Laboratorij LTE SI-60A
END:VEVENT
BEGIN:VEVENT
SUMMARY:Energetski sistemi (ENSM)\, Laboratorijske vaje (VL)\, [S2]
DTSTART;TZID=Europe/Ljubljana:20251020T140000
DTEND;TZID=Europe/Ljubljana:20251020T160000
DTSTAMP:20260425T160517Z
UID:fs-AFLABS-URNIK:srecanje:16678-2025-10-20 14:00:00+02:00
DESCRIPTION:Predmet: Energetski sistemi (ENSM)\, Laboratorijske vaje (VL)\
 , [S2]\nLetniki: Energetsko strojništvo (MAG-1)\nIzvajalci: Boštjan Drob
 nič\, Domen Hojkar\, Mihael Boštjan Končar\, Andrej Lotrič\, Mitja Mor
 i\nProstor: Laboratorij LTE SI-60A
END:VEVENT
BEGIN:VEVENT
SUMMARY:Trajnostne tehnologije v energetiki (TTEP)\, Laboratorijske vaje (
 VL)\, [S1]
DTSTART;TZID=Europe/Ljubljana:20251014T073000
DTEND;TZID=Europe/Ljubljana:20251014T093000
DTSTAMP:20260425T160517Z
UID:fs-AFLABS-URNIK:srecanje:16548-2025-10-14 07:30:00+02:00
DESCRIPTION:Predmet: Trajnostne tehnologije v energetiki (TTEP)\, Laborato
 rijske vaje (VL)\, [S1]\nLetniki: Energetsko strojništvo (PAP-3)\nIzvajal
 ci: Boštjan Drobnič\, Jure Gramc\, Domen Hojkar\, Mihael Boštjan Konča
 r\, Andrej Lotrič\, Rok Stropnik\nProstor: Laboratorij LTE SI-67
END:VEVENT
BEGIN:VEVENT
SUMMARY:Trajnostne tehnologije v energetiki (TTEP)\, Laboratorijske vaje (
 VL)\, [S2]
DTSTART;TZID=Europe/Ljubljana:20251014T133000
DTEND;TZID=Europe/Ljubljana:20251014T153000
DTSTAMP:20260425T160517Z
UID:fs-AFLABS-URNIK:srecanje:16549-2025-10-14 13:30:00+02:00
DESCRIPTION:Predmet: Trajnostne tehnologije v energetiki (TTEP)\, Laborato
 rijske vaje (VL)\, [S2]\nLetniki: Energetsko strojništvo (PAP-3)\nIzvajal
 ci: Boštjan Drobnič\, Jure Gramc\, Domen Hojkar\, Mihael Boštjan Konča
 r\, Andrej Lotrič\, Rok Stropnik\nProstor: Laboratorij LTE SI-67
END:VEVENT
BEGIN:VEVENT
SUMMARY:Energetski sistemi (ENSM)\, Laboratorijske vaje (VL)\, [S3]
DTSTART;TZID=Europe/Ljubljana:20251014T080000
DTEND;TZID=Europe/Ljubljana:20251014T100000
DTSTAMP:20260425T160517Z
UID:fs-AFLABS-URNIK:srecanje:16680-2025-10-14 08:00:00+02:00
DESCRIPTION:Predmet: Energetski sistemi (ENSM)\, Laboratorijske vaje (VL)\
 , [S3]\nLetniki: Energetsko strojništvo (MAG-1)\nIzvajalci: Boštjan Drob
 nič\, Domen Hojkar\, Mihael Boštjan Končar\, Andrej Lotrič\, Mitja Mor
 i\nProstor: Laboratorij LTE SI-60A
END:VEVENT
BEGIN:VEVENT
SUMMARY:Energetski sistemi (ENSM)\, Laboratorijske vaje (VL)\, [S4]
DTSTART;TZID=Europe/Ljubljana:20251014T100000
DTEND;TZID=Europe/Ljubljana:20251014T120000
DTSTAMP:20260425T160517Z
UID:fs-AFLABS-URNIK:srecanje:16681-2025-10-14 10:00:00+02:00
DESCRIPTION:Predmet: Energetski sistemi (ENSM)\, Laboratorijske vaje (VL)\
 , [S4]\nLetniki: Energetsko strojništvo (MAG-1)\nIzvajalci: Boštjan Drob
 nič\, Domen Hojkar\, Mihael Boštjan Končar\, Andrej Lotrič\, Mitja Mor
 i\nProstor: Laboratorij LTE SI-60A
END:VEVENT
BEGIN:VEVENT
SUMMARY:Energetski sistemi (ENSM)\, Laboratorijske vaje (VL)\, [S5]
DTSTART;TZID=Europe/Ljubljana:20251014T140000
DTEND;TZID=Europe/Ljubljana:20251014T160000
DTSTAMP:20260425T160517Z
UID:fs-AFLABS-URNIK:srecanje:16683-2025-10-14 14:00:00+02:00
DESCRIPTION:Predmet: Energetski sistemi (ENSM)\, Laboratorijske vaje (VL)\
 , [S5]\nLetniki: Energetsko strojništvo (MAG-1)\nIzvajalci: Boštjan Drob
 nič\, Domen Hojkar\, Mihael Boštjan Končar\, Andrej Lotrič\, Mitja Mor
 i\nProstor: Laboratorij LTE SI-60A
END:VEVENT
BEGIN:VEVENT
SUMMARY:Energetski sistemi (ENSM)\, Laboratorijske vaje (VL)\, [S6]
DTSTART;TZID=Europe/Ljubljana:20251014T160000
DTEND;TZID=Europe/Ljubljana:20251014T180000
DTSTAMP:20260425T160517Z
UID:fs-AFLABS-URNIK:srecanje:16685-2025-10-14 16:00:00+02:00
DESCRIPTION:Predmet: Energetski sistemi (ENSM)\, Laboratorijske vaje (VL)\
 , [S6]\nLetniki: Energetsko strojništvo (MAG-1)\nIzvajalci: Boštjan Drob
 nič\, Domen Hojkar\, Mihael Boštjan Končar\, Andrej Lotrič\, Mitja Mor
 i\nProstor: Laboratorij LTE SI-60A
END:VEVENT
BEGIN:VEVENT
SUMMARY:Energetski sistemi (ENSM)\, Laboratorijske vaje (VL)\, [S7]
DTSTART;TZID=Europe/Ljubljana:20251015T120000
DTEND;TZID=Europe/Ljubljana:20251015T140000
DTSTAMP:20260425T160517Z
UID:fs-AFLABS-URNIK:srecanje:16686-2025-10-15 12:00:00+02:00
DESCRIPTION:Predmet: Energetski sistemi (ENSM)\, Laboratorijske vaje (VL)\
 , [S7]\nLetniki: Energetsko strojništvo (MAG-1)\nIzvajalci: Boštjan Drob
 nič\, Domen Hojkar\, Mihael Boštjan Končar\, Andrej Lotrič\, Mitja Mor
 i\nProstor: Laboratorij LTE SI-60A
END:VEVENT
BEGIN:VEVENT
SUMMARY:Energetski sistemi (ENSM)\, Laboratorijske vaje (VL)\, [S8]
DTSTART;TZID=Europe/Ljubljana:20251015T140000
DTEND;TZID=Europe/Ljubljana:20251015T160000
DTSTAMP:20260425T160517Z
UID:fs-AFLABS-URNIK:srecanje:16687-2025-10-15 14:00:00+02:00
DESCRIPTION:Predmet: Energetski sistemi (ENSM)\, Laboratorijske vaje (VL)\
 , [S8]\nLetniki: Energetsko strojništvo (MAG-1)\nIzvajalci: Boštjan Drob
 nič\, Domen Hojkar\, Mihael Boštjan Končar\, Andrej Lotrič\, Mitja Mor
 i\nProstor: Laboratorij LTE SI-60A
END:VEVENT
BEGIN:VEVENT
SUMMARY:Energy Conversion Systems (ECSE)\, Laboratorijske vaje (VL)\, [S1]
DTSTART;TZID=Europe/Ljubljana:20251016T080000
DTEND;TZID=Europe/Ljubljana:20251016T100000
DTSTAMP:20260425T160517Z
UID:fs-AFLABS-URNIK:srecanje:17606-2025-10-16 08:00:00+02:00
DESCRIPTION:Predmet: Energy Conversion Systems (ECSE)\, Laboratorijske vaj
 e (VL)\, [S1]\nLetniki: Erasmus (Erasmus)\nIzvajalci: Boštjan Drobnič\, 
 Mitja Mori\nProstor: Laboratorij LTE SI-60A
END:VEVENT
BEGIN:VEVENT
SUMMARY:Energy Conversion Systems (ECSE)\, Laboratorijske vaje (VL)\, [S2]
DTSTART;TZID=Europe/Ljubljana:20251016T100000
DTEND;TZID=Europe/Ljubljana:20251016T120000
DTSTAMP:20260425T160517Z
UID:fs-AFLABS-URNIK:srecanje:17607-2025-10-16 10:00:00+02:00
DESCRIPTION:Predmet: Energy Conversion Systems (ECSE)\, Laboratorijske vaj
 e (VL)\, [S2]\nLetniki: Erasmus (Erasmus)\nIzvajalci: Boštjan Drobnič\, 
 Mitja Mori\nProstor: Laboratorij LTE SI-60A
END:VEVENT
END:VCALENDAR
