BEGIN:VCALENDAR
VERSION:2.0
PRODID:-//AFLabs urnik izvoz - fs//aflabs.si//SI
NAME:UL FS Urnik
X-WR-CALNAME:UL FS Urnik
DTSTAMP:20260421T070306Z
REFRESH-INTERVAL:PT1H
SOURCE:https://urnik.fs.uni-lj.si/teacher/674/?day=2023-07-03&export=1
URL:https://urnik.fs.uni-lj.si/teacher/674/?day=2023-07-03&export=1
X-PUBLISHED-TTL:PT1H
X-WR-TIMEZONE:Europe/Ljubljana
BEGIN:VTIMEZONE
TZID:Europe/Ljubljana
BEGIN:DAYLIGHT
DTSTART:20260329T020000
RDATE:20260329T020000
RDATE:20270328T020000
TZNAME:CEST
TZOFFSETFROM:+0100
TZOFFSETTO:+0200
END:DAYLIGHT
BEGIN:STANDARD
DTSTART:20261025T030000
RDATE:20261025T030000
RDATE:20271031T030000
TZNAME:CET
TZOFFSETFROM:+0200
TZOFFSETTO:+0100
END:STANDARD
END:VTIMEZONE
BEGIN:VEVENT
SUMMARY:Tehnologije v proizvodnji 1 (TP1P)\, Predavalniške vaje (VP)\, [S
 1]
DTSTART;TZID=Europe/Ljubljana:20230529T130000
DTEND;TZID=Europe/Ljubljana:20230529T160000
DTSTAMP:20260421T070306Z
UID:fs-AFLABS-URNIK:srecanje:386-2023-05-29 13:00:00+02:00
DESCRIPTION:Predmet: Tehnologije v proizvodnji 1 (TP1P)\, Predavalniške v
 aje (VP)\, [S1]\nLetniki: PAP-1 (PAP-1)\nIzvajalci: Jaka Dugar\, Izidor Sa
 botin\nProstor: Predavalnica II/2
END:VEVENT
BEGIN:VEVENT
SUMMARY:Izdelovalne tehnologije 1 (IT1R)\, Predavalniške vaje (VP)\, [S1]
DTSTART;TZID=Europe/Ljubljana:20230601T100000
DTEND;TZID=Europe/Ljubljana:20230601T120000
DTSTAMP:20260421T070306Z
UID:fs-AFLABS-URNIK:srecanje:518-2023-06-01 10:00:00+02:00
DESCRIPTION:Predmet: Izdelovalne tehnologije 1 (IT1R)\, Predavalniške vaj
 e (VP)\, [S1]\nLetniki: RRP-2 (RRP-2)\nIzvajalci: Jaka Dugar\, Luka Sevše
 k\nProstor: Predavalnica V/2
END:VEVENT
BEGIN:VEVENT
SUMMARY:Izdelovalne tehnologije 1 (IT1R)\, Predavalniške vaje (VP)\, [S2]
DTSTART;TZID=Europe/Ljubljana:20230602T120000
DTEND;TZID=Europe/Ljubljana:20230602T140000
DTSTAMP:20260421T070306Z
UID:fs-AFLABS-URNIK:srecanje:522-2023-06-02 12:00:00+02:00
DESCRIPTION:Predmet: Izdelovalne tehnologije 1 (IT1R)\, Predavalniške vaj
 e (VP)\, [S2]\nLetniki: RRP-2 (RRP-2)\nIzvajalci: Jaka Dugar\, Luka Sevše
 k\nProstor: Predavalnica II/2
END:VEVENT
BEGIN:VEVENT
SUMMARY:KOLOKVIJ VAJ
DTSTART;TZID=Europe/Ljubljana:20230601T180000
DTEND;TZID=Europe/Ljubljana:20230601T190000
DTSTAMP:20260421T070306Z
UID:fs-AFLABS-URNIK:rezervacija:2723
ATTENDEE:RRP-2 (RRP-2)
CATEGORIES:Reservation
COLOR:royalblue
DESCRIPTION:Predmeti: Izdelovalne tehnologije 1 (IT1R)\nLetniki: RRP-2 (RR
 P-2)\nIzvajalci: Jaka Dugar\nProstori: Predavalnica V/8
LOCATION:Predavalnica V/8
ORGANIZER:Jaka Dugar
X-WR-TIMEZONE:Europe/Ljubljana
END:VEVENT
END:VCALENDAR
