BEGIN:VCALENDAR
VERSION:2.0
PRODID:-//AFLabs urnik izvoz - fs//aflabs.si//SI
NAME:UL FS Urnik
X-WR-CALNAME:UL FS Urnik
DTSTAMP:20260423T185203Z
REFRESH-INTERVAL:PT1H
SOURCE:https://urnik.fs.uni-lj.si/teacher/678/?day=2025-09-22&export=1
URL:https://urnik.fs.uni-lj.si/teacher/678/?day=2025-09-22&export=1
X-PUBLISHED-TTL:PT1H
X-WR-TIMEZONE:Europe/Ljubljana
BEGIN:VTIMEZONE
TZID:Europe/Ljubljana
BEGIN:DAYLIGHT
DTSTART:20260329T020000
RDATE:20260329T020000
RDATE:20270328T020000
TZNAME:CEST
TZOFFSETFROM:+0100
TZOFFSETTO:+0200
END:DAYLIGHT
BEGIN:STANDARD
DTSTART:20261025T030000
RDATE:20261025T030000
RDATE:20271031T030000
TZNAME:CET
TZOFFSETFROM:+0200
TZOFFSETTO:+0100
END:STANDARD
END:VTIMEZONE
BEGIN:VEVENT
SUMMARY:Numerične metode (NMMR)\, Laboratorijske vaje (VL)\, [S3\, S4]
DTSTART;TZID=Europe/Ljubljana:20251002T080000
DTEND;TZID=Europe/Ljubljana:20251002T100000
DTSTAMP:20260423T185203Z
UID:fs-AFLABS-URNIK:srecanje:15635-2025-10-02 08:00:00+02:00
DESCRIPTION:Predmet: Numerične metode (NMMR)\, Laboratorijske vaje (VL)\,
  [S3\, S4]\nLetniki: RRP-2 (RRP-2)\nIzvajalci: Domen Gorjup\nProstor: Rač
 unalniška predavalnica SP-24
END:VEVENT
BEGIN:VEVENT
SUMMARY:Numerične metode (NMMR)\, Laboratorijske vaje (VL)\, [S3\, S4]
DTSTART;TZID=Europe/Ljubljana:20251009T080000
DTEND;TZID=Europe/Ljubljana:20251009T100000
DTSTAMP:20260423T185203Z
UID:fs-AFLABS-URNIK:srecanje:15635-2025-10-09 08:00:00+02:00
DESCRIPTION:Predmet: Numerične metode (NMMR)\, Laboratorijske vaje (VL)\,
  [S3\, S4]\nLetniki: RRP-2 (RRP-2)\nIzvajalci: Domen Gorjup\nProstor: Rač
 unalniška predavalnica SP-24
END:VEVENT
BEGIN:VEVENT
SUMMARY:Numerične metode (NMMR)\, Laboratorijske vaje (VL)\, [S3\, S4]
DTSTART;TZID=Europe/Ljubljana:20251016T080000
DTEND;TZID=Europe/Ljubljana:20251016T100000
DTSTAMP:20260423T185203Z
UID:fs-AFLABS-URNIK:srecanje:15635-2025-10-16 08:00:00+02:00
DESCRIPTION:Predmet: Numerične metode (NMMR)\, Laboratorijske vaje (VL)\,
  [S3\, S4]\nLetniki: RRP-2 (RRP-2)\nIzvajalci: Domen Gorjup\nProstor: Rač
 unalniška predavalnica SP-24
END:VEVENT
BEGIN:VEVENT
SUMMARY:Numerične metode (NMMR)\, Laboratorijske vaje (VL)\, [S3\, S4]
DTSTART;TZID=Europe/Ljubljana:20251023T080000
DTEND;TZID=Europe/Ljubljana:20251023T100000
DTSTAMP:20260423T185203Z
UID:fs-AFLABS-URNIK:srecanje:15635-2025-10-23 08:00:00+02:00
DESCRIPTION:Predmet: Numerične metode (NMMR)\, Laboratorijske vaje (VL)\,
  [S3\, S4]\nLetniki: RRP-2 (RRP-2)\nIzvajalci: Domen Gorjup\nProstor: Rač
 unalniška predavalnica SP-24
END:VEVENT
BEGIN:VEVENT
SUMMARY:Numerične metode (NMMR)\, Laboratorijske vaje (VL)\, [S7\, S8]
DTSTART;TZID=Europe/Ljubljana:20251002T100000
DTEND;TZID=Europe/Ljubljana:20251002T120000
DTSTAMP:20260423T185203Z
UID:fs-AFLABS-URNIK:srecanje:15637-2025-10-02 10:00:00+02:00
DESCRIPTION:Predmet: Numerične metode (NMMR)\, Laboratorijske vaje (VL)\,
  [S7\, S8]\nLetniki: RRP-2 (RRP-2)\nIzvajalci: Domen Gorjup\nProstor: Rač
 unalniška predavalnica SP-24
END:VEVENT
BEGIN:VEVENT
SUMMARY:Numerične metode (NMMR)\, Laboratorijske vaje (VL)\, [S7\, S8]
DTSTART;TZID=Europe/Ljubljana:20251009T100000
DTEND;TZID=Europe/Ljubljana:20251009T120000
DTSTAMP:20260423T185203Z
UID:fs-AFLABS-URNIK:srecanje:15637-2025-10-09 10:00:00+02:00
DESCRIPTION:Predmet: Numerične metode (NMMR)\, Laboratorijske vaje (VL)\,
  [S7\, S8]\nLetniki: RRP-2 (RRP-2)\nIzvajalci: Domen Gorjup\nProstor: Rač
 unalniška predavalnica SP-24
END:VEVENT
BEGIN:VEVENT
SUMMARY:Numerične metode (NMMR)\, Laboratorijske vaje (VL)\, [S7\, S8]
DTSTART;TZID=Europe/Ljubljana:20251016T100000
DTEND;TZID=Europe/Ljubljana:20251016T120000
DTSTAMP:20260423T185203Z
UID:fs-AFLABS-URNIK:srecanje:15637-2025-10-16 10:00:00+02:00
DESCRIPTION:Predmet: Numerične metode (NMMR)\, Laboratorijske vaje (VL)\,
  [S7\, S8]\nLetniki: RRP-2 (RRP-2)\nIzvajalci: Domen Gorjup\nProstor: Rač
 unalniška predavalnica SP-24
END:VEVENT
BEGIN:VEVENT
SUMMARY:Numerične metode (NMMR)\, Laboratorijske vaje (VL)\, [S7\, S8]
DTSTART;TZID=Europe/Ljubljana:20251023T100000
DTEND;TZID=Europe/Ljubljana:20251023T120000
DTSTAMP:20260423T185203Z
UID:fs-AFLABS-URNIK:srecanje:15637-2025-10-23 10:00:00+02:00
DESCRIPTION:Predmet: Numerične metode (NMMR)\, Laboratorijske vaje (VL)\,
  [S7\, S8]\nLetniki: RRP-2 (RRP-2)\nIzvajalci: Domen Gorjup\nProstor: Rač
 unalniška predavalnica SP-24
END:VEVENT
BEGIN:VEVENT
SUMMARY:Višja dinamika (VSDM)\, Predavalniške vaje (VP)\, [S1]
DTSTART;TZID=Europe/Ljubljana:20251002T160000
DTEND;TZID=Europe/Ljubljana:20251002T180000
DTSTAMP:20260423T185203Z
UID:fs-AFLABS-URNIK:srecanje:2646-2025-10-02 16:00:00+02:00
DESCRIPTION:Predmet: Višja dinamika (VSDM)\, Predavalniške vaje (VP)\, [
 S1]\nLetniki: Mehanika (MAG-1)\nIzvajalci: Domen Gorjup\nProstor: Predaval
 nica IV/3A
END:VEVENT
BEGIN:VEVENT
SUMMARY:Višja dinamika (VSDM)\, Predavalniške vaje (VP)\, [S1]
DTSTART;TZID=Europe/Ljubljana:20251009T160000
DTEND;TZID=Europe/Ljubljana:20251009T180000
DTSTAMP:20260423T185203Z
UID:fs-AFLABS-URNIK:srecanje:2646-2025-10-09 16:00:00+02:00
DESCRIPTION:Predmet: Višja dinamika (VSDM)\, Predavalniške vaje (VP)\, [
 S1]\nLetniki: Mehanika (MAG-1)\nIzvajalci: Domen Gorjup\nProstor: Predaval
 nica IV/3A
END:VEVENT
BEGIN:VEVENT
SUMMARY:Višja dinamika (VSDM)\, Predavalniške vaje (VP)\, [S1]
DTSTART;TZID=Europe/Ljubljana:20251023T160000
DTEND;TZID=Europe/Ljubljana:20251023T180000
DTSTAMP:20260423T185203Z
UID:fs-AFLABS-URNIK:srecanje:2646-2025-10-23 16:00:00+02:00
DESCRIPTION:Predmet: Višja dinamika (VSDM)\, Predavalniške vaje (VP)\, [
 S1]\nLetniki: Mehanika (MAG-1)\nIzvajalci: Domen Gorjup\nProstor: Predaval
 nica IV/3A
END:VEVENT
BEGIN:VEVENT
SUMMARY:Numerične metode (NMMR)\, Laboratorijske vaje (VL)\, [S15\, S16]
DTSTART;TZID=Europe/Ljubljana:20251003T080000
DTEND;TZID=Europe/Ljubljana:20251003T100000
DTSTAMP:20260423T185203Z
UID:fs-AFLABS-URNIK:srecanje:15639-2025-10-03 08:00:00+02:00
DESCRIPTION:Predmet: Numerične metode (NMMR)\, Laboratorijske vaje (VL)\,
  [S15\, S16]\nLetniki: RRP-2 (RRP-2)\nIzvajalci: Domen Gorjup\nProstor: Ra
 čunalniška predavalnica SP-24
END:VEVENT
BEGIN:VEVENT
SUMMARY:Numerične metode (NMMR)\, Laboratorijske vaje (VL)\, [S15\, S16]
DTSTART;TZID=Europe/Ljubljana:20251010T080000
DTEND;TZID=Europe/Ljubljana:20251010T100000
DTSTAMP:20260423T185203Z
UID:fs-AFLABS-URNIK:srecanje:15639-2025-10-10 08:00:00+02:00
DESCRIPTION:Predmet: Numerične metode (NMMR)\, Laboratorijske vaje (VL)\,
  [S15\, S16]\nLetniki: RRP-2 (RRP-2)\nIzvajalci: Domen Gorjup\nProstor: Ra
 čunalniška predavalnica SP-24
END:VEVENT
BEGIN:VEVENT
SUMMARY:Numerične metode (NMMR)\, Laboratorijske vaje (VL)\, [S15\, S16]
DTSTART;TZID=Europe/Ljubljana:20251017T080000
DTEND;TZID=Europe/Ljubljana:20251017T100000
DTSTAMP:20260423T185203Z
UID:fs-AFLABS-URNIK:srecanje:15639-2025-10-17 08:00:00+02:00
DESCRIPTION:Predmet: Numerične metode (NMMR)\, Laboratorijske vaje (VL)\,
  [S15\, S16]\nLetniki: RRP-2 (RRP-2)\nIzvajalci: Domen Gorjup\nProstor: Ra
 čunalniška predavalnica SP-24
END:VEVENT
BEGIN:VEVENT
SUMMARY:Numerične metode (NMMR)\, Laboratorijske vaje (VL)\, [S15\, S16]
DTSTART;TZID=Europe/Ljubljana:20251024T080000
DTEND;TZID=Europe/Ljubljana:20251024T100000
DTSTAMP:20260423T185203Z
UID:fs-AFLABS-URNIK:srecanje:15639-2025-10-24 08:00:00+02:00
DESCRIPTION:Predmet: Numerične metode (NMMR)\, Laboratorijske vaje (VL)\,
  [S15\, S16]\nLetniki: RRP-2 (RRP-2)\nIzvajalci: Domen Gorjup\nProstor: Ra
 čunalniška predavalnica SP-24
END:VEVENT
BEGIN:VEVENT
SUMMARY:Numerične metode (NMMR)\, Laboratorijske vaje (VL)\, [S11\, S12]
DTSTART;TZID=Europe/Ljubljana:20251003T120000
DTEND;TZID=Europe/Ljubljana:20251003T140000
DTSTAMP:20260423T185203Z
UID:fs-AFLABS-URNIK:srecanje:15641-2025-10-03 12:00:00+02:00
DESCRIPTION:Predmet: Numerične metode (NMMR)\, Laboratorijske vaje (VL)\,
  [S11\, S12]\nLetniki: RRP-2 (RRP-2)\nIzvajalci: Domen Gorjup\nProstor: Ra
 čunalniška predavalnica SP-24
END:VEVENT
BEGIN:VEVENT
SUMMARY:Numerične metode (NMMR)\, Laboratorijske vaje (VL)\, [S11\, S12]
DTSTART;TZID=Europe/Ljubljana:20251010T120000
DTEND;TZID=Europe/Ljubljana:20251010T140000
DTSTAMP:20260423T185203Z
UID:fs-AFLABS-URNIK:srecanje:15641-2025-10-10 12:00:00+02:00
DESCRIPTION:Predmet: Numerične metode (NMMR)\, Laboratorijske vaje (VL)\,
  [S11\, S12]\nLetniki: RRP-2 (RRP-2)\nIzvajalci: Domen Gorjup\nProstor: Ra
 čunalniška predavalnica SP-24
END:VEVENT
BEGIN:VEVENT
SUMMARY:Numerične metode (NMMR)\, Laboratorijske vaje (VL)\, [S11\, S12]
DTSTART;TZID=Europe/Ljubljana:20251017T120000
DTEND;TZID=Europe/Ljubljana:20251017T140000
DTSTAMP:20260423T185203Z
UID:fs-AFLABS-URNIK:srecanje:15641-2025-10-17 12:00:00+02:00
DESCRIPTION:Predmet: Numerične metode (NMMR)\, Laboratorijske vaje (VL)\,
  [S11\, S12]\nLetniki: RRP-2 (RRP-2)\nIzvajalci: Domen Gorjup\nProstor: Ra
 čunalniška predavalnica SP-24
END:VEVENT
BEGIN:VEVENT
SUMMARY:Numerične metode (NMMR)\, Laboratorijske vaje (VL)\, [S11\, S12]
DTSTART;TZID=Europe/Ljubljana:20251024T120000
DTEND;TZID=Europe/Ljubljana:20251024T140000
DTSTAMP:20260423T185203Z
UID:fs-AFLABS-URNIK:srecanje:15641-2025-10-24 12:00:00+02:00
DESCRIPTION:Predmet: Numerične metode (NMMR)\, Laboratorijske vaje (VL)\,
  [S11\, S12]\nLetniki: RRP-2 (RRP-2)\nIzvajalci: Domen Gorjup\nProstor: Ra
 čunalniška predavalnica SP-24
END:VEVENT
BEGIN:VEVENT
SUMMARY:Višja dinamika (VSDM)\, Laboratorijske vaje (VL)\, [S1]
DTSTART;TZID=Europe/Ljubljana:20251013T100000
DTEND;TZID=Europe/Ljubljana:20251013T120000
DTSTAMP:20260423T185203Z
UID:fs-AFLABS-URNIK:srecanje:17274-2025-10-13 10:00:00+02:00
DESCRIPTION:Predmet: Višja dinamika (VSDM)\, Laboratorijske vaje (VL)\, [
 S1]\nLetniki: Mehanika (MAG-1)\nIzvajalci: Tibor Barši Palmić\, Gregor 
 Čepon\, Martin Česnik\, Domen Gorjup\, Miha Kodrič\, Tilen Košir\, Ga
 šper Krivic\, Matic Mlinarič\, Tim Mušič\, Dubravka Nikčević\, Luka 
 Novak\, Miha Pogačar\, Klemen Zaletelj\, Aleš Zorman\nProstor: Računaln
 iška predavalnica LADISK  I/4B
END:VEVENT
BEGIN:VEVENT
SUMMARY:Višja dinamika (VSDM)\, Laboratorijske vaje (VL)\, [S2]
DTSTART;TZID=Europe/Ljubljana:20251013T120000
DTEND;TZID=Europe/Ljubljana:20251013T140000
DTSTAMP:20260423T185203Z
UID:fs-AFLABS-URNIK:srecanje:17277-2025-10-13 12:00:00+02:00
DESCRIPTION:Predmet: Višja dinamika (VSDM)\, Laboratorijske vaje (VL)\, [
 S2]\nLetniki: Mehanika (MAG-1)\nIzvajalci: Tibor Barši Palmić\, Gregor 
 Čepon\, Martin Česnik\, Domen Gorjup\, Miha Kodrič\, Tilen Košir\, Ga
 šper Krivic\, Matic Mlinarič\, Tim Mušič\, Dubravka Nikčević\, Luka 
 Novak\, Miha Pogačar\, Klemen Zaletelj\, Aleš Zorman\nProstor: Računaln
 iška predavalnica LADISK  I/4B
END:VEVENT
BEGIN:VEVENT
SUMMARY:Višja dinamika (VSDM)\, Laboratorijske vaje (VL)\, [S3]
DTSTART;TZID=Europe/Ljubljana:20251014T140000
DTEND;TZID=Europe/Ljubljana:20251014T160000
DTSTAMP:20260423T185203Z
UID:fs-AFLABS-URNIK:srecanje:17281-2025-10-14 14:00:00+02:00
DESCRIPTION:Predmet: Višja dinamika (VSDM)\, Laboratorijske vaje (VL)\, [
 S3]\nLetniki: Mehanika (MAG-1)\nIzvajalci: Tibor Barši Palmić\, Gregor 
 Čepon\, Martin Česnik\, Domen Gorjup\, Miha Kodrič\, Tilen Košir\, Ga
 šper Krivic\, Matic Mlinarič\, Tim Mušič\, Dubravka Nikčević\, Luka 
 Novak\, Miha Pogačar\, Klemen Zaletelj\, Aleš Zorman\nProstor: Računaln
 iška predavalnica LADISK  I/4B
END:VEVENT
BEGIN:VEVENT
SUMMARY:Višja dinamika (VSDM)\, Laboratorijske vaje (VL)\, [S7]
DTSTART;TZID=Europe/Ljubljana:20251016T160000
DTEND;TZID=Europe/Ljubljana:20251016T180000
DTSTAMP:20260423T185203Z
UID:fs-AFLABS-URNIK:srecanje:17293-2025-10-16 16:00:00+02:00
DESCRIPTION:Predmet: Višja dinamika (VSDM)\, Laboratorijske vaje (VL)\, [
 S7]\nLetniki: Mehanika (MAG-1)\nIzvajalci: Tibor Barši Palmić\, Gregor 
 Čepon\, Martin Česnik\, Domen Gorjup\, Miha Kodrič\, Tilen Košir\, Ga
 šper Krivic\, Matic Mlinarič\, Tim Mušič\, Dubravka Nikčević\, Luka 
 Novak\, Miha Pogačar\, Klemen Zaletelj\, Aleš Zorman\nProstor: Računaln
 iška predavalnica LADISK  I/4B
END:VEVENT
BEGIN:VEVENT
SUMMARY:Višja dinamika (VSDM)\, Laboratorijske vaje (VL)\, [S4]
DTSTART;TZID=Europe/Ljubljana:20251017T080000
DTEND;TZID=Europe/Ljubljana:20251017T100000
DTSTAMP:20260423T185203Z
UID:fs-AFLABS-URNIK:srecanje:16760-2025-10-17 08:00:00+02:00
DESCRIPTION:Predmet: Višja dinamika (VSDM)\, Laboratorijske vaje (VL)\, [
 S4]\nLetniki: Mehanika (MAG-1)\nIzvajalci: Tibor Barši Palmić\, Gregor 
 Čepon\, Martin Česnik\, Domen Gorjup\, Miha Kodrič\, Tilen Košir\, Ga
 šper Krivic\, Matic Mlinarič\, Tim Mušič\, Dubravka Nikčević\, Luka 
 Novak\, Miha Pogačar\, Klemen Zaletelj\, Aleš Zorman\nProstor: Laborator
 ij LADISK P-17C
END:VEVENT
BEGIN:VEVENT
SUMMARY:Višja dinamika (VSDM)\, Laboratorijske vaje (VL)\, [S5]
DTSTART;TZID=Europe/Ljubljana:20251017T100000
DTEND;TZID=Europe/Ljubljana:20251017T120000
DTSTAMP:20260423T185203Z
UID:fs-AFLABS-URNIK:srecanje:16761-2025-10-17 10:00:00+02:00
DESCRIPTION:Predmet: Višja dinamika (VSDM)\, Laboratorijske vaje (VL)\, [
 S5]\nLetniki: Mehanika (MAG-1)\nIzvajalci: Tibor Barši Palmić\, Gregor 
 Čepon\, Martin Česnik\, Domen Gorjup\, Miha Kodrič\, Tilen Košir\, Ga
 šper Krivic\, Matic Mlinarič\, Tim Mušič\, Dubravka Nikčević\, Luka 
 Novak\, Miha Pogačar\, Klemen Zaletelj\, Aleš Zorman\nProstor: Laborator
 ij LADISK P-17C
END:VEVENT
BEGIN:VEVENT
SUMMARY:Višja dinamika (VSDM)\, Laboratorijske vaje (VL)\, [S6]
DTSTART;TZID=Europe/Ljubljana:20251017T120000
DTEND;TZID=Europe/Ljubljana:20251017T140000
DTSTAMP:20260423T185203Z
UID:fs-AFLABS-URNIK:srecanje:16763-2025-10-17 12:00:00+02:00
DESCRIPTION:Predmet: Višja dinamika (VSDM)\, Laboratorijske vaje (VL)\, [
 S6]\nLetniki: Mehanika (MAG-1)\nIzvajalci: Tibor Barši Palmić\, Gregor 
 Čepon\, Martin Česnik\, Domen Gorjup\, Miha Kodrič\, Tilen Košir\, Ga
 šper Krivic\, Matic Mlinarič\, Tim Mušič\, Dubravka Nikčević\, Luka 
 Novak\, Miha Pogačar\, Klemen Zaletelj\, Aleš Zorman\nProstor: Laborator
 ij LADISK P-17C
END:VEVENT
END:VCALENDAR
