BEGIN:VCALENDAR
VERSION:2.0
PRODID:-//AFLabs urnik izvoz - fs//aflabs.si//SI
NAME:UL FS Urnik
X-WR-CALNAME:UL FS Urnik
DTSTAMP:20260423T223716Z
REFRESH-INTERVAL:PT1H
SOURCE:https://urnik.fs.uni-lj.si/teacher/690/?day=2024-09-09&export=1
URL:https://urnik.fs.uni-lj.si/teacher/690/?day=2024-09-09&export=1
X-PUBLISHED-TTL:PT1H
X-WR-TIMEZONE:Europe/Ljubljana
BEGIN:VTIMEZONE
TZID:Europe/Ljubljana
BEGIN:DAYLIGHT
DTSTART:20260329T020000
RDATE:20260329T020000
RDATE:20270328T020000
TZNAME:CEST
TZOFFSETFROM:+0100
TZOFFSETTO:+0200
END:DAYLIGHT
BEGIN:STANDARD
DTSTART:20261025T030000
RDATE:20261025T030000
RDATE:20271031T030000
TZNAME:CET
TZOFFSETFROM:+0200
TZOFFSETTO:+0100
END:STANDARD
END:VTIMEZONE
BEGIN:VEVENT
SUMMARY:Zagovori PAP
DTSTART;TZID=Europe/Ljubljana:20240823T110000
DTEND;TZID=Europe/Ljubljana:20240823T140000
DTSTAMP:20260423T223716Z
UID:fs-AFLABS-URNIK:rezervacija:6027
CATEGORIES:Reservation
COLOR:royalblue
DESCRIPTION:Predmeti: \nLetniki: \nIzvajalci: Valentina Hajdinjak\nProstor
 i: Predavalnica II/2
LOCATION:Predavalnica II/2
ORGANIZER:Valentina Hajdinjak
X-WR-TIMEZONE:Europe/Ljubljana
END:VEVENT
BEGIN:VEVENT
SUMMARY:Zagovori PAP
DTSTART;TZID=Europe/Ljubljana:20240823T080000
DTEND;TZID=Europe/Ljubljana:20240823T110000
DTSTAMP:20260423T223716Z
UID:fs-AFLABS-URNIK:rezervacija:6028
CATEGORIES:Reservation
COLOR:royalblue
DESCRIPTION:Predmeti: \nLetniki: \nIzvajalci: Valentina Hajdinjak\nProstor
 i: Predavalnica II/3A
LOCATION:Predavalnica II/3A
ORGANIZER:Valentina Hajdinjak
X-WR-TIMEZONE:Europe/Ljubljana
END:VEVENT
BEGIN:VEVENT
SUMMARY:Zagovori PAP
DTSTART;TZID=Europe/Ljubljana:20240822T080000
DTEND;TZID=Europe/Ljubljana:20240822T100000
DTSTAMP:20260423T223716Z
UID:fs-AFLABS-URNIK:rezervacija:6029
CATEGORIES:Reservation
COLOR:royalblue
DESCRIPTION:Predmeti: \nLetniki: \nIzvajalci: Valentina Hajdinjak\nProstor
 i: Predavalnica II/3A
LOCATION:Predavalnica II/3A
ORGANIZER:Valentina Hajdinjak
X-WR-TIMEZONE:Europe/Ljubljana
END:VEVENT
BEGIN:VEVENT
SUMMARY:Zagovori PAP
DTSTART;TZID=Europe/Ljubljana:20240823T080000
DTEND;TZID=Europe/Ljubljana:20240823T110000
DTSTAMP:20260423T223716Z
UID:fs-AFLABS-URNIK:rezervacija:6035
CATEGORIES:Reservation
COLOR:royalblue
DESCRIPTION:Predmeti: \nLetniki: \nIzvajalci: Valentina Hajdinjak\nProstor
 i: Predavalnica III/3B
LOCATION:Predavalnica III/3B
ORGANIZER:Valentina Hajdinjak
X-WR-TIMEZONE:Europe/Ljubljana
END:VEVENT
BEGIN:VEVENT
SUMMARY:Zagovori PAP
DTSTART;TZID=Europe/Ljubljana:20240827T080000
DTEND;TZID=Europe/Ljubljana:20240827T110000
DTSTAMP:20260423T223716Z
UID:fs-AFLABS-URNIK:rezervacija:6038
CATEGORIES:Reservation
COLOR:royalblue
DESCRIPTION:Predmeti: \nLetniki: \nIzvajalci: Valentina Hajdinjak\nProstor
 i: Predavalnica III/3B
LOCATION:Predavalnica III/3B
ORGANIZER:Valentina Hajdinjak
X-WR-TIMEZONE:Europe/Ljubljana
END:VEVENT
BEGIN:VEVENT
SUMMARY:Zagovori PAP
DTSTART;TZID=Europe/Ljubljana:20240822T070000
DTEND;TZID=Europe/Ljubljana:20240822T110000
DTSTAMP:20260423T223716Z
UID:fs-AFLABS-URNIK:rezervacija:6056
CATEGORIES:Reservation
COLOR:royalblue
DESCRIPTION:Predmeti: \nLetniki: \nIzvajalci: Valentina Hajdinjak\nProstor
 i: Predavalnica IV/3B
LOCATION:Predavalnica IV/3B
ORGANIZER:Valentina Hajdinjak
X-WR-TIMEZONE:Europe/Ljubljana
END:VEVENT
BEGIN:VEVENT
SUMMARY:Zagovori RRP
DTSTART;TZID=Europe/Ljubljana:20240829T090000
DTEND;TZID=Europe/Ljubljana:20240829T130000
DTSTAMP:20260423T223716Z
UID:fs-AFLABS-URNIK:rezervacija:6060
CATEGORIES:Reservation
COLOR:royalblue
DESCRIPTION:Predmeti: \nLetniki: \nIzvajalci: Valentina Hajdinjak\, Katja 
 Seražin\nProstori: Predavalnica IV/3A
LOCATION:Predavalnica IV/3A
ORGANIZER:Valentina Hajdinjak, Katja Seražin
X-WR-TIMEZONE:Europe/Ljubljana
END:VEVENT
BEGIN:VEVENT
SUMMARY:Zagovori PAP
DTSTART;TZID=Europe/Ljubljana:20240826T080000
DTEND;TZID=Europe/Ljubljana:20240826T110000
DTSTAMP:20260423T223716Z
UID:fs-AFLABS-URNIK:rezervacija:6069
CATEGORIES:Reservation
COLOR:royalblue
DESCRIPTION:Predmeti: \nLetniki: \nIzvajalci: Valentina Hajdinjak\nProstor
 i: Predavalnica II/3B
LOCATION:Predavalnica II/3B
ORGANIZER:Valentina Hajdinjak
X-WR-TIMEZONE:Europe/Ljubljana
END:VEVENT
BEGIN:VEVENT
SUMMARY:Zagovori PAP
DTSTART;TZID=Europe/Ljubljana:20240826T110000
DTEND;TZID=Europe/Ljubljana:20240826T140000
DTSTAMP:20260423T223716Z
UID:fs-AFLABS-URNIK:rezervacija:6072
CATEGORIES:Reservation
COLOR:royalblue
DESCRIPTION:Predmeti: \nLetniki: \nIzvajalci: Valentina Hajdinjak\nProstor
 i: Predavalnica III/3A
LOCATION:Predavalnica III/3A
ORGANIZER:Valentina Hajdinjak
X-WR-TIMEZONE:Europe/Ljubljana
END:VEVENT
BEGIN:VEVENT
SUMMARY:Zagovori PAP
DTSTART;TZID=Europe/Ljubljana:20240826T110000
DTEND;TZID=Europe/Ljubljana:20240826T140000
DTSTAMP:20260423T223716Z
UID:fs-AFLABS-URNIK:rezervacija:6075
CATEGORIES:Reservation
COLOR:royalblue
DESCRIPTION:Predmeti: \nLetniki: \nIzvajalci: Valentina Hajdinjak\nProstor
 i: Predavalnica IV/3B
LOCATION:Predavalnica IV/3B
ORGANIZER:Valentina Hajdinjak
X-WR-TIMEZONE:Europe/Ljubljana
END:VEVENT
BEGIN:VEVENT
SUMMARY:Zagovori PAP
DTSTART;TZID=Europe/Ljubljana:20240904T080000
DTEND;TZID=Europe/Ljubljana:20240904T103000
DTSTAMP:20260423T223716Z
UID:fs-AFLABS-URNIK:rezervacija:6111
CATEGORIES:Reservation
COLOR:royalblue
DESCRIPTION:Predmeti: \nLetniki: \nIzvajalci: Valentina Hajdinjak\nProstor
 i: Predavalnica II/3A
LOCATION:Predavalnica II/3A
ORGANIZER:Valentina Hajdinjak
X-WR-TIMEZONE:Europe/Ljubljana
END:VEVENT
BEGIN:VEVENT
SUMMARY:Zagovori RRP
DTSTART;TZID=Europe/Ljubljana:20240830T080000
DTEND;TZID=Europe/Ljubljana:20240830T100000
DTSTAMP:20260423T223716Z
UID:fs-AFLABS-URNIK:rezervacija:6119
CATEGORIES:Reservation
COLOR:royalblue
DESCRIPTION:Predmeti: \nLetniki: \nIzvajalci: Valentina Hajdinjak\, Katja 
 Seražin\nProstori: Predavalnica III/3B
LOCATION:Predavalnica III/3B
ORGANIZER:Valentina Hajdinjak, Katja Seražin
X-WR-TIMEZONE:Europe/Ljubljana
END:VEVENT
BEGIN:VEVENT
SUMMARY:Zagovori PAP
DTSTART;TZID=Europe/Ljubljana:20240905T080000
DTEND;TZID=Europe/Ljubljana:20240905T110000
DTSTAMP:20260423T223716Z
UID:fs-AFLABS-URNIK:rezervacija:6174
CATEGORIES:Reservation
COLOR:royalblue
DESCRIPTION:Predmeti: \nLetniki: \nIzvajalci: Valentina Hajdinjak\nProstor
 i: Predavalnica IV/3A
LOCATION:Predavalnica IV/3A
ORGANIZER:Valentina Hajdinjak
X-WR-TIMEZONE:Europe/Ljubljana
END:VEVENT
BEGIN:VEVENT
SUMMARY:Zagovori RRP
DTSTART;TZID=Europe/Ljubljana:20240902T103000
DTEND;TZID=Europe/Ljubljana:20240902T130000
DTSTAMP:20260423T223716Z
UID:fs-AFLABS-URNIK:rezervacija:6175
CATEGORIES:Reservation
COLOR:royalblue
DESCRIPTION:Predmeti: \nLetniki: \nIzvajalci: Valentina Hajdinjak\, Katja 
 Seražin\nProstori: Predavalnica II/3A
LOCATION:Predavalnica II/3A
ORGANIZER:Valentina Hajdinjak, Katja Seražin
X-WR-TIMEZONE:Europe/Ljubljana
END:VEVENT
BEGIN:VEVENT
SUMMARY:Zagovori PAP
DTSTART;TZID=Europe/Ljubljana:20240905T080000
DTEND;TZID=Europe/Ljubljana:20240905T103000
DTSTAMP:20260423T223716Z
UID:fs-AFLABS-URNIK:rezervacija:6177
CATEGORIES:Reservation
COLOR:royalblue
DESCRIPTION:Predmeti: \nLetniki: \nIzvajalci: Valentina Hajdinjak\nProstor
 i: Predavalnica IV/3B
LOCATION:Predavalnica IV/3B
ORGANIZER:Valentina Hajdinjak
X-WR-TIMEZONE:Europe/Ljubljana
END:VEVENT
BEGIN:VEVENT
SUMMARY:Zagovori PAP
DTSTART;TZID=Europe/Ljubljana:20240904T070000
DTEND;TZID=Europe/Ljubljana:20240904T140000
DTSTAMP:20260423T223716Z
UID:fs-AFLABS-URNIK:rezervacija:6179
CATEGORIES:Reservation
COLOR:royalblue
DESCRIPTION:Predmeti: \nLetniki: \nIzvajalci: Valentina Hajdinjak\nProstor
 i: Predavalnica II/2
LOCATION:Predavalnica II/2
ORGANIZER:Valentina Hajdinjak
X-WR-TIMEZONE:Europe/Ljubljana
END:VEVENT
BEGIN:VEVENT
SUMMARY:Zagovori PAP
DTSTART;TZID=Europe/Ljubljana:20240906T070000
DTEND;TZID=Europe/Ljubljana:20240906T110000
DTSTAMP:20260423T223716Z
UID:fs-AFLABS-URNIK:rezervacija:6180
CATEGORIES:Reservation
COLOR:royalblue
DESCRIPTION:Predmeti: \nLetniki: \nIzvajalci: Valentina Hajdinjak\nProstor
 i: Predavalnica II/2
LOCATION:Predavalnica II/2
ORGANIZER:Valentina Hajdinjak
X-WR-TIMEZONE:Europe/Ljubljana
END:VEVENT
BEGIN:VEVENT
SUMMARY:Zagovori PAP
DTSTART;TZID=Europe/Ljubljana:20240904T070000
DTEND;TZID=Europe/Ljubljana:20240904T100000
DTSTAMP:20260423T223716Z
UID:fs-AFLABS-URNIK:rezervacija:6183
CATEGORIES:Reservation
COLOR:royalblue
DESCRIPTION:Predmeti: \nLetniki: \nIzvajalci: Valentina Hajdinjak\nProstor
 i: Predavalnica II/3B
LOCATION:Predavalnica II/3B
ORGANIZER:Valentina Hajdinjak
X-WR-TIMEZONE:Europe/Ljubljana
END:VEVENT
BEGIN:VEVENT
SUMMARY:Zagovor RRP
DTSTART;TZID=Europe/Ljubljana:20240905T113000
DTEND;TZID=Europe/Ljubljana:20240905T130000
DTSTAMP:20260423T223716Z
UID:fs-AFLABS-URNIK:rezervacija:6208
CATEGORIES:Reservation
COLOR:royalblue
DESCRIPTION:Predmeti: \nLetniki: \nIzvajalci: Valentina Hajdinjak\nProstor
 i: Predavalnica IV/3A
LOCATION:Predavalnica IV/3A
ORGANIZER:Valentina Hajdinjak
X-WR-TIMEZONE:Europe/Ljubljana
END:VEVENT
END:VCALENDAR
