BEGIN:VCALENDAR
VERSION:2.0
PRODID:-//AFLabs urnik izvoz - fs//aflabs.si//SI
NAME:UL FS Urnik
X-WR-CALNAME:UL FS Urnik
DTSTAMP:20260420T210030Z
REFRESH-INTERVAL:PT1H
SOURCE:https://urnik.fs.uni-lj.si/teacher/691/?day=2026-09-14&export=1
URL:https://urnik.fs.uni-lj.si/teacher/691/?day=2026-09-14&export=1
X-PUBLISHED-TTL:PT1H
X-WR-TIMEZONE:Europe/Ljubljana
BEGIN:VTIMEZONE
TZID:Europe/Ljubljana
BEGIN:DAYLIGHT
DTSTART:20260329T020000
RDATE:20260329T020000
RDATE:20270328T020000
TZNAME:CEST
TZOFFSETFROM:+0100
TZOFFSETTO:+0200
END:DAYLIGHT
BEGIN:STANDARD
DTSTART:20261025T030000
RDATE:20261025T030000
RDATE:20271031T030000
TZNAME:CET
TZOFFSETFROM:+0200
TZOFFSETTO:+0100
END:STANDARD
END:VTIMEZONE
BEGIN:VEVENT
SUMMARY:Izpit: Numerično modeliranje tehnoloških procesov
DTSTART;TZID=Europe/Ljubljana:20260813T080000
DTEND;TZID=Europe/Ljubljana:20260813T110000
DTSTAMP:20260420T210030Z
UID:fs-AFLABS-URNIK:rezervacija:11710
ATTENDEE:Mehanika (MAG-2)
CATEGORIES:Reservation
COLOR:royalblue
DESCRIPTION:Predmeti: Numerično modeliranje tehnoloških procesov (NMTM)\
 nLetniki: Mehanika (MAG-2)\nIzvajalci: Miroslav Halilovič\nProstori: Pred
 avalnica III/3A
LOCATION:Predavalnica III/3A
ORGANIZER:Miroslav Halilovič
X-WR-TIMEZONE:Europe/Ljubljana
END:VEVENT
BEGIN:VEVENT
SUMMARY:Izpit: Mechanics of Structural Elements
DTSTART;TZID=Europe/Ljubljana:20260817T080000
DTEND;TZID=Europe/Ljubljana:20260817T100000
DTSTAMP:20260420T210030Z
UID:fs-AFLABS-URNIK:rezervacija:11789
ATTENDEE:Erasmus (Erasmus)
CATEGORIES:Reservation
COLOR:royalblue
DESCRIPTION:Predmeti: Mechanics of Structural Elements (MSEE)\nLetniki: Er
 asmus (Erasmus)\nIzvajalci: Miroslav Halilovič\nProstori: Računalniška 
 predavalnica LNMS II/1
LOCATION:Računalniška predavalnica LNMS II/1
ORGANIZER:Miroslav Halilovič
X-WR-TIMEZONE:Europe/Ljubljana
END:VEVENT
BEGIN:VEVENT
SUMMARY:Izpit: Mehanika konstrukcijskih elementov
DTSTART;TZID=Europe/Ljubljana:20260817T080000
DTEND;TZID=Europe/Ljubljana:20260817T100000
DTSTAMP:20260420T210030Z
UID:fs-AFLABS-URNIK:rezervacija:11790
ATTENDEE:Mehanika (MAG-1)
CATEGORIES:Reservation
COLOR:royalblue
DESCRIPTION:Predmeti: Mehanika konstrukcijskih elementov (MKEM)\nLetniki: 
 Mehanika (MAG-1)\nIzvajalci: Miroslav Halilovič\nProstori: Računalniška
  predavalnica LNMS II/1
LOCATION:Računalniška predavalnica LNMS II/1
ORGANIZER:Miroslav Halilovič
X-WR-TIMEZONE:Europe/Ljubljana
END:VEVENT
BEGIN:VEVENT
SUMMARY:Izpit: Mehanika konstrukcijskih elementov
DTSTART;TZID=Europe/Ljubljana:20260817T080000
DTEND;TZID=Europe/Ljubljana:20260817T100000
DTSTAMP:20260420T210030Z
UID:fs-AFLABS-URNIK:rezervacija:11791
ATTENDEE:Mehanika (MAG-1)
CATEGORIES:Reservation
COLOR:royalblue
DESCRIPTION:Predmeti: Mehanika konstrukcijskih elementov (MKEM)\nLetniki: 
 Mehanika (MAG-1)\nIzvajalci: Miroslav Halilovič\nProstori: Računalniška
  predavalnica LNMS II/1
LOCATION:Računalniška predavalnica LNMS II/1
ORGANIZER:Miroslav Halilovič
X-WR-TIMEZONE:Europe/Ljubljana
END:VEVENT
BEGIN:VEVENT
SUMMARY:Izpit: Statika in trdnost
DTSTART;TZID=Europe/Ljubljana:20260817T080000
DTEND;TZID=Europe/Ljubljana:20260817T110000
DTSTAMP:20260420T210030Z
UID:fs-AFLABS-URNIK:rezervacija:11796
ATTENDEE:PAP-1 (PAP-1)
CATEGORIES:Reservation
COLOR:royalblue
DESCRIPTION:Predmeti: Statika in trdnost (STTP)\nLetniki: PAP-1 (PAP-1)\nI
 zvajalci: Miroslav Halilovič\nProstori: Predavalnica II/3A\, Predavalnica
  II/3B\, Predavalnica III/3A\, Predavalnica III/3B\, Predavalnica IV/3A\, 
 Predavalnica IV/3B
LOCATION:Predavalnica II/3A\, Predavalnica II/3B\, Predavalnica III/3A\, P
 redavalnica III/3B\, Predavalnica IV/3A\, Predavalnica IV/3B
ORGANIZER:Miroslav Halilovič
X-WR-TIMEZONE:Europe/Ljubljana
END:VEVENT
BEGIN:VEVENT
SUMMARY:Izpit: Statika in trdnost
DTSTART;TZID=Europe/Ljubljana:20260817T080000
DTEND;TZID=Europe/Ljubljana:20260817T110000
DTSTAMP:20260420T210030Z
UID:fs-AFLABS-URNIK:rezervacija:11797
ATTENDEE:PAP-1 (PAP-1)
CATEGORIES:Reservation
COLOR:royalblue
DESCRIPTION:Predmeti: Statika in trdnost (STTP)\nLetniki: PAP-1 (PAP-1)\nI
 zvajalci: Miroslav Halilovič\nProstori: Predavalnica II/3A\, Predavalnica
  II/3B\, Predavalnica III/3A\, Predavalnica III/3B\, Predavalnica IV/3A\, 
 Predavalnica IV/3B
LOCATION:Predavalnica II/3A\, Predavalnica II/3B\, Predavalnica III/3A\, P
 redavalnica III/3B\, Predavalnica IV/3A\, Predavalnica IV/3B
ORGANIZER:Miroslav Halilovič
X-WR-TIMEZONE:Europe/Ljubljana
END:VEVENT
BEGIN:VEVENT
SUMMARY:Izpit: Numerično modeliranje tehnoloških procesov
DTSTART;TZID=Europe/Ljubljana:20260813T080000
DTEND;TZID=Europe/Ljubljana:20260813T110000
DTSTAMP:20260420T210030Z
UID:fs-AFLABS-URNIK:rezervacija:12856
ATTENDEE:Mehanika (MAG-2)
CATEGORIES:Reservation
COLOR:royalblue
DESCRIPTION:Predmeti: Numerično modeliranje tehnoloških procesov (NMTM)\
 nLetniki: Mehanika (MAG-2)\nIzvajalci: Miroslav Halilovič\nProstori: Pred
 avalnica III/3A
LOCATION:Predavalnica III/3A
ORGANIZER:Miroslav Halilovič
X-WR-TIMEZONE:Europe/Ljubljana
END:VEVENT
END:VCALENDAR
