BEGIN:VCALENDAR
VERSION:2.0
PRODID:-//AFLabs urnik izvoz - fs//aflabs.si//SI
NAME:UL FS Urnik
X-WR-CALNAME:UL FS Urnik
DTSTAMP:20260422T114955Z
REFRESH-INTERVAL:PT1H
SOURCE:https://urnik.fs.uni-lj.si/teacher/694/?day=2024-09-09&export=1
URL:https://urnik.fs.uni-lj.si/teacher/694/?day=2024-09-09&export=1
X-PUBLISHED-TTL:PT1H
X-WR-TIMEZONE:Europe/Ljubljana
BEGIN:VTIMEZONE
TZID:Europe/Ljubljana
BEGIN:DAYLIGHT
DTSTART:20260329T020000
RDATE:20260329T020000
RDATE:20270328T020000
TZNAME:CEST
TZOFFSETFROM:+0100
TZOFFSETTO:+0200
END:DAYLIGHT
BEGIN:STANDARD
DTSTART:20261025T030000
RDATE:20261025T030000
RDATE:20271031T030000
TZNAME:CET
TZOFFSETFROM:+0200
TZOFFSETTO:+0100
END:STANDARD
END:VTIMEZONE
BEGIN:VEVENT
SUMMARY:Varnost strojev in naprav (VSNP)\, Predavalniške vaje (VP)
DTSTART;TZID=Europe/Ljubljana:20241001T113000
DTEND;TZID=Europe/Ljubljana:20241001T133000
DTSTAMP:20260422T114955Z
UID:fs-AFLABS-URNIK:srecanje:10254-2024-10-01 11:30:00+02:00
DESCRIPTION:Predmet: Varnost strojev in naprav (VSNP)\, Predavalniške vaj
 e (VP)\nLetniki: Konstruiranje industrijskih sistemov (PAP-3)\nIzvajalci: 
 Jurij Hladnik\nProstor: Predavalnica IV/4
END:VEVENT
BEGIN:VEVENT
SUMMARY:Dimenzioniranje in predpisi (DMPP)\, Predavalniške vaje (VP)
DTSTART;TZID=Europe/Ljubljana:20241002T113000
DTEND;TZID=Europe/Ljubljana:20241002T133000
DTSTAMP:20260422T114955Z
UID:fs-AFLABS-URNIK:srecanje:6433-2024-10-02 11:30:00+02:00
DESCRIPTION:Predmet: Dimenzioniranje in predpisi (DMPP)\, Predavalniške v
 aje (VP)\nLetniki: Konstruiranje strojev in naprav (PAP-3)\nIzvajalci: Jur
 ij Hladnik\, Ivan Okorn\nProstor: Predavalnica IV/3B
END:VEVENT
BEGIN:VEVENT
SUMMARY:Dimenzioniranje in predpisi (DMPP)\, Predavalniške vaje (VP)
DTSTART;TZID=Europe/Ljubljana:20241009T113000
DTEND;TZID=Europe/Ljubljana:20241009T133000
DTSTAMP:20260422T114955Z
UID:fs-AFLABS-URNIK:srecanje:6433-2024-10-09 11:30:00+02:00
DESCRIPTION:Predmet: Dimenzioniranje in predpisi (DMPP)\, Predavalniške v
 aje (VP)\nLetniki: Konstruiranje strojev in naprav (PAP-3)\nIzvajalci: Jur
 ij Hladnik\, Ivan Okorn\nProstor: Predavalnica IV/3B
END:VEVENT
BEGIN:VEVENT
SUMMARY:Lahke konstrukcije (LKNM)\, Predavalniške vaje (VP)
DTSTART;TZID=Europe/Ljubljana:20241003T160000
DTEND;TZID=Europe/Ljubljana:20241003T180000
DTSTAMP:20260422T114955Z
UID:fs-AFLABS-URNIK:srecanje:6786-2024-10-03 16:00:00+02:00
DESCRIPTION:Predmet: Lahke konstrukcije (LKNM)\, Predavalniške vaje (VP)\
 nLetniki: Konstruiranje (MAG-2)\nIzvajalci: Jurij Hladnik\nProstor: Predav
 alnica II/2
END:VEVENT
BEGIN:VEVENT
SUMMARY:Lahke konstrukcije (LKNM)\, Predavalniške vaje (VP)
DTSTART;TZID=Europe/Ljubljana:20241010T160000
DTEND;TZID=Europe/Ljubljana:20241010T180000
DTSTAMP:20260422T114955Z
UID:fs-AFLABS-URNIK:srecanje:6786-2024-10-10 16:00:00+02:00
DESCRIPTION:Predmet: Lahke konstrukcije (LKNM)\, Predavalniške vaje (VP)\
 nLetniki: Konstruiranje (MAG-2)\nIzvajalci: Jurij Hladnik\nProstor: Predav
 alnica II/2
END:VEVENT
BEGIN:VEVENT
SUMMARY:Varnost strojev in naprav (VSNP)\, Laboratorijske vaje (VL)\, [S1]
DTSTART;TZID=Europe/Ljubljana:20241009T073000
DTEND;TZID=Europe/Ljubljana:20241009T093000
DTSTAMP:20260422T114955Z
UID:fs-AFLABS-URNIK:srecanje:7672-2024-10-09 07:30:00+02:00
DESCRIPTION:Predmet: Varnost strojev in naprav (VSNP)\, Laboratorijske vaj
 e (VL)\, [S1]\nLetniki: Konstruiranje industrijskih sistemov (PAP-3)\nIzva
 jalci: Jurij Hladnik\nProstor: Računalniška predavalnica LECAD / LASOK I
 II/1
END:VEVENT
BEGIN:VEVENT
SUMMARY:Varnost strojev in naprav (VSNP)\, Laboratorijske vaje (VL)\, [S2]
DTSTART;TZID=Europe/Ljubljana:20241010T113000
DTEND;TZID=Europe/Ljubljana:20241010T133000
DTSTAMP:20260422T114955Z
UID:fs-AFLABS-URNIK:srecanje:7673-2024-10-10 11:30:00+02:00
DESCRIPTION:Predmet: Varnost strojev in naprav (VSNP)\, Laboratorijske vaj
 e (VL)\, [S2]\nLetniki: Konstruiranje industrijskih sistemov (PAP-3)\nIzva
 jalci: Jurij Hladnik\nProstor: Računalniška predavalnica LECAD / LASOK I
 II/1
END:VEVENT
BEGIN:VEVENT
SUMMARY:Predstavitev LASOK
DTSTART;TZID=Europe/Ljubljana:20241001T140000
DTEND;TZID=Europe/Ljubljana:20241001T160000
DTSTAMP:20260422T114955Z
UID:fs-AFLABS-URNIK:rezervacija:7839
CATEGORIES:Reservation
COLOR:royalblue
DESCRIPTION:Predmeti: \nLetniki: \nIzvajalci: Jurij Hladnik\nProstori: Ra
 čunalniška predavalnica LECAD / LASOK III/1
LOCATION:Računalniška predavalnica LECAD / LASOK III/1
ORGANIZER:Jurij Hladnik
X-WR-TIMEZONE:Europe/Ljubljana
END:VEVENT
BEGIN:VEVENT
SUMMARY:Predstavitev LASOK
DTSTART;TZID=Europe/Ljubljana:20241001T100000
DTEND;TZID=Europe/Ljubljana:20241001T140000
DTSTAMP:20260422T114955Z
UID:fs-AFLABS-URNIK:rezervacija:7849
CATEGORIES:Reservation
COLOR:royalblue
DESCRIPTION:Predmeti: \nLetniki: \nIzvajalci: Jurij Hladnik\nProstori: Ra
 čunalniška predavalnica LECAD / LASOK III/1
LOCATION:Računalniška predavalnica LECAD / LASOK III/1
ORGANIZER:Jurij Hladnik
X-WR-TIMEZONE:Europe/Ljubljana
END:VEVENT
END:VCALENDAR
