BEGIN:VCALENDAR
VERSION:2.0
PRODID:-//AFLabs urnik izvoz - fs//aflabs.si//SI
NAME:UL FS Urnik
X-WR-CALNAME:UL FS Urnik
DTSTAMP:20260422T154505Z
REFRESH-INTERVAL:PT1H
SOURCE:https://urnik.fs.uni-lj.si/teacher/695/?day=2024-05-20&export=1
URL:https://urnik.fs.uni-lj.si/teacher/695/?day=2024-05-20&export=1
X-PUBLISHED-TTL:PT1H
X-WR-TIMEZONE:Europe/Ljubljana
BEGIN:VTIMEZONE
TZID:Europe/Ljubljana
BEGIN:DAYLIGHT
DTSTART:20260329T020000
RDATE:20260329T020000
RDATE:20270328T020000
TZNAME:CEST
TZOFFSETFROM:+0100
TZOFFSETTO:+0200
END:DAYLIGHT
BEGIN:STANDARD
DTSTART:20261025T030000
RDATE:20261025T030000
RDATE:20271031T030000
TZNAME:CET
TZOFFSETFROM:+0200
TZOFFSETTO:+0100
END:STANDARD
END:VTIMEZONE
BEGIN:VEVENT
SUMMARY:Turbinski stroji (TRSM)\, Predavanja (P)
DTSTART;TZID=Europe/Ljubljana:20240220T120000
DTEND;TZID=Europe/Ljubljana:20240220T140000
DTSTAMP:20260422T154505Z
UID:fs-AFLABS-URNIK:srecanje:3929-2024-02-20 12:00:00+01:00
DESCRIPTION:Predmet: Turbinski stroji (TRSM)\, Predavanja (P)\nLetniki: En
 ergetsko strojništvo (MAG-1)\nIzvajalci: Marko Hočevar\, Lovrenc Novak\n
 Prostor: Predavalnica III/4
END:VEVENT
BEGIN:VEVENT
SUMMARY:Turbinski stroji (TRSM)\, Predavanja (P)
DTSTART;TZID=Europe/Ljubljana:20240227T120000
DTEND;TZID=Europe/Ljubljana:20240227T140000
DTSTAMP:20260422T154505Z
UID:fs-AFLABS-URNIK:srecanje:3929-2024-02-27 12:00:00+01:00
DESCRIPTION:Predmet: Turbinski stroji (TRSM)\, Predavanja (P)\nLetniki: En
 ergetsko strojništvo (MAG-1)\nIzvajalci: Marko Hočevar\, Lovrenc Novak\n
 Prostor: Predavalnica III/4
END:VEVENT
BEGIN:VEVENT
SUMMARY:Turbinski stroji (TRSM)\, Predavanja (P)
DTSTART;TZID=Europe/Ljubljana:20240305T120000
DTEND;TZID=Europe/Ljubljana:20240305T140000
DTSTAMP:20260422T154505Z
UID:fs-AFLABS-URNIK:srecanje:3929-2024-03-05 12:00:00+01:00
DESCRIPTION:Predmet: Turbinski stroji (TRSM)\, Predavanja (P)\nLetniki: En
 ergetsko strojništvo (MAG-1)\nIzvajalci: Marko Hočevar\, Lovrenc Novak\n
 Prostor: Predavalnica III/4
END:VEVENT
BEGIN:VEVENT
SUMMARY:Turbinski stroji (TRSM)\, Predavanja (P)
DTSTART;TZID=Europe/Ljubljana:20240312T120000
DTEND;TZID=Europe/Ljubljana:20240312T140000
DTSTAMP:20260422T154505Z
UID:fs-AFLABS-URNIK:srecanje:3929-2024-03-12 12:00:00+01:00
DESCRIPTION:Predmet: Turbinski stroji (TRSM)\, Predavanja (P)\nLetniki: En
 ergetsko strojništvo (MAG-1)\nIzvajalci: Marko Hočevar\, Lovrenc Novak\n
 Prostor: Predavalnica III/4
END:VEVENT
BEGIN:VEVENT
SUMMARY:Turbinski stroji (TRSM)\, Predavanja (P)
DTSTART;TZID=Europe/Ljubljana:20240319T120000
DTEND;TZID=Europe/Ljubljana:20240319T140000
DTSTAMP:20260422T154505Z
UID:fs-AFLABS-URNIK:srecanje:3929-2024-03-19 12:00:00+01:00
DESCRIPTION:Predmet: Turbinski stroji (TRSM)\, Predavanja (P)\nLetniki: En
 ergetsko strojništvo (MAG-1)\nIzvajalci: Marko Hočevar\, Lovrenc Novak\n
 Prostor: Predavalnica III/4
END:VEVENT
BEGIN:VEVENT
SUMMARY:Turbinski stroji (TRSM)\, Predavanja (P)
DTSTART;TZID=Europe/Ljubljana:20240326T120000
DTEND;TZID=Europe/Ljubljana:20240326T140000
DTSTAMP:20260422T154505Z
UID:fs-AFLABS-URNIK:srecanje:3929-2024-03-26 12:00:00+01:00
DESCRIPTION:Predmet: Turbinski stroji (TRSM)\, Predavanja (P)\nLetniki: En
 ergetsko strojništvo (MAG-1)\nIzvajalci: Marko Hočevar\, Lovrenc Novak\n
 Prostor: Predavalnica III/4
END:VEVENT
BEGIN:VEVENT
SUMMARY:Turbinski stroji (TRSM)\, Predavanja (P)
DTSTART;TZID=Europe/Ljubljana:20240402T120000
DTEND;TZID=Europe/Ljubljana:20240402T140000
DTSTAMP:20260422T154505Z
UID:fs-AFLABS-URNIK:srecanje:3929-2024-04-02 12:00:00+02:00
DESCRIPTION:Predmet: Turbinski stroji (TRSM)\, Predavanja (P)\nLetniki: En
 ergetsko strojništvo (MAG-1)\nIzvajalci: Marko Hočevar\, Lovrenc Novak\n
 Prostor: Predavalnica III/4
END:VEVENT
BEGIN:VEVENT
SUMMARY:Turbinski stroji (TRSM)\, Predavanja (P)
DTSTART;TZID=Europe/Ljubljana:20240409T120000
DTEND;TZID=Europe/Ljubljana:20240409T140000
DTSTAMP:20260422T154505Z
UID:fs-AFLABS-URNIK:srecanje:3929-2024-04-09 12:00:00+02:00
DESCRIPTION:Predmet: Turbinski stroji (TRSM)\, Predavanja (P)\nLetniki: En
 ergetsko strojništvo (MAG-1)\nIzvajalci: Marko Hočevar\, Lovrenc Novak\n
 Prostor: Predavalnica III/4
END:VEVENT
BEGIN:VEVENT
SUMMARY:Turbinski stroji (TRSM)\, Predavanja (P)
DTSTART;TZID=Europe/Ljubljana:20240416T120000
DTEND;TZID=Europe/Ljubljana:20240416T140000
DTSTAMP:20260422T154505Z
UID:fs-AFLABS-URNIK:srecanje:3929-2024-04-16 12:00:00+02:00
DESCRIPTION:Predmet: Turbinski stroji (TRSM)\, Predavanja (P)\nLetniki: En
 ergetsko strojništvo (MAG-1)\nIzvajalci: Marko Hočevar\, Lovrenc Novak\n
 Prostor: Predavalnica III/4
END:VEVENT
BEGIN:VEVENT
SUMMARY:Turbinski stroji (TRSM)\, Predavanja (P)
DTSTART;TZID=Europe/Ljubljana:20240423T120000
DTEND;TZID=Europe/Ljubljana:20240423T140000
DTSTAMP:20260422T154505Z
UID:fs-AFLABS-URNIK:srecanje:3929-2024-04-23 12:00:00+02:00
DESCRIPTION:Predmet: Turbinski stroji (TRSM)\, Predavanja (P)\nLetniki: En
 ergetsko strojništvo (MAG-1)\nIzvajalci: Marko Hočevar\, Lovrenc Novak\n
 Prostor: Predavalnica III/4
END:VEVENT
BEGIN:VEVENT
SUMMARY:Turbinski stroji (TRSM)\, Predavanja (P)
DTSTART;TZID=Europe/Ljubljana:20240430T120000
DTEND;TZID=Europe/Ljubljana:20240430T140000
DTSTAMP:20260422T154505Z
UID:fs-AFLABS-URNIK:srecanje:3929-2024-04-30 12:00:00+02:00
DESCRIPTION:Predmet: Turbinski stroji (TRSM)\, Predavanja (P)\nLetniki: En
 ergetsko strojništvo (MAG-1)\nIzvajalci: Marko Hočevar\, Lovrenc Novak\n
 Prostor: Predavalnica III/4
END:VEVENT
BEGIN:VEVENT
SUMMARY:Turbinski stroji (TRSM)\, Predavanja (P)
DTSTART;TZID=Europe/Ljubljana:20240507T120000
DTEND;TZID=Europe/Ljubljana:20240507T140000
DTSTAMP:20260422T154505Z
UID:fs-AFLABS-URNIK:srecanje:3929-2024-05-07 12:00:00+02:00
DESCRIPTION:Predmet: Turbinski stroji (TRSM)\, Predavanja (P)\nLetniki: En
 ergetsko strojništvo (MAG-1)\nIzvajalci: Marko Hočevar\, Lovrenc Novak\n
 Prostor: Predavalnica III/4
END:VEVENT
BEGIN:VEVENT
SUMMARY:Turbinski stroji (TRSM)\, Predavanja (P)
DTSTART;TZID=Europe/Ljubljana:20240514T120000
DTEND;TZID=Europe/Ljubljana:20240514T140000
DTSTAMP:20260422T154505Z
UID:fs-AFLABS-URNIK:srecanje:3929-2024-05-14 12:00:00+02:00
DESCRIPTION:Predmet: Turbinski stroji (TRSM)\, Predavanja (P)\nLetniki: En
 ergetsko strojništvo (MAG-1)\nIzvajalci: Marko Hočevar\, Lovrenc Novak\n
 Prostor: Predavalnica III/4
END:VEVENT
BEGIN:VEVENT
SUMMARY:Turbinski stroji (TRSM)\, Predavanja (P)
DTSTART;TZID=Europe/Ljubljana:20240521T120000
DTEND;TZID=Europe/Ljubljana:20240521T140000
DTSTAMP:20260422T154505Z
UID:fs-AFLABS-URNIK:srecanje:3929-2024-05-21 12:00:00+02:00
DESCRIPTION:Predmet: Turbinski stroji (TRSM)\, Predavanja (P)\nLetniki: En
 ergetsko strojništvo (MAG-1)\nIzvajalci: Marko Hočevar\, Lovrenc Novak\n
 Prostor: Predavalnica III/4
END:VEVENT
BEGIN:VEVENT
SUMMARY:Turbinski stroji (TRSM)\, Predavanja (P)
DTSTART;TZID=Europe/Ljubljana:20240528T120000
DTEND;TZID=Europe/Ljubljana:20240528T140000
DTSTAMP:20260422T154505Z
UID:fs-AFLABS-URNIK:srecanje:3929-2024-05-28 12:00:00+02:00
DESCRIPTION:Predmet: Turbinski stroji (TRSM)\, Predavanja (P)\nLetniki: En
 ergetsko strojništvo (MAG-1)\nIzvajalci: Marko Hočevar\, Lovrenc Novak\n
 Prostor: Predavalnica III/4
END:VEVENT
BEGIN:VEVENT
SUMMARY:Turbomachinery (TRME)\, Predavanja (P)
DTSTART;TZID=Europe/Ljubljana:20240221T120000
DTEND;TZID=Europe/Ljubljana:20240221T140000
DTSTAMP:20260422T154505Z
UID:fs-AFLABS-URNIK:srecanje:3875-2024-02-21 12:00:00+01:00
DESCRIPTION:Predmet: Turbomachinery (TRME)\, Predavanja (P)\nLetniki: Eras
 mus (Erasmus)\nIzvajalci: Marko Hočevar\, Lovrenc Novak\nProstor: Predava
 lnica II/3A
END:VEVENT
BEGIN:VEVENT
SUMMARY:Turbomachinery (TRME)\, Predavanja (P)
DTSTART;TZID=Europe/Ljubljana:20240228T120000
DTEND;TZID=Europe/Ljubljana:20240228T140000
DTSTAMP:20260422T154505Z
UID:fs-AFLABS-URNIK:srecanje:3875-2024-02-28 12:00:00+01:00
DESCRIPTION:Predmet: Turbomachinery (TRME)\, Predavanja (P)\nLetniki: Eras
 mus (Erasmus)\nIzvajalci: Marko Hočevar\, Lovrenc Novak\nProstor: Predava
 lnica II/3A
END:VEVENT
BEGIN:VEVENT
SUMMARY:Turbomachinery (TRME)\, Predavanja (P)
DTSTART;TZID=Europe/Ljubljana:20240306T120000
DTEND;TZID=Europe/Ljubljana:20240306T140000
DTSTAMP:20260422T154505Z
UID:fs-AFLABS-URNIK:srecanje:3875-2024-03-06 12:00:00+01:00
DESCRIPTION:Predmet: Turbomachinery (TRME)\, Predavanja (P)\nLetniki: Eras
 mus (Erasmus)\nIzvajalci: Marko Hočevar\, Lovrenc Novak\nProstor: Predava
 lnica II/3A
END:VEVENT
BEGIN:VEVENT
SUMMARY:Turbomachinery (TRME)\, Predavanja (P)
DTSTART;TZID=Europe/Ljubljana:20240313T120000
DTEND;TZID=Europe/Ljubljana:20240313T140000
DTSTAMP:20260422T154505Z
UID:fs-AFLABS-URNIK:srecanje:3875-2024-03-13 12:00:00+01:00
DESCRIPTION:Predmet: Turbomachinery (TRME)\, Predavanja (P)\nLetniki: Eras
 mus (Erasmus)\nIzvajalci: Marko Hočevar\, Lovrenc Novak\nProstor: Predava
 lnica II/3A
END:VEVENT
BEGIN:VEVENT
SUMMARY:Turbomachinery (TRME)\, Predavanja (P)
DTSTART;TZID=Europe/Ljubljana:20240320T120000
DTEND;TZID=Europe/Ljubljana:20240320T140000
DTSTAMP:20260422T154505Z
UID:fs-AFLABS-URNIK:srecanje:3875-2024-03-20 12:00:00+01:00
DESCRIPTION:Predmet: Turbomachinery (TRME)\, Predavanja (P)\nLetniki: Eras
 mus (Erasmus)\nIzvajalci: Marko Hočevar\, Lovrenc Novak\nProstor: Predava
 lnica II/3A
END:VEVENT
BEGIN:VEVENT
SUMMARY:Turbomachinery (TRME)\, Predavanja (P)
DTSTART;TZID=Europe/Ljubljana:20240327T120000
DTEND;TZID=Europe/Ljubljana:20240327T140000
DTSTAMP:20260422T154505Z
UID:fs-AFLABS-URNIK:srecanje:3875-2024-03-27 12:00:00+01:00
DESCRIPTION:Predmet: Turbomachinery (TRME)\, Predavanja (P)\nLetniki: Eras
 mus (Erasmus)\nIzvajalci: Marko Hočevar\, Lovrenc Novak\nProstor: Predava
 lnica II/3A
END:VEVENT
BEGIN:VEVENT
SUMMARY:Turbomachinery (TRME)\, Predavanja (P)
DTSTART;TZID=Europe/Ljubljana:20240403T120000
DTEND;TZID=Europe/Ljubljana:20240403T140000
DTSTAMP:20260422T154505Z
UID:fs-AFLABS-URNIK:srecanje:3875-2024-04-03 12:00:00+02:00
DESCRIPTION:Predmet: Turbomachinery (TRME)\, Predavanja (P)\nLetniki: Eras
 mus (Erasmus)\nIzvajalci: Marko Hočevar\, Lovrenc Novak\nProstor: Predava
 lnica II/3A
END:VEVENT
BEGIN:VEVENT
SUMMARY:Turbomachinery (TRME)\, Predavanja (P)
DTSTART;TZID=Europe/Ljubljana:20240410T120000
DTEND;TZID=Europe/Ljubljana:20240410T140000
DTSTAMP:20260422T154505Z
UID:fs-AFLABS-URNIK:srecanje:3875-2024-04-10 12:00:00+02:00
DESCRIPTION:Predmet: Turbomachinery (TRME)\, Predavanja (P)\nLetniki: Eras
 mus (Erasmus)\nIzvajalci: Marko Hočevar\, Lovrenc Novak\nProstor: Predava
 lnica II/3A
END:VEVENT
BEGIN:VEVENT
SUMMARY:Turbomachinery (TRME)\, Predavanja (P)
DTSTART;TZID=Europe/Ljubljana:20240417T120000
DTEND;TZID=Europe/Ljubljana:20240417T140000
DTSTAMP:20260422T154505Z
UID:fs-AFLABS-URNIK:srecanje:3875-2024-04-17 12:00:00+02:00
DESCRIPTION:Predmet: Turbomachinery (TRME)\, Predavanja (P)\nLetniki: Eras
 mus (Erasmus)\nIzvajalci: Marko Hočevar\, Lovrenc Novak\nProstor: Predava
 lnica II/3A
END:VEVENT
BEGIN:VEVENT
SUMMARY:Turbomachinery (TRME)\, Predavanja (P)
DTSTART;TZID=Europe/Ljubljana:20240424T120000
DTEND;TZID=Europe/Ljubljana:20240424T140000
DTSTAMP:20260422T154505Z
UID:fs-AFLABS-URNIK:srecanje:3875-2024-04-24 12:00:00+02:00
DESCRIPTION:Predmet: Turbomachinery (TRME)\, Predavanja (P)\nLetniki: Eras
 mus (Erasmus)\nIzvajalci: Marko Hočevar\, Lovrenc Novak\nProstor: Predava
 lnica II/3A
END:VEVENT
BEGIN:VEVENT
SUMMARY:Turbomachinery (TRME)\, Predavanja (P)
DTSTART;TZID=Europe/Ljubljana:20240501T120000
DTEND;TZID=Europe/Ljubljana:20240501T140000
DTSTAMP:20260422T154505Z
UID:fs-AFLABS-URNIK:srecanje:3875-2024-05-01 12:00:00+02:00
DESCRIPTION:Predmet: Turbomachinery (TRME)\, Predavanja (P)\nLetniki: Eras
 mus (Erasmus)\nIzvajalci: Marko Hočevar\, Lovrenc Novak\nProstor: Predava
 lnica II/3A
END:VEVENT
BEGIN:VEVENT
SUMMARY:Turbomachinery (TRME)\, Predavanja (P)
DTSTART;TZID=Europe/Ljubljana:20240508T120000
DTEND;TZID=Europe/Ljubljana:20240508T140000
DTSTAMP:20260422T154505Z
UID:fs-AFLABS-URNIK:srecanje:3875-2024-05-08 12:00:00+02:00
DESCRIPTION:Predmet: Turbomachinery (TRME)\, Predavanja (P)\nLetniki: Eras
 mus (Erasmus)\nIzvajalci: Marko Hočevar\, Lovrenc Novak\nProstor: Predava
 lnica II/3A
END:VEVENT
BEGIN:VEVENT
SUMMARY:Turbomachinery (TRME)\, Predavanja (P)
DTSTART;TZID=Europe/Ljubljana:20240515T120000
DTEND;TZID=Europe/Ljubljana:20240515T140000
DTSTAMP:20260422T154505Z
UID:fs-AFLABS-URNIK:srecanje:3875-2024-05-15 12:00:00+02:00
DESCRIPTION:Predmet: Turbomachinery (TRME)\, Predavanja (P)\nLetniki: Eras
 mus (Erasmus)\nIzvajalci: Marko Hočevar\, Lovrenc Novak\nProstor: Predava
 lnica II/3A
END:VEVENT
BEGIN:VEVENT
SUMMARY:Turbomachinery (TRME)\, Predavanja (P)
DTSTART;TZID=Europe/Ljubljana:20240522T120000
DTEND;TZID=Europe/Ljubljana:20240522T140000
DTSTAMP:20260422T154505Z
UID:fs-AFLABS-URNIK:srecanje:3875-2024-05-22 12:00:00+02:00
DESCRIPTION:Predmet: Turbomachinery (TRME)\, Predavanja (P)\nLetniki: Eras
 mus (Erasmus)\nIzvajalci: Marko Hočevar\, Lovrenc Novak\nProstor: Predava
 lnica II/3A
END:VEVENT
BEGIN:VEVENT
SUMMARY:Turbomachinery (TRME)\, Predavanja (P)
DTSTART;TZID=Europe/Ljubljana:20240529T120000
DTEND;TZID=Europe/Ljubljana:20240529T140000
DTSTAMP:20260422T154505Z
UID:fs-AFLABS-URNIK:srecanje:3875-2024-05-29 12:00:00+02:00
DESCRIPTION:Predmet: Turbomachinery (TRME)\, Predavanja (P)\nLetniki: Eras
 mus (Erasmus)\nIzvajalci: Marko Hočevar\, Lovrenc Novak\nProstor: Predava
 lnica II/3A
END:VEVENT
BEGIN:VEVENT
SUMMARY:Eksperimentalne metode v energetskem strojništvu (EMEP)\, Predava
 nja (P)
DTSTART;TZID=Europe/Ljubljana:20240222T113000
DTEND;TZID=Europe/Ljubljana:20240222T133000
DTSTAMP:20260422T154505Z
UID:fs-AFLABS-URNIK:srecanje:3640-2024-02-22 11:30:00+01:00
DESCRIPTION:Predmet: Eksperimentalne metode v energetskem strojništvu (EM
 EP)\, Predavanja (P)\nLetniki: Energetsko strojništvo (PAP-2)\nIzvajalci:
  Marko Hočevar\, Jože Kutin\nProstor: Predavalnica III/3A
END:VEVENT
BEGIN:VEVENT
SUMMARY:Eksperimentalne metode v energetskem strojništvu (EMEP)\, Predava
 nja (P)
DTSTART;TZID=Europe/Ljubljana:20240229T113000
DTEND;TZID=Europe/Ljubljana:20240229T133000
DTSTAMP:20260422T154505Z
UID:fs-AFLABS-URNIK:srecanje:3640-2024-02-29 11:30:00+01:00
DESCRIPTION:Predmet: Eksperimentalne metode v energetskem strojništvu (EM
 EP)\, Predavanja (P)\nLetniki: Energetsko strojništvo (PAP-2)\nIzvajalci:
  Marko Hočevar\, Jože Kutin\nProstor: Predavalnica III/3A
END:VEVENT
BEGIN:VEVENT
SUMMARY:Eksperimentalne metode v energetskem strojništvu (EMEP)\, Predava
 nja (P)
DTSTART;TZID=Europe/Ljubljana:20240307T113000
DTEND;TZID=Europe/Ljubljana:20240307T133000
DTSTAMP:20260422T154505Z
UID:fs-AFLABS-URNIK:srecanje:3640-2024-03-07 11:30:00+01:00
DESCRIPTION:Predmet: Eksperimentalne metode v energetskem strojništvu (EM
 EP)\, Predavanja (P)\nLetniki: Energetsko strojništvo (PAP-2)\nIzvajalci:
  Marko Hočevar\, Jože Kutin\nProstor: Predavalnica III/3A
END:VEVENT
BEGIN:VEVENT
SUMMARY:Eksperimentalne metode v energetskem strojništvu (EMEP)\, Predava
 nja (P)
DTSTART;TZID=Europe/Ljubljana:20240314T113000
DTEND;TZID=Europe/Ljubljana:20240314T133000
DTSTAMP:20260422T154505Z
UID:fs-AFLABS-URNIK:srecanje:3640-2024-03-14 11:30:00+01:00
DESCRIPTION:Predmet: Eksperimentalne metode v energetskem strojništvu (EM
 EP)\, Predavanja (P)\nLetniki: Energetsko strojništvo (PAP-2)\nIzvajalci:
  Marko Hočevar\, Jože Kutin\nProstor: Predavalnica III/3A
END:VEVENT
BEGIN:VEVENT
SUMMARY:Eksperimentalne metode v energetskem strojništvu (EMEP)\, Predava
 nja (P)
DTSTART;TZID=Europe/Ljubljana:20240321T113000
DTEND;TZID=Europe/Ljubljana:20240321T133000
DTSTAMP:20260422T154505Z
UID:fs-AFLABS-URNIK:srecanje:3640-2024-03-21 11:30:00+01:00
DESCRIPTION:Predmet: Eksperimentalne metode v energetskem strojništvu (EM
 EP)\, Predavanja (P)\nLetniki: Energetsko strojništvo (PAP-2)\nIzvajalci:
  Marko Hočevar\, Jože Kutin\nProstor: Predavalnica III/3A
END:VEVENT
BEGIN:VEVENT
SUMMARY:Eksperimentalne metode v energetskem strojništvu (EMEP)\, Predava
 nja (P)
DTSTART;TZID=Europe/Ljubljana:20240328T113000
DTEND;TZID=Europe/Ljubljana:20240328T133000
DTSTAMP:20260422T154505Z
UID:fs-AFLABS-URNIK:srecanje:3640-2024-03-28 11:30:00+01:00
DESCRIPTION:Predmet: Eksperimentalne metode v energetskem strojništvu (EM
 EP)\, Predavanja (P)\nLetniki: Energetsko strojništvo (PAP-2)\nIzvajalci:
  Marko Hočevar\, Jože Kutin\nProstor: Predavalnica III/3A
END:VEVENT
BEGIN:VEVENT
SUMMARY:Eksperimentalne metode v energetskem strojništvu (EMEP)\, Predava
 nja (P)
DTSTART;TZID=Europe/Ljubljana:20240404T113000
DTEND;TZID=Europe/Ljubljana:20240404T133000
DTSTAMP:20260422T154505Z
UID:fs-AFLABS-URNIK:srecanje:3640-2024-04-04 11:30:00+02:00
DESCRIPTION:Predmet: Eksperimentalne metode v energetskem strojništvu (EM
 EP)\, Predavanja (P)\nLetniki: Energetsko strojništvo (PAP-2)\nIzvajalci:
  Marko Hočevar\, Jože Kutin\nProstor: Predavalnica III/3A
END:VEVENT
BEGIN:VEVENT
SUMMARY:Eksperimentalne metode v energetskem strojništvu (EMEP)\, Predava
 nja (P)
DTSTART;TZID=Europe/Ljubljana:20240411T113000
DTEND;TZID=Europe/Ljubljana:20240411T133000
DTSTAMP:20260422T154505Z
UID:fs-AFLABS-URNIK:srecanje:3640-2024-04-11 11:30:00+02:00
DESCRIPTION:Predmet: Eksperimentalne metode v energetskem strojništvu (EM
 EP)\, Predavanja (P)\nLetniki: Energetsko strojništvo (PAP-2)\nIzvajalci:
  Marko Hočevar\, Jože Kutin\nProstor: Predavalnica III/3A
END:VEVENT
BEGIN:VEVENT
SUMMARY:Eksperimentalne metode v energetskem strojništvu (EMEP)\, Predava
 nja (P)
DTSTART;TZID=Europe/Ljubljana:20240418T113000
DTEND;TZID=Europe/Ljubljana:20240418T133000
DTSTAMP:20260422T154505Z
UID:fs-AFLABS-URNIK:srecanje:3640-2024-04-18 11:30:00+02:00
DESCRIPTION:Predmet: Eksperimentalne metode v energetskem strojništvu (EM
 EP)\, Predavanja (P)\nLetniki: Energetsko strojništvo (PAP-2)\nIzvajalci:
  Marko Hočevar\, Jože Kutin\nProstor: Predavalnica III/3A
END:VEVENT
BEGIN:VEVENT
SUMMARY:Eksperimentalne metode v energetskem strojništvu (EMEP)\, Predava
 nja (P)
DTSTART;TZID=Europe/Ljubljana:20240425T113000
DTEND;TZID=Europe/Ljubljana:20240425T133000
DTSTAMP:20260422T154505Z
UID:fs-AFLABS-URNIK:srecanje:3640-2024-04-25 11:30:00+02:00
DESCRIPTION:Predmet: Eksperimentalne metode v energetskem strojništvu (EM
 EP)\, Predavanja (P)\nLetniki: Energetsko strojništvo (PAP-2)\nIzvajalci:
  Marko Hočevar\, Jože Kutin\nProstor: Predavalnica III/3A
END:VEVENT
BEGIN:VEVENT
SUMMARY:Eksperimentalne metode v energetskem strojništvu (EMEP)\, Predava
 nja (P)
DTSTART;TZID=Europe/Ljubljana:20240502T113000
DTEND;TZID=Europe/Ljubljana:20240502T133000
DTSTAMP:20260422T154505Z
UID:fs-AFLABS-URNIK:srecanje:3640-2024-05-02 11:30:00+02:00
DESCRIPTION:Predmet: Eksperimentalne metode v energetskem strojništvu (EM
 EP)\, Predavanja (P)\nLetniki: Energetsko strojništvo (PAP-2)\nIzvajalci:
  Marko Hočevar\, Jože Kutin\nProstor: Predavalnica III/3A
END:VEVENT
BEGIN:VEVENT
SUMMARY:Eksperimentalne metode v energetskem strojništvu (EMEP)\, Predava
 nja (P)
DTSTART;TZID=Europe/Ljubljana:20240509T113000
DTEND;TZID=Europe/Ljubljana:20240509T133000
DTSTAMP:20260422T154505Z
UID:fs-AFLABS-URNIK:srecanje:3640-2024-05-09 11:30:00+02:00
DESCRIPTION:Predmet: Eksperimentalne metode v energetskem strojništvu (EM
 EP)\, Predavanja (P)\nLetniki: Energetsko strojništvo (PAP-2)\nIzvajalci:
  Marko Hočevar\, Jože Kutin\nProstor: Predavalnica III/3A
END:VEVENT
BEGIN:VEVENT
SUMMARY:Eksperimentalne metode v energetskem strojništvu (EMEP)\, Predava
 nja (P)
DTSTART;TZID=Europe/Ljubljana:20240516T113000
DTEND;TZID=Europe/Ljubljana:20240516T133000
DTSTAMP:20260422T154505Z
UID:fs-AFLABS-URNIK:srecanje:3640-2024-05-16 11:30:00+02:00
DESCRIPTION:Predmet: Eksperimentalne metode v energetskem strojništvu (EM
 EP)\, Predavanja (P)\nLetniki: Energetsko strojništvo (PAP-2)\nIzvajalci:
  Marko Hočevar\, Jože Kutin\nProstor: Predavalnica III/3A
END:VEVENT
BEGIN:VEVENT
SUMMARY:Eksperimentalne metode v energetskem strojništvu (EMEP)\, Predava
 nja (P)
DTSTART;TZID=Europe/Ljubljana:20240523T113000
DTEND;TZID=Europe/Ljubljana:20240523T133000
DTSTAMP:20260422T154505Z
UID:fs-AFLABS-URNIK:srecanje:3640-2024-05-23 11:30:00+02:00
DESCRIPTION:Predmet: Eksperimentalne metode v energetskem strojništvu (EM
 EP)\, Predavanja (P)\nLetniki: Energetsko strojništvo (PAP-2)\nIzvajalci:
  Marko Hočevar\, Jože Kutin\nProstor: Predavalnica III/3A
END:VEVENT
BEGIN:VEVENT
SUMMARY:Eksperimentalne metode v energetskem strojništvu (EMEP)\, Predava
 nja (P)
DTSTART;TZID=Europe/Ljubljana:20240530T113000
DTEND;TZID=Europe/Ljubljana:20240530T133000
DTSTAMP:20260422T154505Z
UID:fs-AFLABS-URNIK:srecanje:3640-2024-05-30 11:30:00+02:00
DESCRIPTION:Predmet: Eksperimentalne metode v energetskem strojništvu (EM
 EP)\, Predavanja (P)\nLetniki: Energetsko strojništvo (PAP-2)\nIzvajalci:
  Marko Hočevar\, Jože Kutin\nProstor: Predavalnica III/3A
END:VEVENT
BEGIN:VEVENT
SUMMARY:Izpit: Turbomachinery (6004-M)
DTSTART;TZID=Europe/Ljubljana:20240618T150000
DTEND;TZID=Europe/Ljubljana:20240618T170000
DTSTAMP:20260422T154505Z
UID:fs-AFLABS-URNIK:rezervacija:5165
CATEGORIES:Reservation
COLOR:royalblue
DESCRIPTION:Predmeti: \nLetniki: \nIzvajalci: Marko Hočevar\nProstori: Pr
 edavalnica IV/4
LOCATION:Predavalnica IV/4
ORGANIZER:Marko Hočevar
X-WR-TIMEZONE:Europe/Ljubljana
END:VEVENT
BEGIN:VEVENT
SUMMARY:Izpit: Experimental Modeling in Energy and Process Engineering (60
 01-M)
DTSTART;TZID=Europe/Ljubljana:20240613T090000
DTEND;TZID=Europe/Ljubljana:20240613T110000
DTSTAMP:20260422T154505Z
UID:fs-AFLABS-URNIK:rezervacija:5095
CATEGORIES:Reservation
COLOR:royalblue
DESCRIPTION:Predmeti: \nLetniki: \nIzvajalci: Marko Hočevar\nProstori: Pr
 edavalnica III/3A
LOCATION:Predavalnica III/3A
ORGANIZER:Marko Hočevar
X-WR-TIMEZONE:Europe/Ljubljana
END:VEVENT
BEGIN:VEVENT
SUMMARY:Izpit: Hidro in vetrni energetski sistemi
DTSTART;TZID=Europe/Ljubljana:20240603T100000
DTEND;TZID=Europe/Ljubljana:20240603T130000
DTSTAMP:20260422T154505Z
UID:fs-AFLABS-URNIK:rezervacija:4695
ATTENDEE:Energetsko strojništvo (PAP-3)
CATEGORIES:Reservation
COLOR:royalblue
DESCRIPTION:Predmeti: Hidro in vetrni energetski sistemi (HVEP)\nLetniki: 
 Energetsko strojništvo (PAP-3)\nIzvajalci: Marko Hočevar\nProstori: Pred
 avalnica II/2
LOCATION:Predavalnica II/2
ORGANIZER:Marko Hočevar
X-WR-TIMEZONE:Europe/Ljubljana
END:VEVENT
BEGIN:VEVENT
SUMMARY:Izpit: Hidroenergetski sistemi (3115)
DTSTART;TZID=Europe/Ljubljana:20240603T100000
DTEND;TZID=Europe/Ljubljana:20240603T130000
DTSTAMP:20260422T154505Z
UID:fs-AFLABS-URNIK:rezervacija:4696
CATEGORIES:Reservation
COLOR:royalblue
DESCRIPTION:Predmeti: \nLetniki: \nIzvajalci: Marko Hočevar\nProstori: Pr
 edavalnica II/2
LOCATION:Predavalnica II/2
ORGANIZER:Marko Hočevar
X-WR-TIMEZONE:Europe/Ljubljana
END:VEVENT
BEGIN:VEVENT
SUMMARY:sestanek SE za razpis MORS
DTSTART;TZID=Europe/Ljubljana:20240322T140000
DTEND;TZID=Europe/Ljubljana:20240322T153000
DTSTAMP:20260422T154505Z
UID:fs-AFLABS-URNIK:rezervacija:4655
CATEGORIES:Reservation
COLOR:royalblue
DESCRIPTION:Predmeti: \nLetniki: \nIzvajalci: Marko Hočevar\nProstori: Ma
 la sejna soba
LOCATION:Mala sejna soba
ORGANIZER:Marko Hočevar
X-WR-TIMEZONE:Europe/Ljubljana
END:VEVENT
BEGIN:VEVENT
SUMMARY:Izpit: Turbomachinery (6004-M)
DTSTART;TZID=Europe/Ljubljana:20240604T080000
DTEND;TZID=Europe/Ljubljana:20240604T100000
DTSTAMP:20260422T154505Z
UID:fs-AFLABS-URNIK:rezervacija:4918
CATEGORIES:Reservation
COLOR:royalblue
DESCRIPTION:Predmeti: \nLetniki: \nIzvajalci: Marko Hočevar\nProstori: Pr
 edavalnica V/2
LOCATION:Predavalnica V/2
ORGANIZER:Marko Hočevar
X-WR-TIMEZONE:Europe/Ljubljana
END:VEVENT
BEGIN:VEVENT
SUMMARY:Izpit: Diagnostika v okoljskem strojništvu (6248)
DTSTART;TZID=Europe/Ljubljana:20240621T090000
DTEND;TZID=Europe/Ljubljana:20240621T110000
DTSTAMP:20260422T154505Z
UID:fs-AFLABS-URNIK:rezervacija:5239
CATEGORIES:Reservation
COLOR:royalblue
DESCRIPTION:Predmeti: \nLetniki: \nIzvajalci: Marko Hočevar\nProstori: Pr
 edavalnica II/3A
LOCATION:Predavalnica II/3A
ORGANIZER:Marko Hočevar
X-WR-TIMEZONE:Europe/Ljubljana
END:VEVENT
BEGIN:VEVENT
SUMMARY:TRSM
DTSTART;TZID=Europe/Ljubljana:20240328T103000
DTEND;TZID=Europe/Ljubljana:20240328T120000
DTSTAMP:20260422T154505Z
UID:fs-AFLABS-URNIK:rezervacija:4681
CATEGORIES:Reservation
COLOR:royalblue
DESCRIPTION:Predmeti: \nLetniki: \nIzvajalci: Marko Hočevar\nProstori: Pr
 edavalnica II/3B
LOCATION:Predavalnica II/3B
ORGANIZER:Marko Hočevar
X-WR-TIMEZONE:Europe/Ljubljana
END:VEVENT
BEGIN:VEVENT
SUMMARY:Izpit: Turbinski stroji
DTSTART;TZID=Europe/Ljubljana:20240618T150000
DTEND;TZID=Europe/Ljubljana:20240618T170000
DTSTAMP:20260422T154505Z
UID:fs-AFLABS-URNIK:rezervacija:5164
ATTENDEE:Energetsko strojništvo (MAG-1)
CATEGORIES:Reservation
COLOR:royalblue
DESCRIPTION:Predmeti: Turbinski stroji (TRSM)\nLetniki: Energetsko strojni
 štvo (MAG-1)\nIzvajalci: Marko Hočevar\nProstori: Predavalnica IV/4
LOCATION:Predavalnica IV/4
ORGANIZER:Marko Hočevar
X-WR-TIMEZONE:Europe/Ljubljana
END:VEVENT
BEGIN:VEVENT
SUMMARY:sestanek platforme SE
DTSTART;TZID=Europe/Ljubljana:20240307T140000
DTEND;TZID=Europe/Ljubljana:20240307T150000
DTSTAMP:20260422T154505Z
UID:fs-AFLABS-URNIK:rezervacija:4549
CATEGORIES:Reservation
COLOR:royalblue
DESCRIPTION:Predmeti: \nLetniki: \nIzvajalci: Marko Hočevar\nProstori: Pr
 edavalnica III/3A
LOCATION:Predavalnica III/3A
ORGANIZER:Marko Hočevar
X-WR-TIMEZONE:Europe/Ljubljana
END:VEVENT
BEGIN:VEVENT
SUMMARY:sestanek H-Hope Reykjavik University
DTSTART;TZID=Europe/Ljubljana:20240426T083000
DTEND;TZID=Europe/Ljubljana:20240426T150000
DTSTAMP:20260422T154505Z
UID:fs-AFLABS-URNIK:rezervacija:4754
CATEGORIES:Reservation
COLOR:royalblue
DESCRIPTION:Predmeti: \nLetniki: \nIzvajalci: Marko Hočevar\nProstori: Pr
 edavalnica II/3B
LOCATION:Predavalnica II/3B
ORGANIZER:Marko Hočevar
X-WR-TIMEZONE:Europe/Ljubljana
END:VEVENT
BEGIN:VEVENT
SUMMARY:sestanek H-Hope Reykjavik University
DTSTART;TZID=Europe/Ljubljana:20240424T083000
DTEND;TZID=Europe/Ljubljana:20240424T140000
DTSTAMP:20260422T154505Z
UID:fs-AFLABS-URNIK:rezervacija:3474
CATEGORIES:Reservation
COLOR:royalblue
DESCRIPTION:Predmeti: \nLetniki: \nIzvajalci: Marko Hočevar\nProstori: Ma
 la sejna soba
LOCATION:Mala sejna soba
ORGANIZER:Marko Hočevar
X-WR-TIMEZONE:Europe/Ljubljana
END:VEVENT
BEGIN:VEVENT
SUMMARY:sestanek H-Hope Reykjavik University
DTSTART;TZID=Europe/Ljubljana:20240425T133000
DTEND;TZID=Europe/Ljubljana:20240425T170000
DTSTAMP:20260422T154505Z
UID:fs-AFLABS-URNIK:rezervacija:3458
CATEGORIES:Reservation
COLOR:royalblue
DESCRIPTION:Predmeti: \nLetniki: \nIzvajalci: Marko Hočevar\nProstori: Ma
 la sejna soba
LOCATION:Mala sejna soba
ORGANIZER:Marko Hočevar
X-WR-TIMEZONE:Europe/Ljubljana
END:VEVENT
BEGIN:VEVENT
SUMMARY:delni pisni izpit TRSM
DTSTART;TZID=Europe/Ljubljana:20240403T180000
DTEND;TZID=Europe/Ljubljana:20240403T200000
DTSTAMP:20260422T154505Z
UID:fs-AFLABS-URNIK:rezervacija:1407
ATTENDEE:Energetsko strojništvo (MAG-1)
CATEGORIES:Reservation
COLOR:royalblue
DESCRIPTION:Predmeti: Turbinski stroji (TRSM)\nLetniki: Energetsko strojni
 štvo (MAG-1)\nIzvajalci: Marko Hočevar\nProstori: Predavalnica III/3A\, 
 Predavalnica III/3B
LOCATION:Predavalnica III/3A\, Predavalnica III/3B
ORGANIZER:Marko Hočevar
X-WR-TIMEZONE:Europe/Ljubljana
END:VEVENT
BEGIN:VEVENT
SUMMARY:Izpit: Turbinski stroji
DTSTART;TZID=Europe/Ljubljana:20240604T080000
DTEND;TZID=Europe/Ljubljana:20240604T100000
DTSTAMP:20260422T154505Z
UID:fs-AFLABS-URNIK:rezervacija:4917
ATTENDEE:Energetsko strojništvo (MAG-1)
CATEGORIES:Reservation
COLOR:royalblue
DESCRIPTION:Predmeti: Turbinski stroji (TRSM)\nLetniki: Energetsko strojni
 štvo (MAG-1)\nIzvajalci: Marko Hočevar\nProstori: Predavalnica V/2
LOCATION:Predavalnica V/2
ORGANIZER:Marko Hočevar
X-WR-TIMEZONE:Europe/Ljubljana
END:VEVENT
BEGIN:VEVENT
SUMMARY:prijava MORS brezpilotni letalniki
DTSTART;TZID=Europe/Ljubljana:20240325T130000
DTEND;TZID=Europe/Ljubljana:20240325T150000
DTSTAMP:20260422T154505Z
UID:fs-AFLABS-URNIK:rezervacija:4665
CATEGORIES:Reservation
COLOR:royalblue
DESCRIPTION:Predmeti: \nLetniki: \nIzvajalci: Marko Hočevar\nProstori: Ma
 la sejna soba
LOCATION:Mala sejna soba
ORGANIZER:Marko Hočevar
X-WR-TIMEZONE:Europe/Ljubljana
END:VEVENT
BEGIN:VEVENT
SUMMARY:sestanek H-Hope Reykjavik University
DTSTART;TZID=Europe/Ljubljana:20240425T083000
DTEND;TZID=Europe/Ljubljana:20240425T133000
DTSTAMP:20260422T154505Z
UID:fs-AFLABS-URNIK:rezervacija:4741
CATEGORIES:Reservation
COLOR:royalblue
DESCRIPTION:Predmeti: \nLetniki: \nIzvajalci: Marko Hočevar\nProstori: Pr
 edavalnica II/3A
LOCATION:Predavalnica II/3A
ORGANIZER:Marko Hočevar
X-WR-TIMEZONE:Europe/Ljubljana
END:VEVENT
BEGIN:VEVENT
SUMMARY:sestanek SE
DTSTART;TZID=Europe/Ljubljana:20240521T140000
DTEND;TZID=Europe/Ljubljana:20240521T150000
DTSTAMP:20260422T154505Z
UID:fs-AFLABS-URNIK:rezervacija:3492
CATEGORIES:Reservation
COLOR:royalblue
DESCRIPTION:Predmeti: \nLetniki: \nIzvajalci: Marko Hočevar\nProstori: Ma
 la sejna soba
LOCATION:Mala sejna soba
ORGANIZER:Marko Hočevar
X-WR-TIMEZONE:Europe/Ljubljana
END:VEVENT
END:VCALENDAR
