BEGIN:VCALENDAR
VERSION:2.0
PRODID:-//AFLabs urnik izvoz - fs//aflabs.si//SI
NAME:UL FS Urnik
X-WR-CALNAME:UL FS Urnik
DTSTAMP:20260422T154628Z
REFRESH-INTERVAL:PT1H
SOURCE:https://urnik.fs.uni-lj.si/teacher/707/?day=2026-02-09&export=1
URL:https://urnik.fs.uni-lj.si/teacher/707/?day=2026-02-09&export=1
X-PUBLISHED-TTL:PT1H
X-WR-TIMEZONE:Europe/Ljubljana
BEGIN:VTIMEZONE
TZID:Europe/Ljubljana
BEGIN:DAYLIGHT
DTSTART:20260329T020000
RDATE:20260329T020000
RDATE:20270328T020000
TZNAME:CEST
TZOFFSETFROM:+0100
TZOFFSETTO:+0200
END:DAYLIGHT
BEGIN:STANDARD
DTSTART:20261025T030000
RDATE:20261025T030000
RDATE:20271031T030000
TZNAME:CET
TZOFFSETFROM:+0200
TZOFFSETTO:+0100
END:STANDARD
END:VTIMEZONE
BEGIN:VEVENT
SUMMARY:Nekonvencionalni izdelovalni procesi (NIPP)\, Predavalniške vaje 
 (VP)\, [S1]
DTSTART;TZID=Europe/Ljubljana:20260216T133000
DTEND;TZID=Europe/Ljubljana:20260216T153000
DTSTAMP:20260422T154628Z
UID:fs-AFLABS-URNIK:srecanje:16441-2026-02-16 13:30:00+01:00
DESCRIPTION:Predmet: Nekonvencionalni izdelovalni procesi (NIPP)\, Predava
 lniške vaje (VP)\, [S1]\nLetniki: Proizvodne tehnologije (PAP-2)\nIzvajal
 ci: Marko Jerman\nProstor: Predavalnica III/3A
END:VEVENT
BEGIN:VEVENT
SUMMARY:Nekonvencionalni izdelovalni procesi (NIPP)\, Predavalniške vaje 
 (VP)\, [S1]
DTSTART;TZID=Europe/Ljubljana:20260223T133000
DTEND;TZID=Europe/Ljubljana:20260223T153000
DTSTAMP:20260422T154628Z
UID:fs-AFLABS-URNIK:srecanje:16441-2026-02-23 13:30:00+01:00
DESCRIPTION:Predmet: Nekonvencionalni izdelovalni procesi (NIPP)\, Predava
 lniške vaje (VP)\, [S1]\nLetniki: Proizvodne tehnologije (PAP-2)\nIzvajal
 ci: Marko Jerman\nProstor: Predavalnica III/3A
END:VEVENT
BEGIN:VEVENT
SUMMARY:Nekonvencionalni izdelovalni procesi (NIPP)\, Laboratorijske vaje 
 (VL)\, [S1]
DTSTART;TZID=Europe/Ljubljana:20260302T133000
DTEND;TZID=Europe/Ljubljana:20260302T153000
DTSTAMP:20260422T154628Z
UID:fs-AFLABS-URNIK:srecanje:17074-2026-03-02 13:30:00+01:00
DESCRIPTION:Predmet: Nekonvencionalni izdelovalni procesi (NIPP)\, Laborat
 orijske vaje (VL)\, [S1]\nLetniki: Proizvodne tehnologije (PAP-2)\nIzvajal
 ci: Marko Jerman\, Izidor Sabotin\nProstor: Laboratorij LAT SP-39
END:VEVENT
BEGIN:VEVENT
SUMMARY:Nekonvencionalni izdelovalni procesi (NIPP)\, Laboratorijske vaje 
 (VL)\, [S1]
DTSTART;TZID=Europe/Ljubljana:20260309T133000
DTEND;TZID=Europe/Ljubljana:20260309T153000
DTSTAMP:20260422T154628Z
UID:fs-AFLABS-URNIK:srecanje:17074-2026-03-09 13:30:00+01:00
DESCRIPTION:Predmet: Nekonvencionalni izdelovalni procesi (NIPP)\, Laborat
 orijske vaje (VL)\, [S1]\nLetniki: Proizvodne tehnologije (PAP-2)\nIzvajal
 ci: Marko Jerman\, Izidor Sabotin\nProstor: Laboratorij LAT SP-39
END:VEVENT
BEGIN:VEVENT
SUMMARY:Nekonvencionalni izdelovalni procesi (NIPP)\, Laboratorijske vaje 
 (VL)\, [S1]
DTSTART;TZID=Europe/Ljubljana:20260316T133000
DTEND;TZID=Europe/Ljubljana:20260316T153000
DTSTAMP:20260422T154628Z
UID:fs-AFLABS-URNIK:srecanje:17074-2026-03-16 13:30:00+01:00
DESCRIPTION:Predmet: Nekonvencionalni izdelovalni procesi (NIPP)\, Laborat
 orijske vaje (VL)\, [S1]\nLetniki: Proizvodne tehnologije (PAP-2)\nIzvajal
 ci: Marko Jerman\, Izidor Sabotin\nProstor: Laboratorij LAT SP-39
END:VEVENT
BEGIN:VEVENT
SUMMARY:Nekonvencionalni izdelovalni procesi (NIPP)\, Laboratorijske vaje 
 (VL)\, [S2]
DTSTART;TZID=Europe/Ljubljana:20260302T153000
DTEND;TZID=Europe/Ljubljana:20260302T173000
DTSTAMP:20260422T154628Z
UID:fs-AFLABS-URNIK:srecanje:17076-2026-03-02 15:30:00+01:00
DESCRIPTION:Predmet: Nekonvencionalni izdelovalni procesi (NIPP)\, Laborat
 orijske vaje (VL)\, [S2]\nLetniki: Proizvodne tehnologije (PAP-2)\nIzvajal
 ci: Marko Jerman\, Izidor Sabotin\nProstor: Laboratorij LAT SP-39
END:VEVENT
BEGIN:VEVENT
SUMMARY:Nekonvencionalni izdelovalni procesi (NIPP)\, Laboratorijske vaje 
 (VL)\, [S2]
DTSTART;TZID=Europe/Ljubljana:20260309T153000
DTEND;TZID=Europe/Ljubljana:20260309T173000
DTSTAMP:20260422T154628Z
UID:fs-AFLABS-URNIK:srecanje:17076-2026-03-09 15:30:00+01:00
DESCRIPTION:Predmet: Nekonvencionalni izdelovalni procesi (NIPP)\, Laborat
 orijske vaje (VL)\, [S2]\nLetniki: Proizvodne tehnologije (PAP-2)\nIzvajal
 ci: Marko Jerman\, Izidor Sabotin\nProstor: Laboratorij LAT SP-39
END:VEVENT
BEGIN:VEVENT
SUMMARY:Nekonvencionalni izdelovalni procesi (NIPP)\, Laboratorijske vaje 
 (VL)\, [S2]
DTSTART;TZID=Europe/Ljubljana:20260316T153000
DTEND;TZID=Europe/Ljubljana:20260316T173000
DTSTAMP:20260422T154628Z
UID:fs-AFLABS-URNIK:srecanje:17076-2026-03-16 15:30:00+01:00
DESCRIPTION:Predmet: Nekonvencionalni izdelovalni procesi (NIPP)\, Laborat
 orijske vaje (VL)\, [S2]\nLetniki: Proizvodne tehnologije (PAP-2)\nIzvajal
 ci: Marko Jerman\, Izidor Sabotin\nProstor: Laboratorij LAT SP-39
END:VEVENT
BEGIN:VEVENT
SUMMARY:Nekonvencionalni izdelovalni procesi (NIPP)\, Laboratorijske vaje 
 (VL)\, [S3]
DTSTART;TZID=Europe/Ljubljana:20260304T153000
DTEND;TZID=Europe/Ljubljana:20260304T173000
DTSTAMP:20260422T154628Z
UID:fs-AFLABS-URNIK:srecanje:17078-2026-03-04 15:30:00+01:00
DESCRIPTION:Predmet: Nekonvencionalni izdelovalni procesi (NIPP)\, Laborat
 orijske vaje (VL)\, [S3]\nLetniki: Proizvodne tehnologije (PAP-2)\nIzvajal
 ci: Marko Jerman\, Izidor Sabotin\nProstor: Laboratorij LAT SP-39
END:VEVENT
BEGIN:VEVENT
SUMMARY:Nekonvencionalni izdelovalni procesi (NIPP)\, Laboratorijske vaje 
 (VL)\, [S3]
DTSTART;TZID=Europe/Ljubljana:20260311T153000
DTEND;TZID=Europe/Ljubljana:20260311T173000
DTSTAMP:20260422T154628Z
UID:fs-AFLABS-URNIK:srecanje:17078-2026-03-11 15:30:00+01:00
DESCRIPTION:Predmet: Nekonvencionalni izdelovalni procesi (NIPP)\, Laborat
 orijske vaje (VL)\, [S3]\nLetniki: Proizvodne tehnologije (PAP-2)\nIzvajal
 ci: Marko Jerman\, Izidor Sabotin\nProstor: Laboratorij LAT SP-39
END:VEVENT
BEGIN:VEVENT
SUMMARY:Nekonvencionalni izdelovalni procesi (NIPP)\, Laboratorijske vaje 
 (VL)\, [S4]
DTSTART;TZID=Europe/Ljubljana:20260305T073000
DTEND;TZID=Europe/Ljubljana:20260305T093000
DTSTAMP:20260422T154628Z
UID:fs-AFLABS-URNIK:srecanje:17079-2026-03-05 07:30:00+01:00
DESCRIPTION:Predmet: Nekonvencionalni izdelovalni procesi (NIPP)\, Laborat
 orijske vaje (VL)\, [S4]\nLetniki: Proizvodne tehnologije (PAP-2)\nIzvajal
 ci: Marko Jerman\, Izidor Sabotin\nProstor: Laboratorij LAT SP-39
END:VEVENT
BEGIN:VEVENT
SUMMARY:Nekonvencionalni izdelovalni procesi (NIPP)\, Laboratorijske vaje 
 (VL)\, [S4]
DTSTART;TZID=Europe/Ljubljana:20260312T073000
DTEND;TZID=Europe/Ljubljana:20260312T093000
DTSTAMP:20260422T154628Z
UID:fs-AFLABS-URNIK:srecanje:17079-2026-03-12 07:30:00+01:00
DESCRIPTION:Predmet: Nekonvencionalni izdelovalni procesi (NIPP)\, Laborat
 orijske vaje (VL)\, [S4]\nLetniki: Proizvodne tehnologije (PAP-2)\nIzvajal
 ci: Marko Jerman\, Izidor Sabotin\nProstor: Laboratorij LAT SP-39
END:VEVENT
BEGIN:VEVENT
SUMMARY:Tehnologije v proizvodnji 1 (TP1P)\, Laboratorijske vaje (VL)\, [S
 1]
DTSTART;TZID=Europe/Ljubljana:20260316T073000
DTEND;TZID=Europe/Ljubljana:20260316T100000
DTSTAMP:20260422T154628Z
UID:fs-AFLABS-URNIK:srecanje:15276-2026-03-16 07:30:00+01:00
DESCRIPTION:Predmet: Tehnologije v proizvodnji 1 (TP1P)\, Laboratorijske v
 aje (VL)\, [S1]\nLetniki: PAP-1 (PAP-1)\nIzvajalci: Jaka Dugar\, Damir Grg
 uraš\, Marko Jerman\, Luka Kastelic\, Matjaž Kern\, Andrej Lebar\, Vinko
  Rotar\, Izidor Sabotin\, Luka Sterle\nProstor: Laboratorij LABOD SP-DL-1
END:VEVENT
BEGIN:VEVENT
SUMMARY:Tehnologije v proizvodnji 1 (TP1P)\, Laboratorijske vaje (VL)\, [S
 13]
DTSTART;TZID=Europe/Ljubljana:20260316T100000
DTEND;TZID=Europe/Ljubljana:20260316T123000
DTSTAMP:20260422T154628Z
UID:fs-AFLABS-URNIK:srecanje:16161-2026-03-16 10:00:00+01:00
DESCRIPTION:Predmet: Tehnologije v proizvodnji 1 (TP1P)\, Laboratorijske v
 aje (VL)\, [S13]\nLetniki: PAP-1 (PAP-1)\nIzvajalci: Jaka Dugar\, Damir Gr
 guraš\, Marko Jerman\, Luka Kastelic\, Matjaž Kern\, Andrej Lebar\, Vink
 o Rotar\, Izidor Sabotin\, Luka Sterle\nProstor: Laboratorij LABOD SP-DL-1
END:VEVENT
BEGIN:VEVENT
SUMMARY:Tehnologije v proizvodnji 1 (TP1P)\, Laboratorijske vaje (VL)\, [S
 15]
DTSTART;TZID=Europe/Ljubljana:20260316T130000
DTEND;TZID=Europe/Ljubljana:20260316T160000
DTSTAMP:20260422T154628Z
UID:fs-AFLABS-URNIK:srecanje:16163-2026-03-16 13:00:00+01:00
DESCRIPTION:Predmet: Tehnologije v proizvodnji 1 (TP1P)\, Laboratorijske v
 aje (VL)\, [S15]\nLetniki: PAP-1 (PAP-1)\nIzvajalci: Jaka Dugar\, Damir Gr
 guraš\, Marko Jerman\, Luka Kastelic\, Matjaž Kern\, Andrej Lebar\, Vink
 o Rotar\, Izidor Sabotin\, Luka Sterle\nProstor: Laboratorij LABOD SP-DL-1
END:VEVENT
END:VCALENDAR
