BEGIN:VCALENDAR
VERSION:2.0
PRODID:-//AFLabs urnik izvoz - fs//aflabs.si//SI
NAME:UL FS Urnik
X-WR-CALNAME:UL FS Urnik
DTSTAMP:20260420T202813Z
REFRESH-INTERVAL:PT1H
SOURCE:https://urnik.fs.uni-lj.si/teacher/710/?day=2025-11-17&export=1
URL:https://urnik.fs.uni-lj.si/teacher/710/?day=2025-11-17&export=1
X-PUBLISHED-TTL:PT1H
X-WR-TIMEZONE:Europe/Ljubljana
BEGIN:VTIMEZONE
TZID:Europe/Ljubljana
BEGIN:DAYLIGHT
DTSTART:20260329T020000
RDATE:20260329T020000
RDATE:20270328T020000
TZNAME:CEST
TZOFFSETFROM:+0100
TZOFFSETTO:+0200
END:DAYLIGHT
BEGIN:STANDARD
DTSTART:20261025T030000
RDATE:20261025T030000
RDATE:20271031T030000
TZNAME:CET
TZOFFSETFROM:+0200
TZOFFSETTO:+0100
END:STANDARD
END:VTIMEZONE
BEGIN:VEVENT
SUMMARY:Mikroprocesorska krmilja (MPKM)\, Laboratorijske vaje (VL)\, [S1]
DTSTART;TZID=Europe/Ljubljana:20251014T080000
DTEND;TZID=Europe/Ljubljana:20251014T100000
DTSTAMP:20260420T202813Z
UID:fs-AFLABS-URNIK:srecanje:16708-2025-10-14 08:00:00+02:00
DESCRIPTION:Predmet: Mikroprocesorska krmilja (MPKM)\, Laboratorijske vaje
  (VL)\, [S1]\nLetniki: Mehatronika in laserska tehnika (MAG-1)\nIzvajalci:
  Marko Corn\, Anja Juriševič\, Dominik Kozjek\nProstor: Laboratorij LAMP
 A SII-82A
END:VEVENT
BEGIN:VEVENT
SUMMARY:Mikroprocesorska krmilja (MPKM)\, Laboratorijske vaje (VL)\, [S1]
DTSTART;TZID=Europe/Ljubljana:20251021T080000
DTEND;TZID=Europe/Ljubljana:20251021T100000
DTSTAMP:20260420T202813Z
UID:fs-AFLABS-URNIK:srecanje:16708-2025-10-21 08:00:00+02:00
DESCRIPTION:Predmet: Mikroprocesorska krmilja (MPKM)\, Laboratorijske vaje
  (VL)\, [S1]\nLetniki: Mehatronika in laserska tehnika (MAG-1)\nIzvajalci:
  Marko Corn\, Anja Juriševič\, Dominik Kozjek\nProstor: Laboratorij LAMP
 A SII-82A
END:VEVENT
BEGIN:VEVENT
SUMMARY:Mikroprocesorska krmilja (MPKM)\, Laboratorijske vaje (VL)\, [S1]
DTSTART;TZID=Europe/Ljubljana:20251104T080000
DTEND;TZID=Europe/Ljubljana:20251104T100000
DTSTAMP:20260420T202813Z
UID:fs-AFLABS-URNIK:srecanje:16708-2025-11-04 08:00:00+01:00
DESCRIPTION:Predmet: Mikroprocesorska krmilja (MPKM)\, Laboratorijske vaje
  (VL)\, [S1]\nLetniki: Mehatronika in laserska tehnika (MAG-1)\nIzvajalci:
  Marko Corn\, Anja Juriševič\, Dominik Kozjek\nProstor: Laboratorij LAMP
 A SII-82A
END:VEVENT
BEGIN:VEVENT
SUMMARY:Mikroprocesorska krmilja (MPKM)\, Laboratorijske vaje (VL)\, [S1]
DTSTART;TZID=Europe/Ljubljana:20251111T080000
DTEND;TZID=Europe/Ljubljana:20251111T100000
DTSTAMP:20260420T202813Z
UID:fs-AFLABS-URNIK:srecanje:16708-2025-11-11 08:00:00+01:00
DESCRIPTION:Predmet: Mikroprocesorska krmilja (MPKM)\, Laboratorijske vaje
  (VL)\, [S1]\nLetniki: Mehatronika in laserska tehnika (MAG-1)\nIzvajalci:
  Marko Corn\, Anja Juriševič\, Dominik Kozjek\nProstor: Laboratorij LAMP
 A SII-82A
END:VEVENT
BEGIN:VEVENT
SUMMARY:Mikroprocesorska krmilja (MPKM)\, Laboratorijske vaje (VL)\, [S1]
DTSTART;TZID=Europe/Ljubljana:20251125T080000
DTEND;TZID=Europe/Ljubljana:20251125T100000
DTSTAMP:20260420T202813Z
UID:fs-AFLABS-URNIK:srecanje:16708-2025-11-25 08:00:00+01:00
DESCRIPTION:Predmet: Mikroprocesorska krmilja (MPKM)\, Laboratorijske vaje
  (VL)\, [S1]\nLetniki: Mehatronika in laserska tehnika (MAG-1)\nIzvajalci:
  Marko Corn\, Anja Juriševič\, Dominik Kozjek\nProstor: Laboratorij LAMP
 A SII-82A
END:VEVENT
BEGIN:VEVENT
SUMMARY:Mikroprocesorska krmilja (MPKM)\, Laboratorijske vaje (VL)\, [S1]
DTSTART;TZID=Europe/Ljubljana:20251202T080000
DTEND;TZID=Europe/Ljubljana:20251202T100000
DTSTAMP:20260420T202813Z
UID:fs-AFLABS-URNIK:srecanje:16708-2025-12-02 08:00:00+01:00
DESCRIPTION:Predmet: Mikroprocesorska krmilja (MPKM)\, Laboratorijske vaje
  (VL)\, [S1]\nLetniki: Mehatronika in laserska tehnika (MAG-1)\nIzvajalci:
  Marko Corn\, Anja Juriševič\, Dominik Kozjek\nProstor: Laboratorij LAMP
 A SII-82A
END:VEVENT
BEGIN:VEVENT
SUMMARY:Mikroprocesorska krmilja (MPKM)\, Laboratorijske vaje (VL)\, [S1]
DTSTART;TZID=Europe/Ljubljana:20251216T080000
DTEND;TZID=Europe/Ljubljana:20251216T100000
DTSTAMP:20260420T202813Z
UID:fs-AFLABS-URNIK:srecanje:16708-2025-12-16 08:00:00+01:00
DESCRIPTION:Predmet: Mikroprocesorska krmilja (MPKM)\, Laboratorijske vaje
  (VL)\, [S1]\nLetniki: Mehatronika in laserska tehnika (MAG-1)\nIzvajalci:
  Marko Corn\, Anja Juriševič\, Dominik Kozjek\nProstor: Laboratorij LAMP
 A SII-82A
END:VEVENT
BEGIN:VEVENT
SUMMARY:Mikroprocesorska krmilja (MPKM)\, Laboratorijske vaje (VL)\, [S1]
DTSTART;TZID=Europe/Ljubljana:20260106T080000
DTEND;TZID=Europe/Ljubljana:20260106T100000
DTSTAMP:20260420T202813Z
UID:fs-AFLABS-URNIK:srecanje:16708-2026-01-06 08:00:00+01:00
DESCRIPTION:Predmet: Mikroprocesorska krmilja (MPKM)\, Laboratorijske vaje
  (VL)\, [S1]\nLetniki: Mehatronika in laserska tehnika (MAG-1)\nIzvajalci:
  Marko Corn\, Anja Juriševič\, Dominik Kozjek\nProstor: Laboratorij LAMP
 A SII-82A
END:VEVENT
BEGIN:VEVENT
SUMMARY:Mikroprocesorska krmilja (MPKM)\, Laboratorijske vaje (VL)\, [S1]
DTSTART;TZID=Europe/Ljubljana:20260113T080000
DTEND;TZID=Europe/Ljubljana:20260113T100000
DTSTAMP:20260420T202813Z
UID:fs-AFLABS-URNIK:srecanje:16708-2026-01-13 08:00:00+01:00
DESCRIPTION:Predmet: Mikroprocesorska krmilja (MPKM)\, Laboratorijske vaje
  (VL)\, [S1]\nLetniki: Mehatronika in laserska tehnika (MAG-1)\nIzvajalci:
  Marko Corn\, Anja Juriševič\, Dominik Kozjek\nProstor: Laboratorij LAMP
 A SII-82A
END:VEVENT
BEGIN:VEVENT
SUMMARY:Mikroprocesorska krmilja (MPKM)\, Laboratorijske vaje (VL)\, [S2]
DTSTART;TZID=Europe/Ljubljana:20251014T100000
DTEND;TZID=Europe/Ljubljana:20251014T120000
DTSTAMP:20260420T202813Z
UID:fs-AFLABS-URNIK:srecanje:16709-2025-10-14 10:00:00+02:00
DESCRIPTION:Predmet: Mikroprocesorska krmilja (MPKM)\, Laboratorijske vaje
  (VL)\, [S2]\nLetniki: Mehatronika in laserska tehnika (MAG-1)\nIzvajalci:
  Marko Corn\, Anja Juriševič\, Dominik Kozjek\nProstor: Laboratorij LAMP
 A SII-82A
END:VEVENT
BEGIN:VEVENT
SUMMARY:Mikroprocesorska krmilja (MPKM)\, Laboratorijske vaje (VL)\, [S2]
DTSTART;TZID=Europe/Ljubljana:20251021T100000
DTEND;TZID=Europe/Ljubljana:20251021T120000
DTSTAMP:20260420T202813Z
UID:fs-AFLABS-URNIK:srecanje:16709-2025-10-21 10:00:00+02:00
DESCRIPTION:Predmet: Mikroprocesorska krmilja (MPKM)\, Laboratorijske vaje
  (VL)\, [S2]\nLetniki: Mehatronika in laserska tehnika (MAG-1)\nIzvajalci:
  Marko Corn\, Anja Juriševič\, Dominik Kozjek\nProstor: Laboratorij LAMP
 A SII-82A
END:VEVENT
BEGIN:VEVENT
SUMMARY:Mikroprocesorska krmilja (MPKM)\, Laboratorijske vaje (VL)\, [S2]
DTSTART;TZID=Europe/Ljubljana:20251104T100000
DTEND;TZID=Europe/Ljubljana:20251104T120000
DTSTAMP:20260420T202813Z
UID:fs-AFLABS-URNIK:srecanje:16709-2025-11-04 10:00:00+01:00
DESCRIPTION:Predmet: Mikroprocesorska krmilja (MPKM)\, Laboratorijske vaje
  (VL)\, [S2]\nLetniki: Mehatronika in laserska tehnika (MAG-1)\nIzvajalci:
  Marko Corn\, Anja Juriševič\, Dominik Kozjek\nProstor: Laboratorij LAMP
 A SII-82A
END:VEVENT
BEGIN:VEVENT
SUMMARY:Mikroprocesorska krmilja (MPKM)\, Laboratorijske vaje (VL)\, [S2]
DTSTART;TZID=Europe/Ljubljana:20251111T100000
DTEND;TZID=Europe/Ljubljana:20251111T120000
DTSTAMP:20260420T202813Z
UID:fs-AFLABS-URNIK:srecanje:16709-2025-11-11 10:00:00+01:00
DESCRIPTION:Predmet: Mikroprocesorska krmilja (MPKM)\, Laboratorijske vaje
  (VL)\, [S2]\nLetniki: Mehatronika in laserska tehnika (MAG-1)\nIzvajalci:
  Marko Corn\, Anja Juriševič\, Dominik Kozjek\nProstor: Laboratorij LAMP
 A SII-82A
END:VEVENT
BEGIN:VEVENT
SUMMARY:Mikroprocesorska krmilja (MPKM)\, Laboratorijske vaje (VL)\, [S2]
DTSTART;TZID=Europe/Ljubljana:20251125T100000
DTEND;TZID=Europe/Ljubljana:20251125T120000
DTSTAMP:20260420T202813Z
UID:fs-AFLABS-URNIK:srecanje:16709-2025-11-25 10:00:00+01:00
DESCRIPTION:Predmet: Mikroprocesorska krmilja (MPKM)\, Laboratorijske vaje
  (VL)\, [S2]\nLetniki: Mehatronika in laserska tehnika (MAG-1)\nIzvajalci:
  Marko Corn\, Anja Juriševič\, Dominik Kozjek\nProstor: Laboratorij LAMP
 A SII-82A
END:VEVENT
BEGIN:VEVENT
SUMMARY:Mikroprocesorska krmilja (MPKM)\, Laboratorijske vaje (VL)\, [S2]
DTSTART;TZID=Europe/Ljubljana:20251202T100000
DTEND;TZID=Europe/Ljubljana:20251202T120000
DTSTAMP:20260420T202813Z
UID:fs-AFLABS-URNIK:srecanje:16709-2025-12-02 10:00:00+01:00
DESCRIPTION:Predmet: Mikroprocesorska krmilja (MPKM)\, Laboratorijske vaje
  (VL)\, [S2]\nLetniki: Mehatronika in laserska tehnika (MAG-1)\nIzvajalci:
  Marko Corn\, Anja Juriševič\, Dominik Kozjek\nProstor: Laboratorij LAMP
 A SII-82A
END:VEVENT
BEGIN:VEVENT
SUMMARY:Mikroprocesorska krmilja (MPKM)\, Laboratorijske vaje (VL)\, [S2]
DTSTART;TZID=Europe/Ljubljana:20251216T100000
DTEND;TZID=Europe/Ljubljana:20251216T120000
DTSTAMP:20260420T202813Z
UID:fs-AFLABS-URNIK:srecanje:16709-2025-12-16 10:00:00+01:00
DESCRIPTION:Predmet: Mikroprocesorska krmilja (MPKM)\, Laboratorijske vaje
  (VL)\, [S2]\nLetniki: Mehatronika in laserska tehnika (MAG-1)\nIzvajalci:
  Marko Corn\, Anja Juriševič\, Dominik Kozjek\nProstor: Laboratorij LAMP
 A SII-82A
END:VEVENT
BEGIN:VEVENT
SUMMARY:Mikroprocesorska krmilja (MPKM)\, Laboratorijske vaje (VL)\, [S2]
DTSTART;TZID=Europe/Ljubljana:20260106T100000
DTEND;TZID=Europe/Ljubljana:20260106T120000
DTSTAMP:20260420T202813Z
UID:fs-AFLABS-URNIK:srecanje:16709-2026-01-06 10:00:00+01:00
DESCRIPTION:Predmet: Mikroprocesorska krmilja (MPKM)\, Laboratorijske vaje
  (VL)\, [S2]\nLetniki: Mehatronika in laserska tehnika (MAG-1)\nIzvajalci:
  Marko Corn\, Anja Juriševič\, Dominik Kozjek\nProstor: Laboratorij LAMP
 A SII-82A
END:VEVENT
BEGIN:VEVENT
SUMMARY:Mikroprocesorska krmilja (MPKM)\, Laboratorijske vaje (VL)\, [S2]
DTSTART;TZID=Europe/Ljubljana:20260113T100000
DTEND;TZID=Europe/Ljubljana:20260113T120000
DTSTAMP:20260420T202813Z
UID:fs-AFLABS-URNIK:srecanje:16709-2026-01-13 10:00:00+01:00
DESCRIPTION:Predmet: Mikroprocesorska krmilja (MPKM)\, Laboratorijske vaje
  (VL)\, [S2]\nLetniki: Mehatronika in laserska tehnika (MAG-1)\nIzvajalci:
  Marko Corn\, Anja Juriševič\, Dominik Kozjek\nProstor: Laboratorij LAMP
 A SII-82A
END:VEVENT
BEGIN:VEVENT
SUMMARY:Mikroprocesorska krmilja (MPKM)\, Laboratorijske vaje (VL)\, [S3]
DTSTART;TZID=Europe/Ljubljana:20251014T120000
DTEND;TZID=Europe/Ljubljana:20251014T140000
DTSTAMP:20260420T202813Z
UID:fs-AFLABS-URNIK:srecanje:16711-2025-10-14 12:00:00+02:00
DESCRIPTION:Predmet: Mikroprocesorska krmilja (MPKM)\, Laboratorijske vaje
  (VL)\, [S3]\nLetniki: Mehatronika in laserska tehnika (MAG-1)\nIzvajalci:
  Marko Corn\, Anja Juriševič\, Dominik Kozjek\nProstor: Laboratorij LAMP
 A SII-82A
END:VEVENT
BEGIN:VEVENT
SUMMARY:Mikroprocesorska krmilja (MPKM)\, Laboratorijske vaje (VL)\, [S3]
DTSTART;TZID=Europe/Ljubljana:20251021T120000
DTEND;TZID=Europe/Ljubljana:20251021T140000
DTSTAMP:20260420T202813Z
UID:fs-AFLABS-URNIK:srecanje:16711-2025-10-21 12:00:00+02:00
DESCRIPTION:Predmet: Mikroprocesorska krmilja (MPKM)\, Laboratorijske vaje
  (VL)\, [S3]\nLetniki: Mehatronika in laserska tehnika (MAG-1)\nIzvajalci:
  Marko Corn\, Anja Juriševič\, Dominik Kozjek\nProstor: Laboratorij LAMP
 A SII-82A
END:VEVENT
BEGIN:VEVENT
SUMMARY:Mikroprocesorska krmilja (MPKM)\, Laboratorijske vaje (VL)\, [S3]
DTSTART;TZID=Europe/Ljubljana:20251104T120000
DTEND;TZID=Europe/Ljubljana:20251104T140000
DTSTAMP:20260420T202813Z
UID:fs-AFLABS-URNIK:srecanje:16711-2025-11-04 12:00:00+01:00
DESCRIPTION:Predmet: Mikroprocesorska krmilja (MPKM)\, Laboratorijske vaje
  (VL)\, [S3]\nLetniki: Mehatronika in laserska tehnika (MAG-1)\nIzvajalci:
  Marko Corn\, Anja Juriševič\, Dominik Kozjek\nProstor: Laboratorij LAMP
 A SII-82A
END:VEVENT
BEGIN:VEVENT
SUMMARY:Mikroprocesorska krmilja (MPKM)\, Laboratorijske vaje (VL)\, [S3]
DTSTART;TZID=Europe/Ljubljana:20251111T120000
DTEND;TZID=Europe/Ljubljana:20251111T140000
DTSTAMP:20260420T202813Z
UID:fs-AFLABS-URNIK:srecanje:16711-2025-11-11 12:00:00+01:00
DESCRIPTION:Predmet: Mikroprocesorska krmilja (MPKM)\, Laboratorijske vaje
  (VL)\, [S3]\nLetniki: Mehatronika in laserska tehnika (MAG-1)\nIzvajalci:
  Marko Corn\, Anja Juriševič\, Dominik Kozjek\nProstor: Laboratorij LAMP
 A SII-82A
END:VEVENT
BEGIN:VEVENT
SUMMARY:Mikroprocesorska krmilja (MPKM)\, Laboratorijske vaje (VL)\, [S3]
DTSTART;TZID=Europe/Ljubljana:20251125T120000
DTEND;TZID=Europe/Ljubljana:20251125T140000
DTSTAMP:20260420T202813Z
UID:fs-AFLABS-URNIK:srecanje:16711-2025-11-25 12:00:00+01:00
DESCRIPTION:Predmet: Mikroprocesorska krmilja (MPKM)\, Laboratorijske vaje
  (VL)\, [S3]\nLetniki: Mehatronika in laserska tehnika (MAG-1)\nIzvajalci:
  Marko Corn\, Anja Juriševič\, Dominik Kozjek\nProstor: Laboratorij LAMP
 A SII-82A
END:VEVENT
BEGIN:VEVENT
SUMMARY:Mikroprocesorska krmilja (MPKM)\, Laboratorijske vaje (VL)\, [S3]
DTSTART;TZID=Europe/Ljubljana:20251202T120000
DTEND;TZID=Europe/Ljubljana:20251202T140000
DTSTAMP:20260420T202813Z
UID:fs-AFLABS-URNIK:srecanje:16711-2025-12-02 12:00:00+01:00
DESCRIPTION:Predmet: Mikroprocesorska krmilja (MPKM)\, Laboratorijske vaje
  (VL)\, [S3]\nLetniki: Mehatronika in laserska tehnika (MAG-1)\nIzvajalci:
  Marko Corn\, Anja Juriševič\, Dominik Kozjek\nProstor: Laboratorij LAMP
 A SII-82A
END:VEVENT
BEGIN:VEVENT
SUMMARY:Mikroprocesorska krmilja (MPKM)\, Laboratorijske vaje (VL)\, [S3]
DTSTART;TZID=Europe/Ljubljana:20251216T120000
DTEND;TZID=Europe/Ljubljana:20251216T140000
DTSTAMP:20260420T202813Z
UID:fs-AFLABS-URNIK:srecanje:16711-2025-12-16 12:00:00+01:00
DESCRIPTION:Predmet: Mikroprocesorska krmilja (MPKM)\, Laboratorijske vaje
  (VL)\, [S3]\nLetniki: Mehatronika in laserska tehnika (MAG-1)\nIzvajalci:
  Marko Corn\, Anja Juriševič\, Dominik Kozjek\nProstor: Laboratorij LAMP
 A SII-82A
END:VEVENT
BEGIN:VEVENT
SUMMARY:Mikroprocesorska krmilja (MPKM)\, Laboratorijske vaje (VL)\, [S3]
DTSTART;TZID=Europe/Ljubljana:20260106T120000
DTEND;TZID=Europe/Ljubljana:20260106T140000
DTSTAMP:20260420T202813Z
UID:fs-AFLABS-URNIK:srecanje:16711-2026-01-06 12:00:00+01:00
DESCRIPTION:Predmet: Mikroprocesorska krmilja (MPKM)\, Laboratorijske vaje
  (VL)\, [S3]\nLetniki: Mehatronika in laserska tehnika (MAG-1)\nIzvajalci:
  Marko Corn\, Anja Juriševič\, Dominik Kozjek\nProstor: Laboratorij LAMP
 A SII-82A
END:VEVENT
BEGIN:VEVENT
SUMMARY:Mikroprocesorska krmilja (MPKM)\, Laboratorijske vaje (VL)\, [S3]
DTSTART;TZID=Europe/Ljubljana:20260113T120000
DTEND;TZID=Europe/Ljubljana:20260113T140000
DTSTAMP:20260420T202813Z
UID:fs-AFLABS-URNIK:srecanje:16711-2026-01-13 12:00:00+01:00
DESCRIPTION:Predmet: Mikroprocesorska krmilja (MPKM)\, Laboratorijske vaje
  (VL)\, [S3]\nLetniki: Mehatronika in laserska tehnika (MAG-1)\nIzvajalci:
  Marko Corn\, Anja Juriševič\, Dominik Kozjek\nProstor: Laboratorij LAMP
 A SII-82A
END:VEVENT
BEGIN:VEVENT
SUMMARY:Digital Control Technology (DCTE)\, Laboratorijske vaje (VL)\, [S1
 ]
DTSTART;TZID=Europe/Ljubljana:20251015T180000
DTEND;TZID=Europe/Ljubljana:20251015T200000
DTSTAMP:20260420T202813Z
UID:fs-AFLABS-URNIK:srecanje:17617-2025-10-15 18:00:00+02:00
DESCRIPTION:Predmet: Digital Control Technology (DCTE)\, Laboratorijske va
 je (VL)\, [S1]\nLetniki: Erasmus (Erasmus)\nIzvajalci: Marko Corn\, Anja J
 uriševič\, Dominik Kozjek\nProstor: Laboratorij LAMPA SII-82A
END:VEVENT
BEGIN:VEVENT
SUMMARY:Digital Control Technology (DCTE)\, Laboratorijske vaje (VL)\, [S1
 ]
DTSTART;TZID=Europe/Ljubljana:20251022T180000
DTEND;TZID=Europe/Ljubljana:20251022T200000
DTSTAMP:20260420T202813Z
UID:fs-AFLABS-URNIK:srecanje:17617-2025-10-22 18:00:00+02:00
DESCRIPTION:Predmet: Digital Control Technology (DCTE)\, Laboratorijske va
 je (VL)\, [S1]\nLetniki: Erasmus (Erasmus)\nIzvajalci: Marko Corn\, Anja J
 uriševič\, Dominik Kozjek\nProstor: Laboratorij LAMPA SII-82A
END:VEVENT
BEGIN:VEVENT
SUMMARY:Digital Control Technology (DCTE)\, Laboratorijske vaje (VL)\, [S1
 ]
DTSTART;TZID=Europe/Ljubljana:20251105T180000
DTEND;TZID=Europe/Ljubljana:20251105T200000
DTSTAMP:20260420T202813Z
UID:fs-AFLABS-URNIK:srecanje:17617-2025-11-05 18:00:00+01:00
DESCRIPTION:Predmet: Digital Control Technology (DCTE)\, Laboratorijske va
 je (VL)\, [S1]\nLetniki: Erasmus (Erasmus)\nIzvajalci: Marko Corn\, Anja J
 uriševič\, Dominik Kozjek\nProstor: Laboratorij LAMPA SII-82A
END:VEVENT
BEGIN:VEVENT
SUMMARY:Digital Control Technology (DCTE)\, Laboratorijske vaje (VL)\, [S1
 ]
DTSTART;TZID=Europe/Ljubljana:20251112T180000
DTEND;TZID=Europe/Ljubljana:20251112T200000
DTSTAMP:20260420T202813Z
UID:fs-AFLABS-URNIK:srecanje:17617-2025-11-12 18:00:00+01:00
DESCRIPTION:Predmet: Digital Control Technology (DCTE)\, Laboratorijske va
 je (VL)\, [S1]\nLetniki: Erasmus (Erasmus)\nIzvajalci: Marko Corn\, Anja J
 uriševič\, Dominik Kozjek\nProstor: Laboratorij LAMPA SII-82A
END:VEVENT
BEGIN:VEVENT
SUMMARY:Digital Control Technology (DCTE)\, Laboratorijske vaje (VL)\, [S1
 ]
DTSTART;TZID=Europe/Ljubljana:20251126T180000
DTEND;TZID=Europe/Ljubljana:20251126T200000
DTSTAMP:20260420T202813Z
UID:fs-AFLABS-URNIK:srecanje:17617-2025-11-26 18:00:00+01:00
DESCRIPTION:Predmet: Digital Control Technology (DCTE)\, Laboratorijske va
 je (VL)\, [S1]\nLetniki: Erasmus (Erasmus)\nIzvajalci: Marko Corn\, Anja J
 uriševič\, Dominik Kozjek\nProstor: Laboratorij LAMPA SII-82A
END:VEVENT
BEGIN:VEVENT
SUMMARY:Digital Control Technology (DCTE)\, Laboratorijske vaje (VL)\, [S1
 ]
DTSTART;TZID=Europe/Ljubljana:20251203T180000
DTEND;TZID=Europe/Ljubljana:20251203T200000
DTSTAMP:20260420T202813Z
UID:fs-AFLABS-URNIK:srecanje:17617-2025-12-03 18:00:00+01:00
DESCRIPTION:Predmet: Digital Control Technology (DCTE)\, Laboratorijske va
 je (VL)\, [S1]\nLetniki: Erasmus (Erasmus)\nIzvajalci: Marko Corn\, Anja J
 uriševič\, Dominik Kozjek\nProstor: Laboratorij LAMPA SII-82A
END:VEVENT
BEGIN:VEVENT
SUMMARY:Digital Control Technology (DCTE)\, Laboratorijske vaje (VL)\, [S1
 ]
DTSTART;TZID=Europe/Ljubljana:20251217T180000
DTEND;TZID=Europe/Ljubljana:20251217T200000
DTSTAMP:20260420T202813Z
UID:fs-AFLABS-URNIK:srecanje:17617-2025-12-17 18:00:00+01:00
DESCRIPTION:Predmet: Digital Control Technology (DCTE)\, Laboratorijske va
 je (VL)\, [S1]\nLetniki: Erasmus (Erasmus)\nIzvajalci: Marko Corn\, Anja J
 uriševič\, Dominik Kozjek\nProstor: Laboratorij LAMPA SII-82A
END:VEVENT
BEGIN:VEVENT
SUMMARY:Digital Control Technology (DCTE)\, Laboratorijske vaje (VL)\, [S1
 ]
DTSTART;TZID=Europe/Ljubljana:20260107T180000
DTEND;TZID=Europe/Ljubljana:20260107T200000
DTSTAMP:20260420T202813Z
UID:fs-AFLABS-URNIK:srecanje:17617-2026-01-07 18:00:00+01:00
DESCRIPTION:Predmet: Digital Control Technology (DCTE)\, Laboratorijske va
 je (VL)\, [S1]\nLetniki: Erasmus (Erasmus)\nIzvajalci: Marko Corn\, Anja J
 uriševič\, Dominik Kozjek\nProstor: Laboratorij LAMPA SII-82A
END:VEVENT
BEGIN:VEVENT
SUMMARY:Digital Control Technology (DCTE)\, Laboratorijske vaje (VL)\, [S1
 ]
DTSTART;TZID=Europe/Ljubljana:20260114T180000
DTEND;TZID=Europe/Ljubljana:20260114T200000
DTSTAMP:20260420T202813Z
UID:fs-AFLABS-URNIK:srecanje:17617-2026-01-14 18:00:00+01:00
DESCRIPTION:Predmet: Digital Control Technology (DCTE)\, Laboratorijske va
 je (VL)\, [S1]\nLetniki: Erasmus (Erasmus)\nIzvajalci: Marko Corn\, Anja J
 uriševič\, Dominik Kozjek\nProstor: Laboratorij LAMPA SII-82A
END:VEVENT
BEGIN:VEVENT
SUMMARY:Mikroprocesorska krmilja (MPKM)\, Laboratorijske vaje (VL)\, [S4]
DTSTART;TZID=Europe/Ljubljana:20251017T140000
DTEND;TZID=Europe/Ljubljana:20251017T160000
DTSTAMP:20260420T202813Z
UID:fs-AFLABS-URNIK:srecanje:17509-2025-10-17 14:00:00+02:00
DESCRIPTION:Predmet: Mikroprocesorska krmilja (MPKM)\, Laboratorijske vaje
  (VL)\, [S4]\nLetniki: Mehatronika in laserska tehnika (MAG-1)\nIzvajalci:
  Marko Corn\, Anja Juriševič\, Dominik Kozjek\nProstor: Laboratorij LAMP
 A SP-45A
END:VEVENT
BEGIN:VEVENT
SUMMARY:Mikroprocesorska krmilja (MPKM)\, Laboratorijske vaje (VL)\, [S4]
DTSTART;TZID=Europe/Ljubljana:20251024T140000
DTEND;TZID=Europe/Ljubljana:20251024T160000
DTSTAMP:20260420T202813Z
UID:fs-AFLABS-URNIK:srecanje:17509-2025-10-24 14:00:00+02:00
DESCRIPTION:Predmet: Mikroprocesorska krmilja (MPKM)\, Laboratorijske vaje
  (VL)\, [S4]\nLetniki: Mehatronika in laserska tehnika (MAG-1)\nIzvajalci:
  Marko Corn\, Anja Juriševič\, Dominik Kozjek\nProstor: Laboratorij LAMP
 A SP-45A
END:VEVENT
BEGIN:VEVENT
SUMMARY:Mikroprocesorska krmilja (MPKM)\, Laboratorijske vaje (VL)\, [S4]
DTSTART;TZID=Europe/Ljubljana:20251107T140000
DTEND;TZID=Europe/Ljubljana:20251107T160000
DTSTAMP:20260420T202813Z
UID:fs-AFLABS-URNIK:srecanje:17509-2025-11-07 14:00:00+01:00
DESCRIPTION:Predmet: Mikroprocesorska krmilja (MPKM)\, Laboratorijske vaje
  (VL)\, [S4]\nLetniki: Mehatronika in laserska tehnika (MAG-1)\nIzvajalci:
  Marko Corn\, Anja Juriševič\, Dominik Kozjek\nProstor: Laboratorij LAMP
 A SP-45A
END:VEVENT
BEGIN:VEVENT
SUMMARY:Mikroprocesorska krmilja (MPKM)\, Laboratorijske vaje (VL)\, [S4]
DTSTART;TZID=Europe/Ljubljana:20251114T140000
DTEND;TZID=Europe/Ljubljana:20251114T160000
DTSTAMP:20260420T202813Z
UID:fs-AFLABS-URNIK:srecanje:17509-2025-11-14 14:00:00+01:00
DESCRIPTION:Predmet: Mikroprocesorska krmilja (MPKM)\, Laboratorijske vaje
  (VL)\, [S4]\nLetniki: Mehatronika in laserska tehnika (MAG-1)\nIzvajalci:
  Marko Corn\, Anja Juriševič\, Dominik Kozjek\nProstor: Laboratorij LAMP
 A SP-45A
END:VEVENT
BEGIN:VEVENT
SUMMARY:Mikroprocesorska krmilja (MPKM)\, Laboratorijske vaje (VL)\, [S4]
DTSTART;TZID=Europe/Ljubljana:20251128T140000
DTEND;TZID=Europe/Ljubljana:20251128T160000
DTSTAMP:20260420T202813Z
UID:fs-AFLABS-URNIK:srecanje:17509-2025-11-28 14:00:00+01:00
DESCRIPTION:Predmet: Mikroprocesorska krmilja (MPKM)\, Laboratorijske vaje
  (VL)\, [S4]\nLetniki: Mehatronika in laserska tehnika (MAG-1)\nIzvajalci:
  Marko Corn\, Anja Juriševič\, Dominik Kozjek\nProstor: Laboratorij LAMP
 A SP-45A
END:VEVENT
BEGIN:VEVENT
SUMMARY:Mikroprocesorska krmilja (MPKM)\, Laboratorijske vaje (VL)\, [S4]
DTSTART;TZID=Europe/Ljubljana:20251205T140000
DTEND;TZID=Europe/Ljubljana:20251205T160000
DTSTAMP:20260420T202813Z
UID:fs-AFLABS-URNIK:srecanje:17509-2025-12-05 14:00:00+01:00
DESCRIPTION:Predmet: Mikroprocesorska krmilja (MPKM)\, Laboratorijske vaje
  (VL)\, [S4]\nLetniki: Mehatronika in laserska tehnika (MAG-1)\nIzvajalci:
  Marko Corn\, Anja Juriševič\, Dominik Kozjek\nProstor: Laboratorij LAMP
 A SP-45A
END:VEVENT
BEGIN:VEVENT
SUMMARY:Mikroprocesorska krmilja (MPKM)\, Laboratorijske vaje (VL)\, [S4]
DTSTART;TZID=Europe/Ljubljana:20251219T140000
DTEND;TZID=Europe/Ljubljana:20251219T160000
DTSTAMP:20260420T202813Z
UID:fs-AFLABS-URNIK:srecanje:17509-2025-12-19 14:00:00+01:00
DESCRIPTION:Predmet: Mikroprocesorska krmilja (MPKM)\, Laboratorijske vaje
  (VL)\, [S4]\nLetniki: Mehatronika in laserska tehnika (MAG-1)\nIzvajalci:
  Marko Corn\, Anja Juriševič\, Dominik Kozjek\nProstor: Laboratorij LAMP
 A SP-45A
END:VEVENT
BEGIN:VEVENT
SUMMARY:Mikroprocesorska krmilja (MPKM)\, Laboratorijske vaje (VL)\, [S4]
DTSTART;TZID=Europe/Ljubljana:20260109T140000
DTEND;TZID=Europe/Ljubljana:20260109T160000
DTSTAMP:20260420T202813Z
UID:fs-AFLABS-URNIK:srecanje:17509-2026-01-09 14:00:00+01:00
DESCRIPTION:Predmet: Mikroprocesorska krmilja (MPKM)\, Laboratorijske vaje
  (VL)\, [S4]\nLetniki: Mehatronika in laserska tehnika (MAG-1)\nIzvajalci:
  Marko Corn\, Anja Juriševič\, Dominik Kozjek\nProstor: Laboratorij LAMP
 A SP-45A
END:VEVENT
BEGIN:VEVENT
SUMMARY:Mikroprocesorska krmilja (MPKM)\, Laboratorijske vaje (VL)\, [S4]
DTSTART;TZID=Europe/Ljubljana:20260116T140000
DTEND;TZID=Europe/Ljubljana:20260116T160000
DTSTAMP:20260420T202813Z
UID:fs-AFLABS-URNIK:srecanje:17509-2026-01-16 14:00:00+01:00
DESCRIPTION:Predmet: Mikroprocesorska krmilja (MPKM)\, Laboratorijske vaje
  (VL)\, [S4]\nLetniki: Mehatronika in laserska tehnika (MAG-1)\nIzvajalci:
  Marko Corn\, Anja Juriševič\, Dominik Kozjek\nProstor: Laboratorij LAMP
 A SP-45A
END:VEVENT
BEGIN:VEVENT
SUMMARY:Kolokvij INIP
DTSTART;TZID=Europe/Ljubljana:20251222T160000
DTEND;TZID=Europe/Ljubljana:20251222T170000
DTSTAMP:20260420T202813Z
UID:fs-AFLABS-URNIK:rezervacija:13111
ATTENDEE:Industrijsko inženirstvo (PAP-3)
CATEGORIES:Reservation
COLOR:royalblue
DESCRIPTION:Predmeti: Investicijski inženiring (INIP)\nLetniki: Industrij
 sko inženirstvo (PAP-3)\nIzvajalci: Anja Juriševič\nProstori: Predavaln
 ica II/2
LOCATION:Predavalnica II/2
ORGANIZER:Anja Juriševič
X-WR-TIMEZONE:Europe/Ljubljana
END:VEVENT
END:VCALENDAR
