BEGIN:VCALENDAR
VERSION:2.0
PRODID:-//AFLabs urnik izvoz - fs//aflabs.si//SI
NAME:UL FS Urnik
X-WR-CALNAME:UL FS Urnik
DTSTAMP:20260426T014112Z
REFRESH-INTERVAL:PT1H
SOURCE:https://urnik.fs.uni-lj.si/teacher/713/?day=2024-09-16&export=1
URL:https://urnik.fs.uni-lj.si/teacher/713/?day=2024-09-16&export=1
X-PUBLISHED-TTL:PT1H
X-WR-TIMEZONE:Europe/Ljubljana
BEGIN:VTIMEZONE
TZID:Europe/Ljubljana
BEGIN:DAYLIGHT
DTSTART:20260329T020000
RDATE:20260329T020000
RDATE:20270328T020000
TZNAME:CEST
TZOFFSETFROM:+0100
TZOFFSETTO:+0200
END:DAYLIGHT
BEGIN:STANDARD
DTSTART:20261025T030000
RDATE:20261025T030000
RDATE:20271031T030000
TZNAME:CET
TZOFFSETFROM:+0200
TZOFFSETTO:+0100
END:STANDARD
END:VTIMEZONE
BEGIN:VEVENT
SUMMARY:Energetika v krožnem gospodarstvu (EKGM)\, Predavanja (P)
DTSTART;TZID=Europe/Ljubljana:20241001T120000
DTEND;TZID=Europe/Ljubljana:20241001T140000
DTSTAMP:20260426T014112Z
UID:fs-AFLABS-URNIK:srecanje:6513-2024-10-01 12:00:00+02:00
DESCRIPTION:Predmet: Energetika v krožnem gospodarstvu (EKGM)\, Predavanj
 a (P)\nLetniki: Energetsko strojništvo (MAG-2)\nIzvajalci: Tomaž Katraš
 nik\, Mihael Sekavčnik\, Tine Seljak\nProstor: Predavalnica III/3B
END:VEVENT
BEGIN:VEVENT
SUMMARY:Energetika v krožnem gospodarstvu (EKGM)\, Predavanja (P)
DTSTART;TZID=Europe/Ljubljana:20241008T120000
DTEND;TZID=Europe/Ljubljana:20241008T140000
DTSTAMP:20260426T014112Z
UID:fs-AFLABS-URNIK:srecanje:6513-2024-10-08 12:00:00+02:00
DESCRIPTION:Predmet: Energetika v krožnem gospodarstvu (EKGM)\, Predavanj
 a (P)\nLetniki: Energetsko strojništvo (MAG-2)\nIzvajalci: Tomaž Katraš
 nik\, Mihael Sekavčnik\, Tine Seljak\nProstor: Predavalnica III/3B
END:VEVENT
BEGIN:VEVENT
SUMMARY:Energetika v krožnem gospodarstvu (EKGM)\, Predavanja (P)
DTSTART;TZID=Europe/Ljubljana:20241015T120000
DTEND;TZID=Europe/Ljubljana:20241015T140000
DTSTAMP:20260426T014112Z
UID:fs-AFLABS-URNIK:srecanje:6513-2024-10-15 12:00:00+02:00
DESCRIPTION:Predmet: Energetika v krožnem gospodarstvu (EKGM)\, Predavanj
 a (P)\nLetniki: Energetsko strojništvo (MAG-2)\nIzvajalci: Tomaž Katraš
 nik\, Mihael Sekavčnik\, Tine Seljak\nProstor: Predavalnica III/3B
END:VEVENT
BEGIN:VEVENT
SUMMARY:Letalski motorji 2 (LM2P)\, Laboratorijske vaje (VL)\, [S2]
DTSTART;TZID=Europe/Ljubljana:20241001T073000
DTEND;TZID=Europe/Ljubljana:20241001T093000
DTSTAMP:20260426T014112Z
UID:fs-AFLABS-URNIK:srecanje:6850-2024-10-01 07:30:00+02:00
DESCRIPTION:Predmet: Letalski motorji 2 (LM2P)\, Laboratorijske vaje (VL)\
 , [S2]\nLetniki: Prometni pilot letala/helikopterja (PAP-3)\, Snovanje in 
 vzdrževanje letal (PAP-3)\nIzvajalci: Tomaž Katrašnik\, Andraž Kravos\
 nProstor: Laboratirij LICEM SK-20
END:VEVENT
BEGIN:VEVENT
SUMMARY:Letalski motorji 2 (LM2P)\, Laboratorijske vaje (VL)\, [S2]
DTSTART;TZID=Europe/Ljubljana:20241008T073000
DTEND;TZID=Europe/Ljubljana:20241008T093000
DTSTAMP:20260426T014112Z
UID:fs-AFLABS-URNIK:srecanje:6850-2024-10-08 07:30:00+02:00
DESCRIPTION:Predmet: Letalski motorji 2 (LM2P)\, Laboratorijske vaje (VL)\
 , [S2]\nLetniki: Prometni pilot letala/helikopterja (PAP-3)\, Snovanje in 
 vzdrževanje letal (PAP-3)\nIzvajalci: Tomaž Katrašnik\, Andraž Kravos\
 nProstor: Laboratirij LICEM SK-20
END:VEVENT
BEGIN:VEVENT
SUMMARY:Letalski motorji 2 (LM2P)\, Laboratorijske vaje (VL)\, [S2]
DTSTART;TZID=Europe/Ljubljana:20241015T073000
DTEND;TZID=Europe/Ljubljana:20241015T093000
DTSTAMP:20260426T014112Z
UID:fs-AFLABS-URNIK:srecanje:6850-2024-10-15 07:30:00+02:00
DESCRIPTION:Predmet: Letalski motorji 2 (LM2P)\, Laboratorijske vaje (VL)\
 , [S2]\nLetniki: Prometni pilot letala/helikopterja (PAP-3)\, Snovanje in 
 vzdrževanje letal (PAP-3)\nIzvajalci: Tomaž Katrašnik\, Andraž Kravos\
 nProstor: Laboratirij LICEM SK-20
END:VEVENT
BEGIN:VEVENT
SUMMARY:Pogoni (PGNR)\, Predavanja (P)
DTSTART;TZID=Europe/Ljubljana:20241001T120000
DTEND;TZID=Europe/Ljubljana:20241001T140000
DTSTAMP:20260426T014112Z
UID:fs-AFLABS-URNIK:srecanje:7148-2024-10-01 12:00:00+02:00
DESCRIPTION:Predmet: Pogoni (PGNR)\, Predavanja (P)\nLetniki: RRP-3 (RRP-3
 )\nIzvajalci: Mitjan Kalin\, Tomaž Katrašnik\nProstor: Predavalnica IV/2
END:VEVENT
BEGIN:VEVENT
SUMMARY:Pogoni (PGNR)\, Predavanja (P)
DTSTART;TZID=Europe/Ljubljana:20241008T120000
DTEND;TZID=Europe/Ljubljana:20241008T140000
DTSTAMP:20260426T014112Z
UID:fs-AFLABS-URNIK:srecanje:7148-2024-10-08 12:00:00+02:00
DESCRIPTION:Predmet: Pogoni (PGNR)\, Predavanja (P)\nLetniki: RRP-3 (RRP-3
 )\nIzvajalci: Mitjan Kalin\, Tomaž Katrašnik\nProstor: Predavalnica IV/2
END:VEVENT
BEGIN:VEVENT
SUMMARY:Pogoni (PGNR)\, Predavanja (P)
DTSTART;TZID=Europe/Ljubljana:20241015T120000
DTEND;TZID=Europe/Ljubljana:20241015T140000
DTSTAMP:20260426T014112Z
UID:fs-AFLABS-URNIK:srecanje:7148-2024-10-15 12:00:00+02:00
DESCRIPTION:Predmet: Pogoni (PGNR)\, Predavanja (P)\nLetniki: RRP-3 (RRP-3
 )\nIzvajalci: Mitjan Kalin\, Tomaž Katrašnik\nProstor: Predavalnica IV/2
END:VEVENT
BEGIN:VEVENT
SUMMARY:Letalski motorji 2 (LM2P)\, Laboratorijske vaje (VL)\, [S1]
DTSTART;TZID=Europe/Ljubljana:20241002T153000
DTEND;TZID=Europe/Ljubljana:20241002T173000
DTSTAMP:20260426T014112Z
UID:fs-AFLABS-URNIK:srecanje:6849-2024-10-02 15:30:00+02:00
DESCRIPTION:Predmet: Letalski motorji 2 (LM2P)\, Laboratorijske vaje (VL)\
 , [S1]\nLetniki: Prometni pilot letala/helikopterja (PAP-3)\, Snovanje in 
 vzdrževanje letal (PAP-3)\nIzvajalci: Tomaž Katrašnik\, Andraž Kravos\
 nProstor: Laboratirij LICEM SK-20
END:VEVENT
BEGIN:VEVENT
SUMMARY:Letalski motorji 2 (LM2P)\, Laboratorijske vaje (VL)\, [S1]
DTSTART;TZID=Europe/Ljubljana:20241009T153000
DTEND;TZID=Europe/Ljubljana:20241009T173000
DTSTAMP:20260426T014112Z
UID:fs-AFLABS-URNIK:srecanje:6849-2024-10-09 15:30:00+02:00
DESCRIPTION:Predmet: Letalski motorji 2 (LM2P)\, Laboratorijske vaje (VL)\
 , [S1]\nLetniki: Prometni pilot letala/helikopterja (PAP-3)\, Snovanje in 
 vzdrževanje letal (PAP-3)\nIzvajalci: Tomaž Katrašnik\, Andraž Kravos\
 nProstor: Laboratirij LICEM SK-20
END:VEVENT
BEGIN:VEVENT
SUMMARY:Letalski motorji 2 (LM2P)\, Laboratorijske vaje (VL)\, [S1]
DTSTART;TZID=Europe/Ljubljana:20241016T153000
DTEND;TZID=Europe/Ljubljana:20241016T173000
DTSTAMP:20260426T014112Z
UID:fs-AFLABS-URNIK:srecanje:6849-2024-10-16 15:30:00+02:00
DESCRIPTION:Predmet: Letalski motorji 2 (LM2P)\, Laboratorijske vaje (VL)\
 , [S1]\nLetniki: Prometni pilot letala/helikopterja (PAP-3)\, Snovanje in 
 vzdrževanje letal (PAP-3)\nIzvajalci: Tomaž Katrašnik\, Andraž Kravos\
 nProstor: Laboratirij LICEM SK-20
END:VEVENT
BEGIN:VEVENT
SUMMARY:Motorji z notranjim zgorevanjem in elektromobilnost (MNZP)\, Preda
 valniške vaje (VP)
DTSTART;TZID=Europe/Ljubljana:20241004T160000
DTEND;TZID=Europe/Ljubljana:20241004T180000
DTSTAMP:20260426T014112Z
UID:fs-AFLABS-URNIK:srecanje:6984-2024-10-04 16:00:00+02:00
DESCRIPTION:Predmet: Motorji z notranjim zgorevanjem in elektromobilnost (
 MNZP)\, Predavalniške vaje (VP)\nLetniki: Energetsko strojništvo (PAP-3)
 \nIzvajalci: Tomaž Katrašnik\nProstor: Predavalnica II/3B
END:VEVENT
BEGIN:VEVENT
SUMMARY:Elektromobilnost (ELMM)\, Predavanja (P)
DTSTART;TZID=Europe/Ljubljana:20241007T100000
DTEND;TZID=Europe/Ljubljana:20241007T120000
DTSTAMP:20260426T014112Z
UID:fs-AFLABS-URNIK:srecanje:6484-2024-10-07 10:00:00+02:00
DESCRIPTION:Predmet: Elektromobilnost (ELMM)\, Predavanja (P)\nLetniki: En
 ergetsko strojništvo (MAG-2)\nIzvajalci: Tomaž Katrašnik\nProstor: Pred
 avalnica IV/3A
END:VEVENT
BEGIN:VEVENT
SUMMARY:Elektromobilnost (ELMM)\, Predavanja (P)
DTSTART;TZID=Europe/Ljubljana:20241014T100000
DTEND;TZID=Europe/Ljubljana:20241014T120000
DTSTAMP:20260426T014112Z
UID:fs-AFLABS-URNIK:srecanje:6484-2024-10-14 10:00:00+02:00
DESCRIPTION:Predmet: Elektromobilnost (ELMM)\, Predavanja (P)\nLetniki: En
 ergetsko strojništvo (MAG-2)\nIzvajalci: Tomaž Katrašnik\nProstor: Pred
 avalnica IV/3A
END:VEVENT
BEGIN:VEVENT
SUMMARY:Elektromobilnost (ELMM)\, Predavanja (P)
DTSTART;TZID=Europe/Ljubljana:20241021T100000
DTEND;TZID=Europe/Ljubljana:20241021T120000
DTSTAMP:20260426T014112Z
UID:fs-AFLABS-URNIK:srecanje:6484-2024-10-21 10:00:00+02:00
DESCRIPTION:Predmet: Elektromobilnost (ELMM)\, Predavanja (P)\nLetniki: En
 ergetsko strojništvo (MAG-2)\nIzvajalci: Tomaž Katrašnik\nProstor: Pred
 avalnica IV/3A
END:VEVENT
BEGIN:VEVENT
SUMMARY:Letalski motorji 2 (LM2P)\, Predavanja (P)
DTSTART;TZID=Europe/Ljubljana:20241007T073000
DTEND;TZID=Europe/Ljubljana:20241007T093000
DTSTAMP:20260426T014112Z
UID:fs-AFLABS-URNIK:srecanje:10291-2024-10-07 07:30:00+02:00
DESCRIPTION:Predmet: Letalski motorji 2 (LM2P)\, Predavanja (P)\nLetniki: 
 Prometni pilot letala/helikopterja (PAP-3)\, Snovanje in vzdrževanje leta
 l (PAP-3)\nIzvajalci: Tomaž Katrašnik\nProstor: Predavalnica II/3A
END:VEVENT
BEGIN:VEVENT
SUMMARY:Letalski motorji 2 (LM2P)\, Predavanja (P)
DTSTART;TZID=Europe/Ljubljana:20241014T073000
DTEND;TZID=Europe/Ljubljana:20241014T093000
DTSTAMP:20260426T014112Z
UID:fs-AFLABS-URNIK:srecanje:10291-2024-10-14 07:30:00+02:00
DESCRIPTION:Predmet: Letalski motorji 2 (LM2P)\, Predavanja (P)\nLetniki: 
 Prometni pilot letala/helikopterja (PAP-3)\, Snovanje in vzdrževanje leta
 l (PAP-3)\nIzvajalci: Tomaž Katrašnik\nProstor: Predavalnica II/3A
END:VEVENT
BEGIN:VEVENT
SUMMARY:Letalski motorji 2 (LM2P)\, Predavanja (P)
DTSTART;TZID=Europe/Ljubljana:20241021T073000
DTEND;TZID=Europe/Ljubljana:20241021T093000
DTSTAMP:20260426T014112Z
UID:fs-AFLABS-URNIK:srecanje:10291-2024-10-21 07:30:00+02:00
DESCRIPTION:Predmet: Letalski motorji 2 (LM2P)\, Predavanja (P)\nLetniki: 
 Prometni pilot letala/helikopterja (PAP-3)\, Snovanje in vzdrževanje leta
 l (PAP-3)\nIzvajalci: Tomaž Katrašnik\nProstor: Predavalnica II/3A
END:VEVENT
BEGIN:VEVENT
SUMMARY:Motorji z notranjim zgorevanjem in elektromobilnost (MNZP)\, Preda
 vanja (P)
DTSTART;TZID=Europe/Ljubljana:20241007T113000
DTEND;TZID=Europe/Ljubljana:20241007T133000
DTSTAMP:20260426T014112Z
UID:fs-AFLABS-URNIK:srecanje:6979-2024-10-07 11:30:00+02:00
DESCRIPTION:Predmet: Motorji z notranjim zgorevanjem in elektromobilnost (
 MNZP)\, Predavanja (P)\nLetniki: Energetsko strojništvo (PAP-3)\nIzvajalc
 i: Tomaž Katrašnik\nProstor: Predavalnica IV/3A
END:VEVENT
BEGIN:VEVENT
SUMMARY:Motorji z notranjim zgorevanjem in elektromobilnost (MNZP)\, Preda
 vanja (P)
DTSTART;TZID=Europe/Ljubljana:20241014T113000
DTEND;TZID=Europe/Ljubljana:20241014T133000
DTSTAMP:20260426T014112Z
UID:fs-AFLABS-URNIK:srecanje:6979-2024-10-14 11:30:00+02:00
DESCRIPTION:Predmet: Motorji z notranjim zgorevanjem in elektromobilnost (
 MNZP)\, Predavanja (P)\nLetniki: Energetsko strojništvo (PAP-3)\nIzvajalc
 i: Tomaž Katrašnik\nProstor: Predavalnica IV/3A
END:VEVENT
BEGIN:VEVENT
SUMMARY:Motorji z notranjim zgorevanjem in elektromobilnost (MNZP)\, Preda
 vanja (P)
DTSTART;TZID=Europe/Ljubljana:20241021T113000
DTEND;TZID=Europe/Ljubljana:20241021T133000
DTSTAMP:20260426T014112Z
UID:fs-AFLABS-URNIK:srecanje:6979-2024-10-21 11:30:00+02:00
DESCRIPTION:Predmet: Motorji z notranjim zgorevanjem in elektromobilnost (
 MNZP)\, Predavanja (P)\nLetniki: Energetsko strojništvo (PAP-3)\nIzvajalc
 i: Tomaž Katrašnik\nProstor: Predavalnica IV/3A
END:VEVENT
BEGIN:VEVENT
SUMMARY:Napredni procesi zgorevanja (NPZM)\, Predavanja (P)
DTSTART;TZID=Europe/Ljubljana:20241007T100000
DTEND;TZID=Europe/Ljubljana:20241007T120000
DTSTAMP:20260426T014112Z
UID:fs-AFLABS-URNIK:srecanje:7025-2024-10-07 10:00:00+02:00
DESCRIPTION:Predmet: Napredni procesi zgorevanja (NPZM)\, Predavanja (P)\n
 Letniki: Energetsko strojništvo (MAG-1)\nIzvajalci: Tomaž Katrašnik\, M
 itja Mori\, Tine Seljak\, Andrej Senegačnik\nProstor: Predavalnica III/4
END:VEVENT
BEGIN:VEVENT
SUMMARY:Napredni procesi zgorevanja (NPZM)\, Predavanja (P)
DTSTART;TZID=Europe/Ljubljana:20241014T100000
DTEND;TZID=Europe/Ljubljana:20241014T120000
DTSTAMP:20260426T014112Z
UID:fs-AFLABS-URNIK:srecanje:7025-2024-10-14 10:00:00+02:00
DESCRIPTION:Predmet: Napredni procesi zgorevanja (NPZM)\, Predavanja (P)\n
 Letniki: Energetsko strojništvo (MAG-1)\nIzvajalci: Tomaž Katrašnik\, M
 itja Mori\, Tine Seljak\, Andrej Senegačnik\nProstor: Predavalnica III/4
END:VEVENT
BEGIN:VEVENT
SUMMARY:Napredni procesi zgorevanja (NPZM)\, Predavanja (P)
DTSTART;TZID=Europe/Ljubljana:20241021T100000
DTEND;TZID=Europe/Ljubljana:20241021T120000
DTSTAMP:20260426T014112Z
UID:fs-AFLABS-URNIK:srecanje:7025-2024-10-21 10:00:00+02:00
DESCRIPTION:Predmet: Napredni procesi zgorevanja (NPZM)\, Predavanja (P)\n
 Letniki: Energetsko strojništvo (MAG-1)\nIzvajalci: Tomaž Katrašnik\, M
 itja Mori\, Tine Seljak\, Andrej Senegačnik\nProstor: Predavalnica III/4
END:VEVENT
BEGIN:VEVENT
SUMMARY:Izpit: Letalski motorji 1
DTSTART;TZID=Europe/Ljubljana:20240812T090000
DTEND;TZID=Europe/Ljubljana:20240812T110000
DTSTAMP:20260426T014112Z
UID:fs-AFLABS-URNIK:rezervacija:5391
ATTENDEE:Prometni pilot letala/helikopterja (PAP-2)
ATTENDEE:Snovanje in vzdrževanje letal (PAP-2)
CATEGORIES:Reservation
COLOR:royalblue
DESCRIPTION:Predmeti: Letalski motorji 1 (LM1P)\nLetniki: Prometni pilot l
 etala/helikopterja (PAP-2)\, Snovanje in vzdrževanje letal (PAP-2)\nIzvaj
 alci: Tomaž Katrašnik\nProstori: Predavalnica III/3A
LOCATION:Predavalnica III/3A
ORGANIZER:Tomaž Katrašnik
X-WR-TIMEZONE:Europe/Ljubljana
END:VEVENT
BEGIN:VEVENT
SUMMARY:Izpit: Electromobility
DTSTART;TZID=Europe/Ljubljana:20240814T150000
DTEND;TZID=Europe/Ljubljana:20240814T170000
DTSTAMP:20260426T014112Z
UID:fs-AFLABS-URNIK:rezervacija:5449
ATTENDEE:Erasmus (Erasmus)
CATEGORIES:Reservation
COLOR:royalblue
DESCRIPTION:Predmeti: Electromobility (ELME)\nLetniki: Erasmus (Erasmus)\n
 Izvajalci: Tomaž Katrašnik\nProstori: Predavalnica II/2
LOCATION:Predavalnica II/2
ORGANIZER:Tomaž Katrašnik
X-WR-TIMEZONE:Europe/Ljubljana
END:VEVENT
BEGIN:VEVENT
SUMMARY:Izpit: Elektromobilnost
DTSTART;TZID=Europe/Ljubljana:20240814T150000
DTEND;TZID=Europe/Ljubljana:20240814T170000
DTSTAMP:20260426T014112Z
UID:fs-AFLABS-URNIK:rezervacija:5450
ATTENDEE:Energetsko strojništvo (MAG-2)
CATEGORIES:Reservation
COLOR:royalblue
DESCRIPTION:Predmeti: Elektromobilnost (ELMM)\nLetniki: Energetsko strojni
 štvo (MAG-2)\nIzvajalci: Tomaž Katrašnik\nProstori: Predavalnica II/2
LOCATION:Predavalnica II/2
ORGANIZER:Tomaž Katrašnik
X-WR-TIMEZONE:Europe/Ljubljana
END:VEVENT
BEGIN:VEVENT
SUMMARY:Izpit: Pogonski agregati vozil (6216)
DTSTART;TZID=Europe/Ljubljana:20240814T110000
DTEND;TZID=Europe/Ljubljana:20240814T130000
DTSTAMP:20260426T014112Z
UID:fs-AFLABS-URNIK:rezervacija:5451
CATEGORIES:Reservation
COLOR:royalblue
DESCRIPTION:Predmeti: \nLetniki: \nIzvajalci: Tomaž Katrašnik\nProstori:
  Predavalnica III/3A
LOCATION:Predavalnica III/3A
ORGANIZER:Tomaž Katrašnik
X-WR-TIMEZONE:Europe/Ljubljana
END:VEVENT
BEGIN:VEVENT
SUMMARY:Izpit: Procesi v toplotnih motorjih
DTSTART;TZID=Europe/Ljubljana:20240814T130000
DTEND;TZID=Europe/Ljubljana:20240814T150000
DTSTAMP:20260426T014112Z
UID:fs-AFLABS-URNIK:rezervacija:5452
ATTENDEE:Energetsko strojništvo (MAG-1)
CATEGORIES:Reservation
COLOR:royalblue
DESCRIPTION:Predmeti: Procesi v toplotnih motorjih (PTMM)\nLetniki: Energe
 tsko strojništvo (MAG-1)\nIzvajalci: Tomaž Katrašnik\nProstori: Predava
 lnica II/2
LOCATION:Predavalnica II/2
ORGANIZER:Tomaž Katrašnik
X-WR-TIMEZONE:Europe/Ljubljana
END:VEVENT
BEGIN:VEVENT
SUMMARY:Izpit: Procesi v toplotnih motorjih (6259)
DTSTART;TZID=Europe/Ljubljana:20240814T130000
DTEND;TZID=Europe/Ljubljana:20240814T150000
DTSTAMP:20260426T014112Z
UID:fs-AFLABS-URNIK:rezervacija:5453
CATEGORIES:Reservation
COLOR:royalblue
DESCRIPTION:Predmeti: \nLetniki: \nIzvajalci: Tomaž Katrašnik\nProstori:
  Predavalnica II/2
LOCATION:Predavalnica II/2
ORGANIZER:Tomaž Katrašnik
X-WR-TIMEZONE:Europe/Ljubljana
END:VEVENT
BEGIN:VEVENT
SUMMARY:Izpit: Letalski motorji 1 (3135)
DTSTART;TZID=Europe/Ljubljana:20240820T090000
DTEND;TZID=Europe/Ljubljana:20240820T110000
DTSTAMP:20260426T014112Z
UID:fs-AFLABS-URNIK:rezervacija:5559
CATEGORIES:Reservation
COLOR:royalblue
DESCRIPTION:Predmeti: \nLetniki: \nIzvajalci: Tomaž Katrašnik\nProstori:
  Predavalnica IV/3A
LOCATION:Predavalnica IV/3A
ORGANIZER:Tomaž Katrašnik
X-WR-TIMEZONE:Europe/Ljubljana
END:VEVENT
BEGIN:VEVENT
SUMMARY:Izpit: Letalski motorji 2
DTSTART;TZID=Europe/Ljubljana:20240820T090000
DTEND;TZID=Europe/Ljubljana:20240820T110000
DTSTAMP:20260426T014112Z
UID:fs-AFLABS-URNIK:rezervacija:5560
ATTENDEE:Prometni pilot letala/helikopterja (PAP-3)
ATTENDEE:Snovanje in vzdrževanje letal (PAP-3)
CATEGORIES:Reservation
COLOR:royalblue
DESCRIPTION:Predmeti: Letalski motorji 2 (LM2P)\nLetniki: Prometni pilot l
 etala/helikopterja (PAP-3)\, Snovanje in vzdrževanje letal (PAP-3)\nIzvaj
 alci: Tomaž Katrašnik\nProstori: Predavalnica III/3A
LOCATION:Predavalnica III/3A
ORGANIZER:Tomaž Katrašnik
X-WR-TIMEZONE:Europe/Ljubljana
END:VEVENT
BEGIN:VEVENT
SUMMARY:Izpit: Letalski motorji 2 (3127)
DTSTART;TZID=Europe/Ljubljana:20240820T090000
DTEND;TZID=Europe/Ljubljana:20240820T110000
DTSTAMP:20260426T014112Z
UID:fs-AFLABS-URNIK:rezervacija:5561
CATEGORIES:Reservation
COLOR:royalblue
DESCRIPTION:Predmeti: \nLetniki: \nIzvajalci: Tomaž Katrašnik\nProstori:
  Predavalnica III/3A
LOCATION:Predavalnica III/3A
ORGANIZER:Tomaž Katrašnik
X-WR-TIMEZONE:Europe/Ljubljana
END:VEVENT
BEGIN:VEVENT
SUMMARY:Izpit: Motorji z notranjim zgorevanjem (3052)
DTSTART;TZID=Europe/Ljubljana:20240820T110000
DTEND;TZID=Europe/Ljubljana:20240820T130000
DTSTAMP:20260426T014112Z
UID:fs-AFLABS-URNIK:rezervacija:5562
CATEGORIES:Reservation
COLOR:royalblue
DESCRIPTION:Predmeti: \nLetniki: \nIzvajalci: Tomaž Katrašnik\nProstori:
  Predavalnica III/3A
LOCATION:Predavalnica III/3A
ORGANIZER:Tomaž Katrašnik
X-WR-TIMEZONE:Europe/Ljubljana
END:VEVENT
BEGIN:VEVENT
SUMMARY:Izpit: Motorji z notranjim zgorevanjem in elektromobilnost
DTSTART;TZID=Europe/Ljubljana:20240820T110000
DTEND;TZID=Europe/Ljubljana:20240820T130000
DTSTAMP:20260426T014112Z
UID:fs-AFLABS-URNIK:rezervacija:5563
ATTENDEE:Energetsko strojništvo (PAP-3)
CATEGORIES:Reservation
COLOR:royalblue
DESCRIPTION:Predmeti: Motorji z notranjim zgorevanjem in elektromobilnost 
 (MNZP)\nLetniki: Energetsko strojništvo (PAP-3)\nIzvajalci: Tomaž Katra
 šnik\nProstori: Predavalnica III/3A
LOCATION:Predavalnica III/3A
ORGANIZER:Tomaž Katrašnik
X-WR-TIMEZONE:Europe/Ljubljana
END:VEVENT
BEGIN:VEVENT
SUMMARY:sestanek LICeM
DTSTART;TZID=Europe/Ljubljana:20240813T090000
DTEND;TZID=Europe/Ljubljana:20240813T100000
DTSTAMP:20260426T014112Z
UID:fs-AFLABS-URNIK:rezervacija:5969
CATEGORIES:Reservation
COLOR:royalblue
DESCRIPTION:Predmeti: \nLetniki: \nIzvajalci: Tomaž Katrašnik\, Jacinta 
 Podbršček\nProstori: Predavalnica III/3A
LOCATION:Predavalnica III/3A
ORGANIZER:Tomaž Katrašnik, Jacinta Podbršček
X-WR-TIMEZONE:Europe/Ljubljana
END:VEVENT
BEGIN:VEVENT
SUMMARY:Zagovor diplome Lan Podpečan in Leon Čepin
DTSTART;TZID=Europe/Ljubljana:20240902T140000
DTEND;TZID=Europe/Ljubljana:20240902T153000
DTSTAMP:20260426T014112Z
UID:fs-AFLABS-URNIK:rezervacija:6109
CATEGORIES:Reservation
COLOR:royalblue
DESCRIPTION:Predmeti: \nLetniki: \nIzvajalci: Tomaž Katrašnik\, Klemen Z
 elič\nProstori: Predavalnica II/3A
LOCATION:Predavalnica II/3A
ORGANIZER:Tomaž Katrašnik, Klemen Zelič
X-WR-TIMEZONE:Europe/Ljubljana
END:VEVENT
BEGIN:VEVENT
SUMMARY:Sestanek laboratorija
DTSTART;TZID=Europe/Ljubljana:20240828T080000
DTEND;TZID=Europe/Ljubljana:20240828T110000
DTSTAMP:20260426T014112Z
UID:fs-AFLABS-URNIK:rezervacija:6130
CATEGORIES:Reservation
COLOR:royalblue
DESCRIPTION:Predmeti: \nLetniki: \nIzvajalci: Tomaž Katrašnik\nProstori:
  Predavalnica IV/3B
LOCATION:Predavalnica IV/3B
ORGANIZER:Tomaž Katrašnik
X-WR-TIMEZONE:Europe/Ljubljana
END:VEVENT
BEGIN:VEVENT
SUMMARY:LICeM
DTSTART;TZID=Europe/Ljubljana:20240910T120000
DTEND;TZID=Europe/Ljubljana:20240910T133000
DTSTAMP:20260426T014112Z
UID:fs-AFLABS-URNIK:rezervacija:6225
CATEGORIES:Reservation
COLOR:royalblue
DESCRIPTION:Predmeti: \nLetniki: \nIzvajalci: Tomaž Katrašnik\, Jacinta 
 Podbršček\nProstori: Mala sejna soba
LOCATION:Mala sejna soba
ORGANIZER:Tomaž Katrašnik, Jacinta Podbršček
X-WR-TIMEZONE:Europe/Ljubljana
END:VEVENT
BEGIN:VEVENT
SUMMARY:Zagovor diplome J. Mavec
DTSTART;TZID=Europe/Ljubljana:20240912T090000
DTEND;TZID=Europe/Ljubljana:20240912T100000
DTSTAMP:20260426T014112Z
UID:fs-AFLABS-URNIK:rezervacija:6240
CATEGORIES:Reservation
COLOR:royalblue
DESCRIPTION:Predmeti: \nLetniki: \nIzvajalci: Tomaž Katrašnik\, Klemen Z
 elič\nProstori: Predavalnica II/3B
LOCATION:Predavalnica II/3B
ORGANIZER:Tomaž Katrašnik, Klemen Zelič
X-WR-TIMEZONE:Europe/Ljubljana
END:VEVENT
BEGIN:VEVENT
SUMMARY:sestanek LICeM
DTSTART;TZID=Europe/Ljubljana:20240925T100000
DTEND;TZID=Europe/Ljubljana:20240925T110000
DTSTAMP:20260426T014112Z
UID:fs-AFLABS-URNIK:rezervacija:6287
CATEGORIES:Reservation
COLOR:royalblue
DESCRIPTION:Predmeti: \nLetniki: \nIzvajalci: Tomaž Katrašnik\, Jacinta 
 Podbršček\nProstori: Predavalnica II/3A
LOCATION:Predavalnica II/3A
ORGANIZER:Tomaž Katrašnik, Jacinta Podbršček
X-WR-TIMEZONE:Europe/Ljubljana
END:VEVENT
BEGIN:VEVENT
SUMMARY:sestanek
DTSTART;TZID=Europe/Ljubljana:20240923T100000
DTEND;TZID=Europe/Ljubljana:20240923T113000
DTSTAMP:20260426T014112Z
UID:fs-AFLABS-URNIK:rezervacija:6290
CATEGORIES:Reservation
COLOR:royalblue
DESCRIPTION:Predmeti: \nLetniki: \nIzvajalci: Tomaž Katrašnik\nProstori:
  Mala sejna soba
LOCATION:Mala sejna soba
ORGANIZER:Tomaž Katrašnik
X-WR-TIMEZONE:Europe/Ljubljana
END:VEVENT
BEGIN:VEVENT
SUMMARY:sestanek LICeM in Viharjenje
DTSTART;TZID=Europe/Ljubljana:20241007T140000
DTEND;TZID=Europe/Ljubljana:20241007T150000
DTSTAMP:20260426T014112Z
UID:fs-AFLABS-URNIK:rezervacija:8085
CATEGORIES:Reservation
COLOR:royalblue
DESCRIPTION:Predmeti: \nLetniki: \nIzvajalci: Tomaž Katrašnik\, Jacinta 
 Podbršček\nProstori: Predavalnica II/3A
LOCATION:Predavalnica II/3A
ORGANIZER:Tomaž Katrašnik, Jacinta Podbršček
X-WR-TIMEZONE:Europe/Ljubljana
END:VEVENT
BEGIN:VEVENT
SUMMARY:sestanek LICeM in Viharjenje
DTSTART;TZID=Europe/Ljubljana:20241021T140000
DTEND;TZID=Europe/Ljubljana:20241021T150000
DTSTAMP:20260426T014112Z
UID:fs-AFLABS-URNIK:rezervacija:8086
CATEGORIES:Reservation
COLOR:royalblue
DESCRIPTION:Predmeti: \nLetniki: \nIzvajalci: Tomaž Katrašnik\, Jacinta 
 Podbršček\nProstori: Predavalnica II/3A
LOCATION:Predavalnica II/3A
ORGANIZER:Tomaž Katrašnik, Jacinta Podbršček
X-WR-TIMEZONE:Europe/Ljubljana
END:VEVENT
BEGIN:VEVENT
SUMMARY:sestanek LICeM
DTSTART;TZID=Europe/Ljubljana:20241015T103000
DTEND;TZID=Europe/Ljubljana:20241015T113000
DTSTAMP:20260426T014112Z
UID:fs-AFLABS-URNIK:rezervacija:8100
CATEGORIES:Reservation
COLOR:royalblue
DESCRIPTION:Predmeti: \nLetniki: \nIzvajalci: Tomaž Katrašnik\, Jacinta 
 Podbršček\nProstori: Predavalnica II/5
LOCATION:Predavalnica II/5
ORGANIZER:Tomaž Katrašnik, Jacinta Podbršček
X-WR-TIMEZONE:Europe/Ljubljana
END:VEVENT
END:VCALENDAR
