BEGIN:VCALENDAR
VERSION:2.0
PRODID:-//AFLabs urnik izvoz - fs//aflabs.si//SI
NAME:UL FS Urnik
X-WR-CALNAME:UL FS Urnik
DTSTAMP:20260419T204320Z
REFRESH-INTERVAL:PT1H
SOURCE:https://urnik.fs.uni-lj.si/teacher/713/?day=2025-04-21&export=1
URL:https://urnik.fs.uni-lj.si/teacher/713/?day=2025-04-21&export=1
X-PUBLISHED-TTL:PT1H
X-WR-TIMEZONE:Europe/Ljubljana
BEGIN:VTIMEZONE
TZID:Europe/Ljubljana
BEGIN:DAYLIGHT
DTSTART:20260329T020000
RDATE:20260329T020000
RDATE:20270328T020000
TZNAME:CEST
TZOFFSETFROM:+0100
TZOFFSETTO:+0200
END:DAYLIGHT
BEGIN:STANDARD
DTSTART:20261025T030000
RDATE:20261025T030000
RDATE:20271031T030000
TZNAME:CET
TZOFFSETFROM:+0200
TZOFFSETTO:+0100
END:STANDARD
END:VTIMEZONE
BEGIN:VEVENT
SUMMARY:Letalski motorji 1 (LM1P)\, Predavanja (P)
DTSTART;TZID=Europe/Ljubljana:20250218T113000
DTEND;TZID=Europe/Ljubljana:20250218T143000
DTSTAMP:20260419T204320Z
UID:fs-AFLABS-URNIK:srecanje:9656-2025-02-18 11:30:00+01:00
DESCRIPTION:Predmet: Letalski motorji 1 (LM1P)\, Predavanja (P)\nLetniki: 
 Prometni pilot letala/helikopterja (PAP-2)\, Snovanje in vzdrževanje leta
 l (PAP-2)\nIzvajalci: Tomaž Katrašnik\nProstor: Predavalnica V/2
END:VEVENT
BEGIN:VEVENT
SUMMARY:Letalski motorji 1 (LM1P)\, Predavanja (P)
DTSTART;TZID=Europe/Ljubljana:20250225T113000
DTEND;TZID=Europe/Ljubljana:20250225T143000
DTSTAMP:20260419T204320Z
UID:fs-AFLABS-URNIK:srecanje:9656-2025-02-25 11:30:00+01:00
DESCRIPTION:Predmet: Letalski motorji 1 (LM1P)\, Predavanja (P)\nLetniki: 
 Prometni pilot letala/helikopterja (PAP-2)\, Snovanje in vzdrževanje leta
 l (PAP-2)\nIzvajalci: Tomaž Katrašnik\nProstor: Predavalnica V/2
END:VEVENT
BEGIN:VEVENT
SUMMARY:Letalski motorji 1 (LM1P)\, Predavanja (P)
DTSTART;TZID=Europe/Ljubljana:20250304T113000
DTEND;TZID=Europe/Ljubljana:20250304T143000
DTSTAMP:20260419T204320Z
UID:fs-AFLABS-URNIK:srecanje:9656-2025-03-04 11:30:00+01:00
DESCRIPTION:Predmet: Letalski motorji 1 (LM1P)\, Predavanja (P)\nLetniki: 
 Prometni pilot letala/helikopterja (PAP-2)\, Snovanje in vzdrževanje leta
 l (PAP-2)\nIzvajalci: Tomaž Katrašnik\nProstor: Predavalnica V/2
END:VEVENT
BEGIN:VEVENT
SUMMARY:Letalski motorji 1 (LM1P)\, Predavanja (P)
DTSTART;TZID=Europe/Ljubljana:20250311T113000
DTEND;TZID=Europe/Ljubljana:20250311T143000
DTSTAMP:20260419T204320Z
UID:fs-AFLABS-URNIK:srecanje:9656-2025-03-11 11:30:00+01:00
DESCRIPTION:Predmet: Letalski motorji 1 (LM1P)\, Predavanja (P)\nLetniki: 
 Prometni pilot letala/helikopterja (PAP-2)\, Snovanje in vzdrževanje leta
 l (PAP-2)\nIzvajalci: Tomaž Katrašnik\nProstor: Predavalnica V/2
END:VEVENT
BEGIN:VEVENT
SUMMARY:Letalski motorji 1 (LM1P)\, Predavanja (P)
DTSTART;TZID=Europe/Ljubljana:20250318T113000
DTEND;TZID=Europe/Ljubljana:20250318T143000
DTSTAMP:20260419T204320Z
UID:fs-AFLABS-URNIK:srecanje:9656-2025-03-18 11:30:00+01:00
DESCRIPTION:Predmet: Letalski motorji 1 (LM1P)\, Predavanja (P)\nLetniki: 
 Prometni pilot letala/helikopterja (PAP-2)\, Snovanje in vzdrževanje leta
 l (PAP-2)\nIzvajalci: Tomaž Katrašnik\nProstor: Predavalnica V/2
END:VEVENT
BEGIN:VEVENT
SUMMARY:Letalski motorji 1 (LM1P)\, Predavanja (P)
DTSTART;TZID=Europe/Ljubljana:20250325T113000
DTEND;TZID=Europe/Ljubljana:20250325T143000
DTSTAMP:20260419T204320Z
UID:fs-AFLABS-URNIK:srecanje:9656-2025-03-25 11:30:00+01:00
DESCRIPTION:Predmet: Letalski motorji 1 (LM1P)\, Predavanja (P)\nLetniki: 
 Prometni pilot letala/helikopterja (PAP-2)\, Snovanje in vzdrževanje leta
 l (PAP-2)\nIzvajalci: Tomaž Katrašnik\nProstor: Predavalnica V/2
END:VEVENT
BEGIN:VEVENT
SUMMARY:Letalski motorji 1 (LM1P)\, Predavanja (P)
DTSTART;TZID=Europe/Ljubljana:20250401T113000
DTEND;TZID=Europe/Ljubljana:20250401T143000
DTSTAMP:20260419T204320Z
UID:fs-AFLABS-URNIK:srecanje:9656-2025-04-01 11:30:00+02:00
DESCRIPTION:Predmet: Letalski motorji 1 (LM1P)\, Predavanja (P)\nLetniki: 
 Prometni pilot letala/helikopterja (PAP-2)\, Snovanje in vzdrževanje leta
 l (PAP-2)\nIzvajalci: Tomaž Katrašnik\nProstor: Predavalnica V/2
END:VEVENT
BEGIN:VEVENT
SUMMARY:Letalski motorji 1 (LM1P)\, Predavanja (P)
DTSTART;TZID=Europe/Ljubljana:20250408T113000
DTEND;TZID=Europe/Ljubljana:20250408T143000
DTSTAMP:20260419T204320Z
UID:fs-AFLABS-URNIK:srecanje:9656-2025-04-08 11:30:00+02:00
DESCRIPTION:Predmet: Letalski motorji 1 (LM1P)\, Predavanja (P)\nLetniki: 
 Prometni pilot letala/helikopterja (PAP-2)\, Snovanje in vzdrževanje leta
 l (PAP-2)\nIzvajalci: Tomaž Katrašnik\nProstor: Predavalnica V/2
END:VEVENT
BEGIN:VEVENT
SUMMARY:Letalski motorji 1 (LM1P)\, Predavanja (P)
DTSTART;TZID=Europe/Ljubljana:20250415T113000
DTEND;TZID=Europe/Ljubljana:20250415T143000
DTSTAMP:20260419T204320Z
UID:fs-AFLABS-URNIK:srecanje:9656-2025-04-15 11:30:00+02:00
DESCRIPTION:Predmet: Letalski motorji 1 (LM1P)\, Predavanja (P)\nLetniki: 
 Prometni pilot letala/helikopterja (PAP-2)\, Snovanje in vzdrževanje leta
 l (PAP-2)\nIzvajalci: Tomaž Katrašnik\nProstor: Predavalnica V/2
END:VEVENT
BEGIN:VEVENT
SUMMARY:Letalski motorji 1 (LM1P)\, Predavanja (P)
DTSTART;TZID=Europe/Ljubljana:20250422T113000
DTEND;TZID=Europe/Ljubljana:20250422T143000
DTSTAMP:20260419T204320Z
UID:fs-AFLABS-URNIK:srecanje:9656-2025-04-22 11:30:00+02:00
DESCRIPTION:Predmet: Letalski motorji 1 (LM1P)\, Predavanja (P)\nLetniki: 
 Prometni pilot letala/helikopterja (PAP-2)\, Snovanje in vzdrževanje leta
 l (PAP-2)\nIzvajalci: Tomaž Katrašnik\nProstor: Predavalnica V/2
END:VEVENT
BEGIN:VEVENT
SUMMARY:Letalski motorji 1 (LM1P)\, Predavanja (P)
DTSTART;TZID=Europe/Ljubljana:20250429T113000
DTEND;TZID=Europe/Ljubljana:20250429T143000
DTSTAMP:20260419T204320Z
UID:fs-AFLABS-URNIK:srecanje:9656-2025-04-29 11:30:00+02:00
DESCRIPTION:Predmet: Letalski motorji 1 (LM1P)\, Predavanja (P)\nLetniki: 
 Prometni pilot letala/helikopterja (PAP-2)\, Snovanje in vzdrževanje leta
 l (PAP-2)\nIzvajalci: Tomaž Katrašnik\nProstor: Predavalnica V/2
END:VEVENT
BEGIN:VEVENT
SUMMARY:Letalski motorji 1 (LM1P)\, Predavanja (P)
DTSTART;TZID=Europe/Ljubljana:20250506T113000
DTEND;TZID=Europe/Ljubljana:20250506T143000
DTSTAMP:20260419T204320Z
UID:fs-AFLABS-URNIK:srecanje:9656-2025-05-06 11:30:00+02:00
DESCRIPTION:Predmet: Letalski motorji 1 (LM1P)\, Predavanja (P)\nLetniki: 
 Prometni pilot letala/helikopterja (PAP-2)\, Snovanje in vzdrževanje leta
 l (PAP-2)\nIzvajalci: Tomaž Katrašnik\nProstor: Predavalnica V/2
END:VEVENT
BEGIN:VEVENT
SUMMARY:Letalski motorji 1 (LM1P)\, Predavanja (P)
DTSTART;TZID=Europe/Ljubljana:20250513T113000
DTEND;TZID=Europe/Ljubljana:20250513T143000
DTSTAMP:20260419T204320Z
UID:fs-AFLABS-URNIK:srecanje:9656-2025-05-13 11:30:00+02:00
DESCRIPTION:Predmet: Letalski motorji 1 (LM1P)\, Predavanja (P)\nLetniki: 
 Prometni pilot letala/helikopterja (PAP-2)\, Snovanje in vzdrževanje leta
 l (PAP-2)\nIzvajalci: Tomaž Katrašnik\nProstor: Predavalnica V/2
END:VEVENT
BEGIN:VEVENT
SUMMARY:Letalski motorji 1 (LM1P)\, Predavanja (P)
DTSTART;TZID=Europe/Ljubljana:20250520T113000
DTEND;TZID=Europe/Ljubljana:20250520T143000
DTSTAMP:20260419T204320Z
UID:fs-AFLABS-URNIK:srecanje:9656-2025-05-20 11:30:00+02:00
DESCRIPTION:Predmet: Letalski motorji 1 (LM1P)\, Predavanja (P)\nLetniki: 
 Prometni pilot letala/helikopterja (PAP-2)\, Snovanje in vzdrževanje leta
 l (PAP-2)\nIzvajalci: Tomaž Katrašnik\nProstor: Predavalnica V/2
END:VEVENT
BEGIN:VEVENT
SUMMARY:Letalski motorji 1 (LM1P)\, Predavanja (P)
DTSTART;TZID=Europe/Ljubljana:20250527T113000
DTEND;TZID=Europe/Ljubljana:20250527T143000
DTSTAMP:20260419T204320Z
UID:fs-AFLABS-URNIK:srecanje:9656-2025-05-27 11:30:00+02:00
DESCRIPTION:Predmet: Letalski motorji 1 (LM1P)\, Predavanja (P)\nLetniki: 
 Prometni pilot letala/helikopterja (PAP-2)\, Snovanje in vzdrževanje leta
 l (PAP-2)\nIzvajalci: Tomaž Katrašnik\nProstor: Predavalnica V/2
END:VEVENT
BEGIN:VEVENT
SUMMARY:Procesi v toplotnih motorjih (PTMM)\, Predavanja (P)
DTSTART;TZID=Europe/Ljubljana:20250218T100000
DTEND;TZID=Europe/Ljubljana:20250218T120000
DTSTAMP:20260419T204320Z
UID:fs-AFLABS-URNIK:srecanje:14459-2025-02-18 10:00:00+01:00
DESCRIPTION:Predmet: Procesi v toplotnih motorjih (PTMM)\, Predavanja (P)\
 nLetniki: Energetsko strojništvo (MAG-1)\nIzvajalci: Tomaž Katrašnik\nP
 rostor: Predavalnica IV/3B
END:VEVENT
BEGIN:VEVENT
SUMMARY:Electromobility (ELME)\, Predavanja (P)
DTSTART;TZID=Europe/Ljubljana:20250219T100000
DTEND;TZID=Europe/Ljubljana:20250219T120000
DTSTAMP:20260419T204320Z
UID:fs-AFLABS-URNIK:srecanje:9432-2025-02-19 10:00:00+01:00
DESCRIPTION:Predmet: Electromobility (ELME)\, Predavanja (P)\nLetniki: Era
 smus (Erasmus)\nIzvajalci: Tomaž Katrašnik\, Klemen Zelič\nProstor: Pre
 davalnica I/4A
END:VEVENT
BEGIN:VEVENT
SUMMARY:Electromobility (ELME)\, Predavanja (P)
DTSTART;TZID=Europe/Ljubljana:20250226T100000
DTEND;TZID=Europe/Ljubljana:20250226T120000
DTSTAMP:20260419T204320Z
UID:fs-AFLABS-URNIK:srecanje:9432-2025-02-26 10:00:00+01:00
DESCRIPTION:Predmet: Electromobility (ELME)\, Predavanja (P)\nLetniki: Era
 smus (Erasmus)\nIzvajalci: Tomaž Katrašnik\, Klemen Zelič\nProstor: Pre
 davalnica I/4A
END:VEVENT
BEGIN:VEVENT
SUMMARY:Electromobility (ELME)\, Predavanja (P)
DTSTART;TZID=Europe/Ljubljana:20250305T100000
DTEND;TZID=Europe/Ljubljana:20250305T120000
DTSTAMP:20260419T204320Z
UID:fs-AFLABS-URNIK:srecanje:9432-2025-03-05 10:00:00+01:00
DESCRIPTION:Predmet: Electromobility (ELME)\, Predavanja (P)\nLetniki: Era
 smus (Erasmus)\nIzvajalci: Tomaž Katrašnik\, Klemen Zelič\nProstor: Pre
 davalnica I/4A
END:VEVENT
BEGIN:VEVENT
SUMMARY:Electromobility (ELME)\, Predavanja (P)
DTSTART;TZID=Europe/Ljubljana:20250312T100000
DTEND;TZID=Europe/Ljubljana:20250312T120000
DTSTAMP:20260419T204320Z
UID:fs-AFLABS-URNIK:srecanje:9432-2025-03-12 10:00:00+01:00
DESCRIPTION:Predmet: Electromobility (ELME)\, Predavanja (P)\nLetniki: Era
 smus (Erasmus)\nIzvajalci: Tomaž Katrašnik\, Klemen Zelič\nProstor: Pre
 davalnica I/4A
END:VEVENT
BEGIN:VEVENT
SUMMARY:Electromobility (ELME)\, Predavanja (P)
DTSTART;TZID=Europe/Ljubljana:20250319T100000
DTEND;TZID=Europe/Ljubljana:20250319T120000
DTSTAMP:20260419T204320Z
UID:fs-AFLABS-URNIK:srecanje:9432-2025-03-19 10:00:00+01:00
DESCRIPTION:Predmet: Electromobility (ELME)\, Predavanja (P)\nLetniki: Era
 smus (Erasmus)\nIzvajalci: Tomaž Katrašnik\, Klemen Zelič\nProstor: Pre
 davalnica I/4A
END:VEVENT
BEGIN:VEVENT
SUMMARY:Electromobility (ELME)\, Predavanja (P)
DTSTART;TZID=Europe/Ljubljana:20250326T100000
DTEND;TZID=Europe/Ljubljana:20250326T120000
DTSTAMP:20260419T204320Z
UID:fs-AFLABS-URNIK:srecanje:9432-2025-03-26 10:00:00+01:00
DESCRIPTION:Predmet: Electromobility (ELME)\, Predavanja (P)\nLetniki: Era
 smus (Erasmus)\nIzvajalci: Tomaž Katrašnik\, Klemen Zelič\nProstor: Pre
 davalnica I/4A
END:VEVENT
BEGIN:VEVENT
SUMMARY:Electromobility (ELME)\, Predavanja (P)
DTSTART;TZID=Europe/Ljubljana:20250402T100000
DTEND;TZID=Europe/Ljubljana:20250402T120000
DTSTAMP:20260419T204320Z
UID:fs-AFLABS-URNIK:srecanje:9432-2025-04-02 10:00:00+02:00
DESCRIPTION:Predmet: Electromobility (ELME)\, Predavanja (P)\nLetniki: Era
 smus (Erasmus)\nIzvajalci: Tomaž Katrašnik\, Klemen Zelič\nProstor: Pre
 davalnica I/4A
END:VEVENT
BEGIN:VEVENT
SUMMARY:Electromobility (ELME)\, Predavanja (P)
DTSTART;TZID=Europe/Ljubljana:20250409T100000
DTEND;TZID=Europe/Ljubljana:20250409T120000
DTSTAMP:20260419T204320Z
UID:fs-AFLABS-URNIK:srecanje:9432-2025-04-09 10:00:00+02:00
DESCRIPTION:Predmet: Electromobility (ELME)\, Predavanja (P)\nLetniki: Era
 smus (Erasmus)\nIzvajalci: Tomaž Katrašnik\, Klemen Zelič\nProstor: Pre
 davalnica I/4A
END:VEVENT
BEGIN:VEVENT
SUMMARY:Electromobility (ELME)\, Predavanja (P)
DTSTART;TZID=Europe/Ljubljana:20250416T100000
DTEND;TZID=Europe/Ljubljana:20250416T120000
DTSTAMP:20260419T204320Z
UID:fs-AFLABS-URNIK:srecanje:9432-2025-04-16 10:00:00+02:00
DESCRIPTION:Predmet: Electromobility (ELME)\, Predavanja (P)\nLetniki: Era
 smus (Erasmus)\nIzvajalci: Tomaž Katrašnik\, Klemen Zelič\nProstor: Pre
 davalnica I/4A
END:VEVENT
BEGIN:VEVENT
SUMMARY:Electromobility (ELME)\, Predavanja (P)
DTSTART;TZID=Europe/Ljubljana:20250423T100000
DTEND;TZID=Europe/Ljubljana:20250423T120000
DTSTAMP:20260419T204320Z
UID:fs-AFLABS-URNIK:srecanje:9432-2025-04-23 10:00:00+02:00
DESCRIPTION:Predmet: Electromobility (ELME)\, Predavanja (P)\nLetniki: Era
 smus (Erasmus)\nIzvajalci: Tomaž Katrašnik\, Klemen Zelič\nProstor: Pre
 davalnica I/4A
END:VEVENT
BEGIN:VEVENT
SUMMARY:Electromobility (ELME)\, Predavanja (P)
DTSTART;TZID=Europe/Ljubljana:20250430T100000
DTEND;TZID=Europe/Ljubljana:20250430T120000
DTSTAMP:20260419T204320Z
UID:fs-AFLABS-URNIK:srecanje:9432-2025-04-30 10:00:00+02:00
DESCRIPTION:Predmet: Electromobility (ELME)\, Predavanja (P)\nLetniki: Era
 smus (Erasmus)\nIzvajalci: Tomaž Katrašnik\, Klemen Zelič\nProstor: Pre
 davalnica I/4A
END:VEVENT
BEGIN:VEVENT
SUMMARY:Electromobility (ELME)\, Predavanja (P)
DTSTART;TZID=Europe/Ljubljana:20250507T100000
DTEND;TZID=Europe/Ljubljana:20250507T120000
DTSTAMP:20260419T204320Z
UID:fs-AFLABS-URNIK:srecanje:9432-2025-05-07 10:00:00+02:00
DESCRIPTION:Predmet: Electromobility (ELME)\, Predavanja (P)\nLetniki: Era
 smus (Erasmus)\nIzvajalci: Tomaž Katrašnik\, Klemen Zelič\nProstor: Pre
 davalnica I/4A
END:VEVENT
BEGIN:VEVENT
SUMMARY:Electromobility (ELME)\, Predavanja (P)
DTSTART;TZID=Europe/Ljubljana:20250514T100000
DTEND;TZID=Europe/Ljubljana:20250514T120000
DTSTAMP:20260419T204320Z
UID:fs-AFLABS-URNIK:srecanje:9432-2025-05-14 10:00:00+02:00
DESCRIPTION:Predmet: Electromobility (ELME)\, Predavanja (P)\nLetniki: Era
 smus (Erasmus)\nIzvajalci: Tomaž Katrašnik\, Klemen Zelič\nProstor: Pre
 davalnica I/4A
END:VEVENT
BEGIN:VEVENT
SUMMARY:Electromobility (ELME)\, Predavanja (P)
DTSTART;TZID=Europe/Ljubljana:20250521T100000
DTEND;TZID=Europe/Ljubljana:20250521T120000
DTSTAMP:20260419T204320Z
UID:fs-AFLABS-URNIK:srecanje:9432-2025-05-21 10:00:00+02:00
DESCRIPTION:Predmet: Electromobility (ELME)\, Predavanja (P)\nLetniki: Era
 smus (Erasmus)\nIzvajalci: Tomaž Katrašnik\, Klemen Zelič\nProstor: Pre
 davalnica I/4A
END:VEVENT
BEGIN:VEVENT
SUMMARY:Electromobility (ELME)\, Predavanja (P)
DTSTART;TZID=Europe/Ljubljana:20250528T100000
DTEND;TZID=Europe/Ljubljana:20250528T120000
DTSTAMP:20260419T204320Z
UID:fs-AFLABS-URNIK:srecanje:9432-2025-05-28 10:00:00+02:00
DESCRIPTION:Predmet: Electromobility (ELME)\, Predavanja (P)\nLetniki: Era
 smus (Erasmus)\nIzvajalci: Tomaž Katrašnik\, Klemen Zelič\nProstor: Pre
 davalnica I/4A
END:VEVENT
BEGIN:VEVENT
SUMMARY:Procesi v toplotnih motorjih (PTMM)\, Predavanja (P)
DTSTART;TZID=Europe/Ljubljana:20250225T100000
DTEND;TZID=Europe/Ljubljana:20250225T120000
DTSTAMP:20260419T204320Z
UID:fs-AFLABS-URNIK:srecanje:9972-2025-02-25 10:00:00+01:00
DESCRIPTION:Predmet: Procesi v toplotnih motorjih (PTMM)\, Predavanja (P)\
 nLetniki: Energetsko strojništvo (MAG-1)\nIzvajalci: Tomaž Katrašnik\nP
 rostor: Predavalnica IV/3B
END:VEVENT
BEGIN:VEVENT
SUMMARY:Procesi v toplotnih motorjih (PTMM)\, Predavanja (P)
DTSTART;TZID=Europe/Ljubljana:20250304T100000
DTEND;TZID=Europe/Ljubljana:20250304T120000
DTSTAMP:20260419T204320Z
UID:fs-AFLABS-URNIK:srecanje:14456-2025-03-04 10:00:00+01:00
DESCRIPTION:Predmet: Procesi v toplotnih motorjih (PTMM)\, Predavanja (P)\
 nLetniki: Energetsko strojništvo (MAG-1)\nIzvajalci: Tomaž Katrašnik\nP
 rostor: Predavalnica IV/3B
END:VEVENT
BEGIN:VEVENT
SUMMARY:Procesi v toplotnih motorjih (PTMM)\, Predavanja (P)
DTSTART;TZID=Europe/Ljubljana:20250311T100000
DTEND;TZID=Europe/Ljubljana:20250311T120000
DTSTAMP:20260419T204320Z
UID:fs-AFLABS-URNIK:srecanje:9973-2025-03-11 10:00:00+01:00
DESCRIPTION:Predmet: Procesi v toplotnih motorjih (PTMM)\, Predavanja (P)\
 nLetniki: Energetsko strojništvo (MAG-1)\nIzvajalci: Tomaž Katrašnik\nP
 rostor: Predavalnica IV/3B
END:VEVENT
BEGIN:VEVENT
SUMMARY:Procesi v toplotnih motorjih (PTMM)\, Predavanja (P)
DTSTART;TZID=Europe/Ljubljana:20250318T100000
DTEND;TZID=Europe/Ljubljana:20250318T120000
DTSTAMP:20260419T204320Z
UID:fs-AFLABS-URNIK:srecanje:9973-2025-03-18 10:00:00+01:00
DESCRIPTION:Predmet: Procesi v toplotnih motorjih (PTMM)\, Predavanja (P)\
 nLetniki: Energetsko strojništvo (MAG-1)\nIzvajalci: Tomaž Katrašnik\nP
 rostor: Predavalnica IV/3B
END:VEVENT
BEGIN:VEVENT
SUMMARY:Procesi v toplotnih motorjih (PTMM)\, Predavanja (P)
DTSTART;TZID=Europe/Ljubljana:20250325T100000
DTEND;TZID=Europe/Ljubljana:20250325T120000
DTSTAMP:20260419T204320Z
UID:fs-AFLABS-URNIK:srecanje:9973-2025-03-25 10:00:00+01:00
DESCRIPTION:Predmet: Procesi v toplotnih motorjih (PTMM)\, Predavanja (P)\
 nLetniki: Energetsko strojništvo (MAG-1)\nIzvajalci: Tomaž Katrašnik\nP
 rostor: Predavalnica IV/3B
END:VEVENT
BEGIN:VEVENT
SUMMARY:Procesi v toplotnih motorjih (PTMM)\, Predavanja (P)
DTSTART;TZID=Europe/Ljubljana:20250401T100000
DTEND;TZID=Europe/Ljubljana:20250401T120000
DTSTAMP:20260419T204320Z
UID:fs-AFLABS-URNIK:srecanje:9973-2025-04-01 10:00:00+02:00
DESCRIPTION:Predmet: Procesi v toplotnih motorjih (PTMM)\, Predavanja (P)\
 nLetniki: Energetsko strojništvo (MAG-1)\nIzvajalci: Tomaž Katrašnik\nP
 rostor: Predavalnica IV/3B
END:VEVENT
BEGIN:VEVENT
SUMMARY:Procesi v toplotnih motorjih (PTMM)\, Predavanja (P)
DTSTART;TZID=Europe/Ljubljana:20250408T100000
DTEND;TZID=Europe/Ljubljana:20250408T120000
DTSTAMP:20260419T204320Z
UID:fs-AFLABS-URNIK:srecanje:9973-2025-04-08 10:00:00+02:00
DESCRIPTION:Predmet: Procesi v toplotnih motorjih (PTMM)\, Predavanja (P)\
 nLetniki: Energetsko strojništvo (MAG-1)\nIzvajalci: Tomaž Katrašnik\nP
 rostor: Predavalnica IV/3B
END:VEVENT
BEGIN:VEVENT
SUMMARY:Procesi v toplotnih motorjih (PTMM)\, Predavanja (P)
DTSTART;TZID=Europe/Ljubljana:20250415T100000
DTEND;TZID=Europe/Ljubljana:20250415T120000
DTSTAMP:20260419T204320Z
UID:fs-AFLABS-URNIK:srecanje:9973-2025-04-15 10:00:00+02:00
DESCRIPTION:Predmet: Procesi v toplotnih motorjih (PTMM)\, Predavanja (P)\
 nLetniki: Energetsko strojništvo (MAG-1)\nIzvajalci: Tomaž Katrašnik\nP
 rostor: Predavalnica IV/3B
END:VEVENT
BEGIN:VEVENT
SUMMARY:Procesi v toplotnih motorjih (PTMM)\, Predavanja (P)
DTSTART;TZID=Europe/Ljubljana:20250422T100000
DTEND;TZID=Europe/Ljubljana:20250422T120000
DTSTAMP:20260419T204320Z
UID:fs-AFLABS-URNIK:srecanje:9973-2025-04-22 10:00:00+02:00
DESCRIPTION:Predmet: Procesi v toplotnih motorjih (PTMM)\, Predavanja (P)\
 nLetniki: Energetsko strojništvo (MAG-1)\nIzvajalci: Tomaž Katrašnik\nP
 rostor: Predavalnica IV/3B
END:VEVENT
BEGIN:VEVENT
SUMMARY:Procesi v toplotnih motorjih (PTMM)\, Predavanja (P)
DTSTART;TZID=Europe/Ljubljana:20250429T100000
DTEND;TZID=Europe/Ljubljana:20250429T120000
DTSTAMP:20260419T204320Z
UID:fs-AFLABS-URNIK:srecanje:9973-2025-04-29 10:00:00+02:00
DESCRIPTION:Predmet: Procesi v toplotnih motorjih (PTMM)\, Predavanja (P)\
 nLetniki: Energetsko strojništvo (MAG-1)\nIzvajalci: Tomaž Katrašnik\nP
 rostor: Predavalnica IV/3B
END:VEVENT
BEGIN:VEVENT
SUMMARY:Procesi v toplotnih motorjih (PTMM)\, Predavanja (P)
DTSTART;TZID=Europe/Ljubljana:20250506T100000
DTEND;TZID=Europe/Ljubljana:20250506T120000
DTSTAMP:20260419T204320Z
UID:fs-AFLABS-URNIK:srecanje:9973-2025-05-06 10:00:00+02:00
DESCRIPTION:Predmet: Procesi v toplotnih motorjih (PTMM)\, Predavanja (P)\
 nLetniki: Energetsko strojništvo (MAG-1)\nIzvajalci: Tomaž Katrašnik\nP
 rostor: Predavalnica IV/3B
END:VEVENT
BEGIN:VEVENT
SUMMARY:Procesi v toplotnih motorjih (PTMM)\, Predavanja (P)
DTSTART;TZID=Europe/Ljubljana:20250513T100000
DTEND;TZID=Europe/Ljubljana:20250513T120000
DTSTAMP:20260419T204320Z
UID:fs-AFLABS-URNIK:srecanje:9973-2025-05-13 10:00:00+02:00
DESCRIPTION:Predmet: Procesi v toplotnih motorjih (PTMM)\, Predavanja (P)\
 nLetniki: Energetsko strojništvo (MAG-1)\nIzvajalci: Tomaž Katrašnik\nP
 rostor: Predavalnica IV/3B
END:VEVENT
BEGIN:VEVENT
SUMMARY:Procesi v toplotnih motorjih (PTMM)\, Predavanja (P)
DTSTART;TZID=Europe/Ljubljana:20250520T100000
DTEND;TZID=Europe/Ljubljana:20250520T120000
DTSTAMP:20260419T204320Z
UID:fs-AFLABS-URNIK:srecanje:9973-2025-05-20 10:00:00+02:00
DESCRIPTION:Predmet: Procesi v toplotnih motorjih (PTMM)\, Predavanja (P)\
 nLetniki: Energetsko strojništvo (MAG-1)\nIzvajalci: Tomaž Katrašnik\nP
 rostor: Predavalnica IV/3B
END:VEVENT
BEGIN:VEVENT
SUMMARY:Procesi v toplotnih motorjih (PTMM)\, Predavanja (P)
DTSTART;TZID=Europe/Ljubljana:20250527T100000
DTEND;TZID=Europe/Ljubljana:20250527T120000
DTSTAMP:20260419T204320Z
UID:fs-AFLABS-URNIK:srecanje:9973-2025-05-27 10:00:00+02:00
DESCRIPTION:Predmet: Procesi v toplotnih motorjih (PTMM)\, Predavanja (P)\
 nLetniki: Energetsko strojništvo (MAG-1)\nIzvajalci: Tomaž Katrašnik\nP
 rostor: Predavalnica IV/3B
END:VEVENT
BEGIN:VEVENT
SUMMARY:Sestanek NextBMS - LICeM
DTSTART;TZID=Europe/Ljubljana:20250218T140000
DTEND;TZID=Europe/Ljubljana:20250218T163000
DTSTAMP:20260419T204320Z
UID:fs-AFLABS-URNIK:rezervacija:9259
CATEGORIES:Reservation
COLOR:royalblue
DESCRIPTION:Predmeti: \nLetniki: \nIzvajalci: Tomaž Katrašnik\, Igor Mel
 e\nProstori: Mala sejna soba
LOCATION:Mala sejna soba
ORGANIZER:Tomaž Katrašnik, Igor Mele
X-WR-TIMEZONE:Europe/Ljubljana
END:VEVENT
BEGIN:VEVENT
SUMMARY:Projektni sestanek
DTSTART;TZID=Europe/Ljubljana:20250220T080000
DTEND;TZID=Europe/Ljubljana:20250220T150000
DTSTAMP:20260419T204320Z
UID:fs-AFLABS-URNIK:rezervacija:9295
CATEGORIES:Reservation
COLOR:royalblue
DESCRIPTION:Predmeti: \nLetniki: \nIzvajalci: Tomaž Katrašnik\nProstori:
  Leskovarjeva soba
LOCATION:Leskovarjeva soba
ORGANIZER:Tomaž Katrašnik
X-WR-TIMEZONE:Europe/Ljubljana
END:VEVENT
BEGIN:VEVENT
SUMMARY:sestanek
DTSTART;TZID=Europe/Ljubljana:20250227T113000
DTEND;TZID=Europe/Ljubljana:20250227T133000
DTSTAMP:20260419T204320Z
UID:fs-AFLABS-URNIK:rezervacija:9485
CATEGORIES:Reservation
COLOR:royalblue
DESCRIPTION:Predmeti: \nLetniki: \nIzvajalci: Tomaž Katrašnik\, Jacinta 
 Podbršček\nProstori: Predavalnica II/3A
LOCATION:Predavalnica II/3A
ORGANIZER:Tomaž Katrašnik, Jacinta Podbršček
X-WR-TIMEZONE:Europe/Ljubljana
END:VEVENT
BEGIN:VEVENT
SUMMARY:sestanek LICeM
DTSTART;TZID=Europe/Ljubljana:20250304T090000
DTEND;TZID=Europe/Ljubljana:20250304T100000
DTSTAMP:20260419T204320Z
UID:fs-AFLABS-URNIK:rezervacija:9506
CATEGORIES:Reservation
COLOR:royalblue
DESCRIPTION:Predmeti: \nLetniki: \nIzvajalci: Tomaž Katrašnik\nProstori:
  Predavalnica IV/3A
LOCATION:Predavalnica IV/3A
ORGANIZER:Tomaž Katrašnik
X-WR-TIMEZONE:Europe/Ljubljana
END:VEVENT
BEGIN:VEVENT
SUMMARY:sestanek LICeM
DTSTART;TZID=Europe/Ljubljana:20250319T103000
DTEND;TZID=Europe/Ljubljana:20250319T113000
DTSTAMP:20260419T204320Z
UID:fs-AFLABS-URNIK:rezervacija:9632
CATEGORIES:Reservation
COLOR:royalblue
DESCRIPTION:Predmeti: \nLetniki: \nIzvajalci: Tomaž Katrašnik\nProstori:
  Predavalnica II/3A
LOCATION:Predavalnica II/3A
ORGANIZER:Tomaž Katrašnik
X-WR-TIMEZONE:Europe/Ljubljana
END:VEVENT
BEGIN:VEVENT
SUMMARY:sestanek
DTSTART;TZID=Europe/Ljubljana:20250319T123000
DTEND;TZID=Europe/Ljubljana:20250319T133000
DTSTAMP:20260419T204320Z
UID:fs-AFLABS-URNIK:rezervacija:9662
CATEGORIES:Reservation
COLOR:royalblue
DESCRIPTION:Predmeti: \nLetniki: \nIzvajalci: Tomaž Katrašnik\nProstori:
  Mala sejna soba
LOCATION:Mala sejna soba
ORGANIZER:Tomaž Katrašnik
X-WR-TIMEZONE:Europe/Ljubljana
END:VEVENT
BEGIN:VEVENT
SUMMARY:NEXT/InnoBMS workshop
DTSTART;TZID=Europe/Ljubljana:20250508T130000
DTEND;TZID=Europe/Ljubljana:20250508T153000
DTSTAMP:20260419T204320Z
UID:fs-AFLABS-URNIK:rezervacija:9724
CATEGORIES:Reservation
COLOR:royalblue
DESCRIPTION:Predmeti: \nLetniki: \nIzvajalci: Tomaž Katrašnik\nProstori:
  Predavalnica II/3A
LOCATION:Predavalnica II/3A
ORGANIZER:Tomaž Katrašnik
X-WR-TIMEZONE:Europe/Ljubljana
END:VEVENT
BEGIN:VEVENT
SUMMARY:sestanek LICeM
DTSTART;TZID=Europe/Ljubljana:20250409T100000
DTEND;TZID=Europe/Ljubljana:20250409T110000
DTSTAMP:20260419T204320Z
UID:fs-AFLABS-URNIK:rezervacija:9869
CATEGORIES:Reservation
COLOR:royalblue
DESCRIPTION:Predmeti: \nLetniki: \nIzvajalci: Tomaž Katrašnik\nProstori:
  Predavalnica II/3A
LOCATION:Predavalnica II/3A
ORGANIZER:Tomaž Katrašnik
X-WR-TIMEZONE:Europe/Ljubljana
END:VEVENT
BEGIN:VEVENT
SUMMARY:sestanek LICeM
DTSTART;TZID=Europe/Ljubljana:20250418T100000
DTEND;TZID=Europe/Ljubljana:20250418T110000
DTSTAMP:20260419T204320Z
UID:fs-AFLABS-URNIK:rezervacija:9912
CATEGORIES:Reservation
COLOR:royalblue
DESCRIPTION:Predmeti: \nLetniki: \nIzvajalci: Tomaž Katrašnik\nProstori:
  Predavalnica II/3A
LOCATION:Predavalnica II/3A
ORGANIZER:Tomaž Katrašnik
X-WR-TIMEZONE:Europe/Ljubljana
END:VEVENT
BEGIN:VEVENT
SUMMARY:NEXT/InnoBMS workshop
DTSTART;TZID=Europe/Ljubljana:20250508T130000
DTEND;TZID=Europe/Ljubljana:20250508T153000
DTSTAMP:20260419T204320Z
UID:fs-AFLABS-URNIK:rezervacija:9919
CATEGORIES:Reservation
COLOR:royalblue
DESCRIPTION:Predmeti: \nLetniki: \nIzvajalci: Tomaž Katrašnik\nProstori:
  Predavalnica II/2
LOCATION:Predavalnica II/2
ORGANIZER:Tomaž Katrašnik
X-WR-TIMEZONE:Europe/Ljubljana
END:VEVENT
BEGIN:VEVENT
SUMMARY:sestanek LICeM
DTSTART;TZID=Europe/Ljubljana:20250506T140000
DTEND;TZID=Europe/Ljubljana:20250506T150000
DTSTAMP:20260419T204320Z
UID:fs-AFLABS-URNIK:rezervacija:9993
CATEGORIES:Reservation
COLOR:royalblue
DESCRIPTION:Predmeti: \nLetniki: \nIzvajalci: Tomaž Katrašnik\nProstori:
  Predavalnica II/5
LOCATION:Predavalnica II/5
ORGANIZER:Tomaž Katrašnik
X-WR-TIMEZONE:Europe/Ljubljana
END:VEVENT
BEGIN:VEVENT
SUMMARY:sestanek
DTSTART;TZID=Europe/Ljubljana:20250508T100000
DTEND;TZID=Europe/Ljubljana:20250508T110000
DTSTAMP:20260419T204320Z
UID:fs-AFLABS-URNIK:rezervacija:10020
CATEGORIES:Reservation
COLOR:royalblue
DESCRIPTION:Predmeti: \nLetniki: \nIzvajalci: Tomaž Katrašnik\nProstori:
  Mala sejna soba
LOCATION:Mala sejna soba
ORGANIZER:Tomaž Katrašnik
X-WR-TIMEZONE:Europe/Ljubljana
END:VEVENT
BEGIN:VEVENT
SUMMARY:sestanek LICeM
DTSTART;TZID=Europe/Ljubljana:20250514T120000
DTEND;TZID=Europe/Ljubljana:20250514T130000
DTSTAMP:20260419T204320Z
UID:fs-AFLABS-URNIK:rezervacija:10056
CATEGORIES:Reservation
COLOR:royalblue
DESCRIPTION:Predmeti: \nLetniki: \nIzvajalci: Tomaž Katrašnik\nProstori:
  Predavalnica II/3B
LOCATION:Predavalnica II/3B
ORGANIZER:Tomaž Katrašnik
X-WR-TIMEZONE:Europe/Ljubljana
END:VEVENT
BEGIN:VEVENT
SUMMARY:sestanek LICeM
DTSTART;TZID=Europe/Ljubljana:20250528T113000
DTEND;TZID=Europe/Ljubljana:20250528T130000
DTSTAMP:20260419T204320Z
UID:fs-AFLABS-URNIK:rezervacija:10163
CATEGORIES:Reservation
COLOR:royalblue
DESCRIPTION:Predmeti: \nLetniki: \nIzvajalci: Tomaž Katrašnik\nProstori:
  Predavalnica IV/3A
LOCATION:Predavalnica IV/3A
ORGANIZER:Tomaž Katrašnik
X-WR-TIMEZONE:Europe/Ljubljana
END:VEVENT
END:VCALENDAR
