BEGIN:VCALENDAR
VERSION:2.0
PRODID:-//AFLabs urnik izvoz - fs//aflabs.si//SI
NAME:UL FS Urnik
X-WR-CALNAME:UL FS Urnik
DTSTAMP:20260424T195624Z
REFRESH-INTERVAL:PT1H
SOURCE:https://urnik.fs.uni-lj.si/teacher/713/?day=2025-09-08&export=1
URL:https://urnik.fs.uni-lj.si/teacher/713/?day=2025-09-08&export=1
X-PUBLISHED-TTL:PT1H
X-WR-TIMEZONE:Europe/Ljubljana
BEGIN:VTIMEZONE
TZID:Europe/Ljubljana
BEGIN:DAYLIGHT
DTSTART:20260329T020000
RDATE:20260329T020000
RDATE:20270328T020000
TZNAME:CEST
TZOFFSETFROM:+0100
TZOFFSETTO:+0200
END:DAYLIGHT
BEGIN:STANDARD
DTSTART:20261025T030000
RDATE:20261025T030000
RDATE:20271031T030000
TZNAME:CET
TZOFFSETFROM:+0200
TZOFFSETTO:+0100
END:STANDARD
END:VTIMEZONE
BEGIN:VEVENT
SUMMARY:Napredni procesi zgorevanja (NPZM)\, Predavanja (P)
DTSTART;TZID=Europe/Ljubljana:20250929T100000
DTEND;TZID=Europe/Ljubljana:20250929T120000
DTSTAMP:20260424T195624Z
UID:fs-AFLABS-URNIK:srecanje:7025-2025-09-29 10:00:00+02:00
DESCRIPTION:Predmet: Napredni procesi zgorevanja (NPZM)\, Predavanja (P)\n
 Letniki: Energetsko strojništvo (MAG-1)\nIzvajalci: Tomaž Katrašnik\, M
 itja Mori\, Tine Seljak\, Andrej Senegačnik\nProstor: Predavalnica III/4
END:VEVENT
BEGIN:VEVENT
SUMMARY:Napredni procesi zgorevanja (NPZM)\, Predavanja (P)
DTSTART;TZID=Europe/Ljubljana:20251006T100000
DTEND;TZID=Europe/Ljubljana:20251006T120000
DTSTAMP:20260424T195624Z
UID:fs-AFLABS-URNIK:srecanje:7025-2025-10-06 10:00:00+02:00
DESCRIPTION:Predmet: Napredni procesi zgorevanja (NPZM)\, Predavanja (P)\n
 Letniki: Energetsko strojništvo (MAG-1)\nIzvajalci: Tomaž Katrašnik\, M
 itja Mori\, Tine Seljak\, Andrej Senegačnik\nProstor: Predavalnica III/4
END:VEVENT
BEGIN:VEVENT
SUMMARY:Napredni procesi zgorevanja (NPZM)\, Predavanja (P)
DTSTART;TZID=Europe/Ljubljana:20251013T100000
DTEND;TZID=Europe/Ljubljana:20251013T120000
DTSTAMP:20260424T195624Z
UID:fs-AFLABS-URNIK:srecanje:7025-2025-10-13 10:00:00+02:00
DESCRIPTION:Predmet: Napredni procesi zgorevanja (NPZM)\, Predavanja (P)\n
 Letniki: Energetsko strojništvo (MAG-1)\nIzvajalci: Tomaž Katrašnik\, M
 itja Mori\, Tine Seljak\, Andrej Senegačnik\nProstor: Predavalnica III/4
END:VEVENT
BEGIN:VEVENT
SUMMARY:Elektromobilnost (ELMM)\, Predavanja (P)
DTSTART;TZID=Europe/Ljubljana:20250929T100000
DTEND;TZID=Europe/Ljubljana:20250929T120000
DTSTAMP:20260424T195624Z
UID:fs-AFLABS-URNIK:srecanje:17015-2025-09-29 10:00:00+02:00
DESCRIPTION:Predmet: Elektromobilnost (ELMM)\, Predavanja (P)\nLetniki: En
 ergetsko strojništvo (MAG-2)\nIzvajalci: Tomaž Katrašnik\, Klemen Zeli
 č\nProstor: Predavalnica II/2
END:VEVENT
BEGIN:VEVENT
SUMMARY:Elektromobilnost (ELMM)\, Predavanja (P)
DTSTART;TZID=Europe/Ljubljana:20251006T100000
DTEND;TZID=Europe/Ljubljana:20251006T120000
DTSTAMP:20260424T195624Z
UID:fs-AFLABS-URNIK:srecanje:17015-2025-10-06 10:00:00+02:00
DESCRIPTION:Predmet: Elektromobilnost (ELMM)\, Predavanja (P)\nLetniki: En
 ergetsko strojništvo (MAG-2)\nIzvajalci: Tomaž Katrašnik\, Klemen Zeli
 č\nProstor: Predavalnica II/2
END:VEVENT
BEGIN:VEVENT
SUMMARY:Elektromobilnost (ELMM)\, Predavanja (P)
DTSTART;TZID=Europe/Ljubljana:20251013T100000
DTEND;TZID=Europe/Ljubljana:20251013T120000
DTSTAMP:20260424T195624Z
UID:fs-AFLABS-URNIK:srecanje:17015-2025-10-13 10:00:00+02:00
DESCRIPTION:Predmet: Elektromobilnost (ELMM)\, Predavanja (P)\nLetniki: En
 ergetsko strojništvo (MAG-2)\nIzvajalci: Tomaž Katrašnik\, Klemen Zeli
 č\nProstor: Predavalnica II/2
END:VEVENT
BEGIN:VEVENT
SUMMARY:Motorji z notranjim zgorevanjem in elektromobilnost (MNZP)\, Preda
 vanja (P)
DTSTART;TZID=Europe/Ljubljana:20250929T113000
DTEND;TZID=Europe/Ljubljana:20250929T133000
DTSTAMP:20260424T195624Z
UID:fs-AFLABS-URNIK:srecanje:16015-2025-09-29 11:30:00+02:00
DESCRIPTION:Predmet: Motorji z notranjim zgorevanjem in elektromobilnost (
 MNZP)\, Predavanja (P)\nLetniki: Energetsko strojništvo (PAP-3)\nIzvajalc
 i: Tomaž Katrašnik\nProstor: Računalniška predavalnica SP-24
END:VEVENT
BEGIN:VEVENT
SUMMARY:Motorji z notranjim zgorevanjem in elektromobilnost (MNZP)\, Preda
 vanja (P)
DTSTART;TZID=Europe/Ljubljana:20251006T113000
DTEND;TZID=Europe/Ljubljana:20251006T133000
DTSTAMP:20260424T195624Z
UID:fs-AFLABS-URNIK:srecanje:16015-2025-10-06 11:30:00+02:00
DESCRIPTION:Predmet: Motorji z notranjim zgorevanjem in elektromobilnost (
 MNZP)\, Predavanja (P)\nLetniki: Energetsko strojništvo (PAP-3)\nIzvajalc
 i: Tomaž Katrašnik\nProstor: Računalniška predavalnica SP-24
END:VEVENT
BEGIN:VEVENT
SUMMARY:Motorji z notranjim zgorevanjem in elektromobilnost (MNZP)\, Preda
 vanja (P)
DTSTART;TZID=Europe/Ljubljana:20251013T113000
DTEND;TZID=Europe/Ljubljana:20251013T133000
DTSTAMP:20260424T195624Z
UID:fs-AFLABS-URNIK:srecanje:16015-2025-10-13 11:30:00+02:00
DESCRIPTION:Predmet: Motorji z notranjim zgorevanjem in elektromobilnost (
 MNZP)\, Predavanja (P)\nLetniki: Energetsko strojništvo (PAP-3)\nIzvajalc
 i: Tomaž Katrašnik\nProstor: Računalniška predavalnica SP-24
END:VEVENT
BEGIN:VEVENT
SUMMARY:Letalski motorji 2 (LM2P)\, Predavanja (P)
DTSTART;TZID=Europe/Ljubljana:20250929T073000
DTEND;TZID=Europe/Ljubljana:20250929T093000
DTSTAMP:20260424T195624Z
UID:fs-AFLABS-URNIK:srecanje:16030-2025-09-29 07:30:00+02:00
DESCRIPTION:Predmet: Letalski motorji 2 (LM2P)\, Predavanja (P)\nLetniki: 
 Prometni pilot letala/helikopterja (PAP-3)\, Snovanje in vzdrževanje leta
 l (PAP-3)\nIzvajalci: Tomaž Katrašnik\, Urban Žvar Baškovič\nProstor:
  Predavalnica IV/3A
END:VEVENT
BEGIN:VEVENT
SUMMARY:Letalski motorji 2 (LM2P)\, Predavanja (P)
DTSTART;TZID=Europe/Ljubljana:20251006T073000
DTEND;TZID=Europe/Ljubljana:20251006T093000
DTSTAMP:20260424T195624Z
UID:fs-AFLABS-URNIK:srecanje:16030-2025-10-06 07:30:00+02:00
DESCRIPTION:Predmet: Letalski motorji 2 (LM2P)\, Predavanja (P)\nLetniki: 
 Prometni pilot letala/helikopterja (PAP-3)\, Snovanje in vzdrževanje leta
 l (PAP-3)\nIzvajalci: Tomaž Katrašnik\, Urban Žvar Baškovič\nProstor:
  Predavalnica IV/3A
END:VEVENT
BEGIN:VEVENT
SUMMARY:Letalski motorji 2 (LM2P)\, Predavanja (P)
DTSTART;TZID=Europe/Ljubljana:20251013T073000
DTEND;TZID=Europe/Ljubljana:20251013T093000
DTSTAMP:20260424T195624Z
UID:fs-AFLABS-URNIK:srecanje:16030-2025-10-13 07:30:00+02:00
DESCRIPTION:Predmet: Letalski motorji 2 (LM2P)\, Predavanja (P)\nLetniki: 
 Prometni pilot letala/helikopterja (PAP-3)\, Snovanje in vzdrževanje leta
 l (PAP-3)\nIzvajalci: Tomaž Katrašnik\, Urban Žvar Baškovič\nProstor:
  Predavalnica IV/3A
END:VEVENT
BEGIN:VEVENT
SUMMARY:Pogoni (PGNR)\, Predavanja (P)
DTSTART;TZID=Europe/Ljubljana:20250930T120000
DTEND;TZID=Europe/Ljubljana:20250930T140000
DTSTAMP:20260424T195624Z
UID:fs-AFLABS-URNIK:srecanje:15819-2025-09-30 12:00:00+02:00
DESCRIPTION:Predmet: Pogoni (PGNR)\, Predavanja (P)\nLetniki: RRP-3 (RRP-3
 )\nIzvajalci: Mitjan Kalin\, Tomaž Katrašnik\nProstor: Predavalnica IV/4
END:VEVENT
BEGIN:VEVENT
SUMMARY:Pogoni (PGNR)\, Predavanja (P)
DTSTART;TZID=Europe/Ljubljana:20251007T120000
DTEND;TZID=Europe/Ljubljana:20251007T140000
DTSTAMP:20260424T195624Z
UID:fs-AFLABS-URNIK:srecanje:15819-2025-10-07 12:00:00+02:00
DESCRIPTION:Predmet: Pogoni (PGNR)\, Predavanja (P)\nLetniki: RRP-3 (RRP-3
 )\nIzvajalci: Mitjan Kalin\, Tomaž Katrašnik\nProstor: Predavalnica IV/4
END:VEVENT
BEGIN:VEVENT
SUMMARY:Energetika v krožnem gospodarstvu (EKGM)\, Predavanja (P)
DTSTART;TZID=Europe/Ljubljana:20250930T120000
DTEND;TZID=Europe/Ljubljana:20250930T140000
DTSTAMP:20260424T195624Z
UID:fs-AFLABS-URNIK:srecanje:12812-2025-09-30 12:00:00+02:00
DESCRIPTION:Predmet: Energetika v krožnem gospodarstvu (EKGM)\, Predavanj
 a (P)\nLetniki: Energetsko strojništvo (MAG-2)\nIzvajalci: Tomaž Katraš
 nik\, Mitja Mori\, Mihael Sekavčnik\, Tine Seljak\nProstor: Predavalnica 
 III/3B
END:VEVENT
BEGIN:VEVENT
SUMMARY:Energetika v krožnem gospodarstvu (EKGM)\, Predavanja (P)
DTSTART;TZID=Europe/Ljubljana:20251007T120000
DTEND;TZID=Europe/Ljubljana:20251007T140000
DTSTAMP:20260424T195624Z
UID:fs-AFLABS-URNIK:srecanje:12812-2025-10-07 12:00:00+02:00
DESCRIPTION:Predmet: Energetika v krožnem gospodarstvu (EKGM)\, Predavanj
 a (P)\nLetniki: Energetsko strojništvo (MAG-2)\nIzvajalci: Tomaž Katraš
 nik\, Mitja Mori\, Mihael Sekavčnik\, Tine Seljak\nProstor: Predavalnica 
 III/3B
END:VEVENT
BEGIN:VEVENT
SUMMARY:Letalski motorji 2 (LM2P)\, Laboratorijske vaje (VL)\, [S2]
DTSTART;TZID=Europe/Ljubljana:20250930T073000
DTEND;TZID=Europe/Ljubljana:20250930T093000
DTSTAMP:20260424T195624Z
UID:fs-AFLABS-URNIK:srecanje:16624-2025-09-30 07:30:00+02:00
DESCRIPTION:Predmet: Letalski motorji 2 (LM2P)\, Laboratorijske vaje (VL)\
 , [S2]\nLetniki: Prometni pilot letala/helikopterja (PAP-3)\, Snovanje in 
 vzdrževanje letal (PAP-3)\nIzvajalci: Tomaž Katrašnik\, Andraž Kravos\
 , Žiga Rosec\, Valentina Šimić Škraba\, Anton Žnidarčič\, Urban Žv
 ar Baškovič\nProstor: Laboratirij LICEM SK-20
END:VEVENT
BEGIN:VEVENT
SUMMARY:Letalski motorji 2 (LM2P)\, Laboratorijske vaje (VL)\, [S2]
DTSTART;TZID=Europe/Ljubljana:20251007T073000
DTEND;TZID=Europe/Ljubljana:20251007T093000
DTSTAMP:20260424T195624Z
UID:fs-AFLABS-URNIK:srecanje:16624-2025-10-07 07:30:00+02:00
DESCRIPTION:Predmet: Letalski motorji 2 (LM2P)\, Laboratorijske vaje (VL)\
 , [S2]\nLetniki: Prometni pilot letala/helikopterja (PAP-3)\, Snovanje in 
 vzdrževanje letal (PAP-3)\nIzvajalci: Tomaž Katrašnik\, Andraž Kravos\
 , Žiga Rosec\, Valentina Šimić Škraba\, Anton Žnidarčič\, Urban Žv
 ar Baškovič\nProstor: Laboratirij LICEM SK-20
END:VEVENT
BEGIN:VEVENT
SUMMARY:Letalski motorji 2 (LM2P)\, Laboratorijske vaje (VL)\, [S1]
DTSTART;TZID=Europe/Ljubljana:20251001T120000
DTEND;TZID=Europe/Ljubljana:20251001T133000
DTSTAMP:20260424T195624Z
UID:fs-AFLABS-URNIK:srecanje:16622-2025-10-01 12:00:00+02:00
DESCRIPTION:Predmet: Letalski motorji 2 (LM2P)\, Laboratorijske vaje (VL)\
 , [S1]\nLetniki: Prometni pilot letala/helikopterja (PAP-3)\, Snovanje in 
 vzdrževanje letal (PAP-3)\nIzvajalci: Tomaž Katrašnik\, Andraž Kravos\
 , Žiga Rosec\, Valentina Šimić Škraba\, Anton Žnidarčič\, Urban Žv
 ar Baškovič\nProstor: Laboratirij LICEM SK-20
END:VEVENT
BEGIN:VEVENT
SUMMARY:Letalski motorji 2 (LM2P)\, Laboratorijske vaje (VL)\, [S1]
DTSTART;TZID=Europe/Ljubljana:20251008T120000
DTEND;TZID=Europe/Ljubljana:20251008T133000
DTSTAMP:20260424T195624Z
UID:fs-AFLABS-URNIK:srecanje:16622-2025-10-08 12:00:00+02:00
DESCRIPTION:Predmet: Letalski motorji 2 (LM2P)\, Laboratorijske vaje (VL)\
 , [S1]\nLetniki: Prometni pilot letala/helikopterja (PAP-3)\, Snovanje in 
 vzdrževanje letal (PAP-3)\nIzvajalci: Tomaž Katrašnik\, Andraž Kravos\
 , Žiga Rosec\, Valentina Šimić Škraba\, Anton Žnidarčič\, Urban Žv
 ar Baškovič\nProstor: Laboratirij LICEM SK-20
END:VEVENT
BEGIN:VEVENT
SUMMARY:Motorji z notranjim zgorevanjem in elektromobilnost (MNZP)\, Preda
 valniške vaje (VP)\, [S1]
DTSTART;TZID=Europe/Ljubljana:20251003T160000
DTEND;TZID=Europe/Ljubljana:20251003T180000
DTSTAMP:20260424T195624Z
UID:fs-AFLABS-URNIK:srecanje:17543-2025-10-03 16:00:00+02:00
DESCRIPTION:Predmet: Motorji z notranjim zgorevanjem in elektromobilnost (
 MNZP)\, Predavalniške vaje (VP)\, [S1]\nLetniki: Energetsko strojništvo 
 (PAP-3)\nIzvajalci: Tomaž Katrašnik\, Andraž Kravos\, Igor Mele\, Matej
  Prijatelj\nProstor: Predavalnica II/3B
END:VEVENT
BEGIN:VEVENT
SUMMARY:Motorji z notranjim zgorevanjem in elektromobilnost (MNZP)\, Labor
 atorijske vaje (VL)\, [S1]
DTSTART;TZID=Europe/Ljubljana:20251008T073000
DTEND;TZID=Europe/Ljubljana:20251008T093000
DTSTAMP:20260424T195624Z
UID:fs-AFLABS-URNIK:srecanje:16594-2025-10-08 07:30:00+02:00
DESCRIPTION:Predmet: Motorji z notranjim zgorevanjem in elektromobilnost (
 MNZP)\, Laboratorijske vaje (VL)\, [S1]\nLetniki: Energetsko strojništvo 
 (PAP-3)\nIzvajalci: Tomaž Katrašnik\, Andraž Kravos\, Igor Mele\, Matej
  Prijatelj\, Valentina Šimić Škraba\, Klemen Zelič\, Anton Žnidarči
 č\, Urban Žvar Baškovič\nProstor: Laboratirij LICEM SK-20
END:VEVENT
BEGIN:VEVENT
SUMMARY:Motorji z notranjim zgorevanjem in elektromobilnost (MNZP)\, Labor
 atorijske vaje (VL)\, [S2]
DTSTART;TZID=Europe/Ljubljana:20251008T133000
DTEND;TZID=Europe/Ljubljana:20251008T153000
DTSTAMP:20260424T195624Z
UID:fs-AFLABS-URNIK:srecanje:16596-2025-10-08 13:30:00+02:00
DESCRIPTION:Predmet: Motorji z notranjim zgorevanjem in elektromobilnost (
 MNZP)\, Laboratorijske vaje (VL)\, [S2]\nLetniki: Energetsko strojništvo 
 (PAP-3)\nIzvajalci: Tomaž Katrašnik\, Andraž Kravos\, Igor Mele\, Matej
  Prijatelj\, Valentina Šimić Škraba\, Klemen Zelič\, Anton Žnidarči
 č\, Urban Žvar Baškovič\nProstor: Laboratirij LICEM SK-20
END:VEVENT
BEGIN:VEVENT
SUMMARY:Motorji z notranjim zgorevanjem in elektromobilnost (MNZP)\, Labor
 atorijske vaje (VL)\, [S3]
DTSTART;TZID=Europe/Ljubljana:20251008T153000
DTEND;TZID=Europe/Ljubljana:20251008T173000
DTSTAMP:20260424T195624Z
UID:fs-AFLABS-URNIK:srecanje:16598-2025-10-08 15:30:00+02:00
DESCRIPTION:Predmet: Motorji z notranjim zgorevanjem in elektromobilnost (
 MNZP)\, Laboratorijske vaje (VL)\, [S3]\nLetniki: Energetsko strojništvo 
 (PAP-3)\nIzvajalci: Tomaž Katrašnik\, Andraž Kravos\, Igor Mele\, Matej
  Prijatelj\, Valentina Šimić Škraba\, Klemen Zelič\, Anton Žnidarči
 č\, Urban Žvar Baškovič\nProstor: Laboratirij LICEM SK-20
END:VEVENT
BEGIN:VEVENT
SUMMARY:Izpit: Electromobility (6008-M) [dve oceni]
DTSTART;TZID=Europe/Ljubljana:20250813T150000
DTEND;TZID=Europe/Ljubljana:20250813T170000
DTSTAMP:20260424T195624Z
UID:fs-AFLABS-URNIK:rezervacija:6519
CATEGORIES:Reservation
COLOR:royalblue
DESCRIPTION:Predmeti: \nLetniki: \nIzvajalci: Tomaž Katrašnik\nProstori:
  Predavalnica II/2
LOCATION:Predavalnica II/2
ORGANIZER:Tomaž Katrašnik
X-WR-TIMEZONE:Europe/Ljubljana
END:VEVENT
BEGIN:VEVENT
SUMMARY:Izpit: Elektromobilnost (6008-M) [dve oceni]
DTSTART;TZID=Europe/Ljubljana:20250813T150000
DTEND;TZID=Europe/Ljubljana:20250813T170000
DTSTAMP:20260424T195624Z
UID:fs-AFLABS-URNIK:rezervacija:6523
CATEGORIES:Reservation
COLOR:royalblue
DESCRIPTION:Predmeti: \nLetniki: \nIzvajalci: Tomaž Katrašnik\nProstori:
  Predavalnica II/2
LOCATION:Predavalnica II/2
ORGANIZER:Tomaž Katrašnik
X-WR-TIMEZONE:Europe/Ljubljana
END:VEVENT
BEGIN:VEVENT
SUMMARY:Izpit: Letalski motorji 1 (3079-V) [dve oceni]
DTSTART;TZID=Europe/Ljubljana:20250811T090000
DTEND;TZID=Europe/Ljubljana:20250811T110000
DTSTAMP:20260424T195624Z
UID:fs-AFLABS-URNIK:rezervacija:6898
CATEGORIES:Reservation
COLOR:royalblue
DESCRIPTION:Predmeti: \nLetniki: \nIzvajalci: Tomaž Katrašnik\nProstori:
  Predavalnica III/3A
LOCATION:Predavalnica III/3A
ORGANIZER:Tomaž Katrašnik
X-WR-TIMEZONE:Europe/Ljubljana
END:VEVENT
BEGIN:VEVENT
SUMMARY:Izpit: Letalski motorji 1 (3135)
DTSTART;TZID=Europe/Ljubljana:20250819T090000
DTEND;TZID=Europe/Ljubljana:20250819T110000
DTSTAMP:20260424T195624Z
UID:fs-AFLABS-URNIK:rezervacija:6901
CATEGORIES:Reservation
COLOR:royalblue
DESCRIPTION:Predmeti: \nLetniki: \nIzvajalci: Tomaž Katrašnik\nProstori:
  Predavalnica IV/3A
LOCATION:Predavalnica IV/3A
ORGANIZER:Tomaž Katrašnik
X-WR-TIMEZONE:Europe/Ljubljana
END:VEVENT
BEGIN:VEVENT
SUMMARY:Izpit: Letalski motorji 2 (3085-V) [dve oceni]
DTSTART;TZID=Europe/Ljubljana:20250819T090000
DTEND;TZID=Europe/Ljubljana:20250819T110000
DTSTAMP:20260424T195624Z
UID:fs-AFLABS-URNIK:rezervacija:6905
CATEGORIES:Reservation
COLOR:royalblue
DESCRIPTION:Predmeti: \nLetniki: \nIzvajalci: Tomaž Katrašnik\nProstori:
  Predavalnica III/3A
LOCATION:Predavalnica III/3A
ORGANIZER:Tomaž Katrašnik
X-WR-TIMEZONE:Europe/Ljubljana
END:VEVENT
BEGIN:VEVENT
SUMMARY:Izpit: Letalski motorji 2 (3127)
DTSTART;TZID=Europe/Ljubljana:20250819T090000
DTEND;TZID=Europe/Ljubljana:20250819T110000
DTSTAMP:20260424T195624Z
UID:fs-AFLABS-URNIK:rezervacija:6908
CATEGORIES:Reservation
COLOR:royalblue
DESCRIPTION:Predmeti: \nLetniki: \nIzvajalci: Tomaž Katrašnik\nProstori:
  Predavalnica III/3A
LOCATION:Predavalnica III/3A
ORGANIZER:Tomaž Katrašnik
X-WR-TIMEZONE:Europe/Ljubljana
END:VEVENT
BEGIN:VEVENT
SUMMARY:Izpit: Motorji z notranjim zgorevanjem (3052)
DTSTART;TZID=Europe/Ljubljana:20250819T110000
DTEND;TZID=Europe/Ljubljana:20250819T130000
DTSTAMP:20260424T195624Z
UID:fs-AFLABS-URNIK:rezervacija:7070
CATEGORIES:Reservation
COLOR:royalblue
DESCRIPTION:Predmeti: \nLetniki: \nIzvajalci: Tomaž Katrašnik\nProstori:
  Predavalnica III/3A
LOCATION:Predavalnica III/3A
ORGANIZER:Tomaž Katrašnik
X-WR-TIMEZONE:Europe/Ljubljana
END:VEVENT
BEGIN:VEVENT
SUMMARY:Izpit: Motorji z notranjim zgorevanjem in elektromobilnost (3027-V
 ) [dve oceni]
DTSTART;TZID=Europe/Ljubljana:20250819T110000
DTEND;TZID=Europe/Ljubljana:20250819T130000
DTSTAMP:20260424T195624Z
UID:fs-AFLABS-URNIK:rezervacija:7074
CATEGORIES:Reservation
COLOR:royalblue
DESCRIPTION:Predmeti: \nLetniki: \nIzvajalci: Tomaž Katrašnik\nProstori:
  Predavalnica III/3A
LOCATION:Predavalnica III/3A
ORGANIZER:Tomaž Katrašnik
X-WR-TIMEZONE:Europe/Ljubljana
END:VEVENT
BEGIN:VEVENT
SUMMARY:Izpit: Pogonski agregati vozil (6216)
DTSTART;TZID=Europe/Ljubljana:20250813T110000
DTEND;TZID=Europe/Ljubljana:20250813T130000
DTSTAMP:20260424T195624Z
UID:fs-AFLABS-URNIK:rezervacija:7324
CATEGORIES:Reservation
COLOR:royalblue
DESCRIPTION:Predmeti: \nLetniki: \nIzvajalci: Tomaž Katrašnik\nProstori:
  Predavalnica III/3A
LOCATION:Predavalnica III/3A
ORGANIZER:Tomaž Katrašnik
X-WR-TIMEZONE:Europe/Ljubljana
END:VEVENT
BEGIN:VEVENT
SUMMARY:Izpit: Procesi v toplotnih motorjih (6005-M)
DTSTART;TZID=Europe/Ljubljana:20250813T130000
DTEND;TZID=Europe/Ljubljana:20250813T150000
DTSTAMP:20260424T195624Z
UID:fs-AFLABS-URNIK:rezervacija:7383
CATEGORIES:Reservation
COLOR:royalblue
DESCRIPTION:Predmeti: \nLetniki: \nIzvajalci: Tomaž Katrašnik\nProstori:
  Predavalnica II/2
LOCATION:Predavalnica II/2
ORGANIZER:Tomaž Katrašnik
X-WR-TIMEZONE:Europe/Ljubljana
END:VEVENT
BEGIN:VEVENT
SUMMARY:Izpit: Procesi v toplotnih motorjih (6005-M) [dve oceni]
DTSTART;TZID=Europe/Ljubljana:20250813T130000
DTEND;TZID=Europe/Ljubljana:20250813T150000
DTSTAMP:20260424T195624Z
UID:fs-AFLABS-URNIK:rezervacija:7386
CATEGORIES:Reservation
COLOR:royalblue
DESCRIPTION:Predmeti: \nLetniki: \nIzvajalci: Tomaž Katrašnik\nProstori:
  Predavalnica II/2
LOCATION:Predavalnica II/2
ORGANIZER:Tomaž Katrašnik
X-WR-TIMEZONE:Europe/Ljubljana
END:VEVENT
BEGIN:VEVENT
SUMMARY:Sestanek z zunanjim sodelavcem - Postavitev platoforme za skloplje
 no modeliranje
DTSTART;TZID=Europe/Ljubljana:20250822T080000
DTEND;TZID=Europe/Ljubljana:20250822T100000
DTSTAMP:20260424T195624Z
UID:fs-AFLABS-URNIK:rezervacija:10535
CATEGORIES:Reservation
COLOR:royalblue
DESCRIPTION:Predmeti: \nLetniki: \nIzvajalci: Tomaž Katrašnik\nProstori:
  Mala sejna soba
LOCATION:Mala sejna soba
ORGANIZER:Tomaž Katrašnik
X-WR-TIMEZONE:Europe/Ljubljana
END:VEVENT
BEGIN:VEVENT
SUMMARY:Zagovor diplome
DTSTART;TZID=Europe/Ljubljana:20250828T093000
DTEND;TZID=Europe/Ljubljana:20250828T123000
DTSTAMP:20260424T195624Z
UID:fs-AFLABS-URNIK:rezervacija:10567
CATEGORIES:Reservation
COLOR:royalblue
DESCRIPTION:Predmeti: \nLetniki: \nIzvajalci: Tomaž Katrašnik\, Urban Ž
 var Baškovič\nProstori: Predavalnica II/3A
LOCATION:Predavalnica II/3A
ORGANIZER:Tomaž Katrašnik, Urban Žvar Baškovič
X-WR-TIMEZONE:Europe/Ljubljana
END:VEVENT
BEGIN:VEVENT
SUMMARY:sestanek LICeM - FC
DTSTART;TZID=Europe/Ljubljana:20250915T120000
DTEND;TZID=Europe/Ljubljana:20250915T150000
DTSTAMP:20260424T195624Z
UID:fs-AFLABS-URNIK:rezervacija:10770
CATEGORIES:Reservation
COLOR:royalblue
DESCRIPTION:Predmeti: \nLetniki: \nIzvajalci: Tomaž Katrašnik\nProstori:
  Predavalnica II/3B
LOCATION:Predavalnica II/3B
ORGANIZER:Tomaž Katrašnik
X-WR-TIMEZONE:Europe/Ljubljana
END:VEVENT
BEGIN:VEVENT
SUMMARY:sestanek LICeM
DTSTART;TZID=Europe/Ljubljana:20250916T113000
DTEND;TZID=Europe/Ljubljana:20250916T130000
DTSTAMP:20260424T195624Z
UID:fs-AFLABS-URNIK:rezervacija:10771
CATEGORIES:Reservation
COLOR:royalblue
DESCRIPTION:Predmeti: \nLetniki: \nIzvajalci: Tomaž Katrašnik\nProstori:
  Predavalnica II/3B
LOCATION:Predavalnica II/3B
ORGANIZER:Tomaž Katrašnik
X-WR-TIMEZONE:Europe/Ljubljana
END:VEVENT
BEGIN:VEVENT
SUMMARY:Sestanek G/H
DTSTART;TZID=Europe/Ljubljana:20250919T083000
DTEND;TZID=Europe/Ljubljana:20250919T103000
DTSTAMP:20260424T195624Z
UID:fs-AFLABS-URNIK:rezervacija:10865
CATEGORIES:Reservation
COLOR:royalblue
DESCRIPTION:Predmeti: \nLetniki: \nIzvajalci: Tomaž Katrašnik\nProstori:
  Mala sejna soba
LOCATION:Mala sejna soba
ORGANIZER:Tomaž Katrašnik
X-WR-TIMEZONE:Europe/Ljubljana
END:VEVENT
END:VCALENDAR
