BEGIN:VCALENDAR
VERSION:2.0
PRODID:-//AFLabs urnik izvoz - fs//aflabs.si//SI
NAME:UL FS Urnik
X-WR-CALNAME:UL FS Urnik
DTSTAMP:20260425T131815Z
REFRESH-INTERVAL:PT1H
SOURCE:https://urnik.fs.uni-lj.si/teacher/713/?day=2026-02-02&export=1
URL:https://urnik.fs.uni-lj.si/teacher/713/?day=2026-02-02&export=1
X-PUBLISHED-TTL:PT1H
X-WR-TIMEZONE:Europe/Ljubljana
BEGIN:VTIMEZONE
TZID:Europe/Ljubljana
BEGIN:DAYLIGHT
DTSTART:20260329T020000
RDATE:20260329T020000
RDATE:20270328T020000
TZNAME:CEST
TZOFFSETFROM:+0100
TZOFFSETTO:+0200
END:DAYLIGHT
BEGIN:STANDARD
DTSTART:20261025T030000
RDATE:20261025T030000
RDATE:20271031T030000
TZNAME:CET
TZOFFSETFROM:+0200
TZOFFSETTO:+0100
END:STANDARD
END:VTIMEZONE
BEGIN:VEVENT
SUMMARY:Procesi v toplotnih motorjih (PTMM)\, Predavanja (P)
DTSTART;TZID=Europe/Ljubljana:20260217T100000
DTEND;TZID=Europe/Ljubljana:20260217T120000
DTSTAMP:20260425T131815Z
UID:fs-AFLABS-URNIK:srecanje:15163-2026-02-17 10:00:00+01:00
DESCRIPTION:Predmet: Procesi v toplotnih motorjih (PTMM)\, Predavanja (P)\
 nLetniki: Energetsko strojništvo (MAG-1)\nIzvajalci: Tomaž Katrašnik\nP
 rostor: Predavalnica IV/3B
END:VEVENT
BEGIN:VEVENT
SUMMARY:Procesi v toplotnih motorjih (PTMM)\, Predavanja (P)
DTSTART;TZID=Europe/Ljubljana:20260224T100000
DTEND;TZID=Europe/Ljubljana:20260224T120000
DTSTAMP:20260425T131815Z
UID:fs-AFLABS-URNIK:srecanje:15163-2026-02-24 10:00:00+01:00
DESCRIPTION:Predmet: Procesi v toplotnih motorjih (PTMM)\, Predavanja (P)\
 nLetniki: Energetsko strojništvo (MAG-1)\nIzvajalci: Tomaž Katrašnik\nP
 rostor: Predavalnica IV/3B
END:VEVENT
BEGIN:VEVENT
SUMMARY:Procesi v toplotnih motorjih (PTMM)\, Predavanja (P)
DTSTART;TZID=Europe/Ljubljana:20260303T100000
DTEND;TZID=Europe/Ljubljana:20260303T120000
DTSTAMP:20260425T131815Z
UID:fs-AFLABS-URNIK:srecanje:15163-2026-03-03 10:00:00+01:00
DESCRIPTION:Predmet: Procesi v toplotnih motorjih (PTMM)\, Predavanja (P)\
 nLetniki: Energetsko strojništvo (MAG-1)\nIzvajalci: Tomaž Katrašnik\nP
 rostor: Predavalnica IV/3B
END:VEVENT
BEGIN:VEVENT
SUMMARY:Letalski motorji 1 (LM1P)\, Predavanja (P)
DTSTART;TZID=Europe/Ljubljana:20260217T113000
DTEND;TZID=Europe/Ljubljana:20260217T140000
DTSTAMP:20260425T131815Z
UID:fs-AFLABS-URNIK:srecanje:16455-2026-02-17 11:30:00+01:00
DESCRIPTION:Predmet: Letalski motorji 1 (LM1P)\, Predavanja (P)\nLetniki: 
 Prometni pilot letala/helikopterja (PAP-2)\, Snovanje in vzdrževanje leta
 l (PAP-2)\nIzvajalci: Tomaž Katrašnik\nProstor: Predavalnica IV/4
END:VEVENT
BEGIN:VEVENT
SUMMARY:Letalski motorji 1 (LM1P)\, Predavanja (P)
DTSTART;TZID=Europe/Ljubljana:20260224T113000
DTEND;TZID=Europe/Ljubljana:20260224T140000
DTSTAMP:20260425T131815Z
UID:fs-AFLABS-URNIK:srecanje:16455-2026-02-24 11:30:00+01:00
DESCRIPTION:Predmet: Letalski motorji 1 (LM1P)\, Predavanja (P)\nLetniki: 
 Prometni pilot letala/helikopterja (PAP-2)\, Snovanje in vzdrževanje leta
 l (PAP-2)\nIzvajalci: Tomaž Katrašnik\nProstor: Predavalnica IV/4
END:VEVENT
BEGIN:VEVENT
SUMMARY:Letalski motorji 1 (LM1P)\, Predavanja (P)
DTSTART;TZID=Europe/Ljubljana:20260303T113000
DTEND;TZID=Europe/Ljubljana:20260303T140000
DTSTAMP:20260425T131815Z
UID:fs-AFLABS-URNIK:srecanje:16455-2026-03-03 11:30:00+01:00
DESCRIPTION:Predmet: Letalski motorji 1 (LM1P)\, Predavanja (P)\nLetniki: 
 Prometni pilot letala/helikopterja (PAP-2)\, Snovanje in vzdrževanje leta
 l (PAP-2)\nIzvajalci: Tomaž Katrašnik\nProstor: Predavalnica IV/4
END:VEVENT
BEGIN:VEVENT
SUMMARY:Electromobility (ELME)\, Predavanja (P)
DTSTART;TZID=Europe/Ljubljana:20260218T100000
DTEND;TZID=Europe/Ljubljana:20260218T120000
DTSTAMP:20260425T131815Z
UID:fs-AFLABS-URNIK:srecanje:14626-2026-02-18 10:00:00+01:00
DESCRIPTION:Predmet: Electromobility (ELME)\, Predavanja (P)\nLetniki: Era
 smus (Erasmus)\nIzvajalci: Tomaž Katrašnik\, Klemen Zelič\nProstor: Pre
 davalnica I/4A
END:VEVENT
BEGIN:VEVENT
SUMMARY:Electromobility (ELME)\, Predavanja (P)
DTSTART;TZID=Europe/Ljubljana:20260225T100000
DTEND;TZID=Europe/Ljubljana:20260225T120000
DTSTAMP:20260425T131815Z
UID:fs-AFLABS-URNIK:srecanje:14626-2026-02-25 10:00:00+01:00
DESCRIPTION:Predmet: Electromobility (ELME)\, Predavanja (P)\nLetniki: Era
 smus (Erasmus)\nIzvajalci: Tomaž Katrašnik\, Klemen Zelič\nProstor: Pre
 davalnica I/4A
END:VEVENT
BEGIN:VEVENT
SUMMARY:Electromobility (ELME)\, Predavanja (P)
DTSTART;TZID=Europe/Ljubljana:20260304T100000
DTEND;TZID=Europe/Ljubljana:20260304T120000
DTSTAMP:20260425T131815Z
UID:fs-AFLABS-URNIK:srecanje:14626-2026-03-04 10:00:00+01:00
DESCRIPTION:Predmet: Electromobility (ELME)\, Predavanja (P)\nLetniki: Era
 smus (Erasmus)\nIzvajalci: Tomaž Katrašnik\, Klemen Zelič\nProstor: Pre
 davalnica I/4A
END:VEVENT
BEGIN:VEVENT
SUMMARY:Izpit: Letalski motorji 2
DTSTART;TZID=Europe/Ljubljana:20260210T080000
DTEND;TZID=Europe/Ljubljana:20260210T100000
DTSTAMP:20260425T131815Z
UID:fs-AFLABS-URNIK:rezervacija:11490
ATTENDEE:Prometni pilot letala/helikopterja (PAP-3)
ATTENDEE:Snovanje in vzdrževanje letal (PAP-3)
CATEGORIES:Reservation
COLOR:royalblue
DESCRIPTION:Predmeti: Letalski motorji 2 (LM2P)\nLetniki: Prometni pilot l
 etala/helikopterja (PAP-3)\, Snovanje in vzdrževanje letal (PAP-3)\nIzvaj
 alci: Tomaž Katrašnik\nProstori: Predavalnica II/2
LOCATION:Predavalnica II/2
ORGANIZER:Tomaž Katrašnik
X-WR-TIMEZONE:Europe/Ljubljana
END:VEVENT
BEGIN:VEVENT
SUMMARY:Izpit: Motorji z notranjim zgorevanjem
DTSTART;TZID=Europe/Ljubljana:20260213T080000
DTEND;TZID=Europe/Ljubljana:20260213T100000
DTSTAMP:20260425T131815Z
UID:fs-AFLABS-URNIK:rezervacija:11683
ATTENDEE:Energetsko, procesno in okoljsko inženirstvo - Energetsko strojn
 ištvo (PAP-3)
CATEGORIES:Reservation
COLOR:royalblue
DESCRIPTION:Predmeti: Motorji z notranjim zgorevanjem (3052)\nLetniki: Ene
 rgetsko\, procesno in okoljsko inženirstvo - Energetsko strojništvo (PAP
 -3)\nIzvajalci: Tomaž Katrašnik\nProstori: Predavalnica II/2
LOCATION:Predavalnica II/2
ORGANIZER:Tomaž Katrašnik
X-WR-TIMEZONE:Europe/Ljubljana
END:VEVENT
BEGIN:VEVENT
SUMMARY:Izpit: Motorji z notranjim zgorevanjem in elektromobilnost
DTSTART;TZID=Europe/Ljubljana:20260213T080000
DTEND;TZID=Europe/Ljubljana:20260213T100000
DTSTAMP:20260425T131815Z
UID:fs-AFLABS-URNIK:rezervacija:11684
ATTENDEE:Energetsko strojništvo (PAP-3)
CATEGORIES:Reservation
COLOR:royalblue
DESCRIPTION:Predmeti: Motorji z notranjim zgorevanjem in elektromobilnost 
 (MNZP)\nLetniki: Energetsko strojništvo (PAP-3)\nIzvajalci: Tomaž Katra
 šnik\nProstori: Predavalnica II/2
LOCATION:Predavalnica II/2
ORGANIZER:Tomaž Katrašnik
X-WR-TIMEZONE:Europe/Ljubljana
END:VEVENT
BEGIN:VEVENT
SUMMARY:Izpit: Letalski motorji 1
DTSTART;TZID=Europe/Ljubljana:20260213T110000
DTEND;TZID=Europe/Ljubljana:20260213T130000
DTSTAMP:20260425T131815Z
UID:fs-AFLABS-URNIK:rezervacija:11696
ATTENDEE:Letalstvo - Prometni pilot letala/helikopterja (PAP-3)
ATTENDEE:Letalstvo - Snovanje in vzdrževanje letal (PAP-3)
CATEGORIES:Reservation
COLOR:royalblue
DESCRIPTION:Predmeti: Letalski motorji 1 (3135)\nLetniki: Letalstvo - Prom
 etni pilot letala/helikopterja (PAP-3)\, Letalstvo - Snovanje in vzdrževa
 nje letal (PAP-3)\nIzvajalci: Tomaž Katrašnik\nProstori: Predavalnica IV
 /3A
LOCATION:Predavalnica IV/3A
ORGANIZER:Tomaž Katrašnik
X-WR-TIMEZONE:Europe/Ljubljana
END:VEVENT
BEGIN:VEVENT
SUMMARY:Izpit: Elektromobilnost
DTSTART;TZID=Europe/Ljubljana:20260121T090000
DTEND;TZID=Europe/Ljubljana:20260121T110000
DTSTAMP:20260425T131815Z
UID:fs-AFLABS-URNIK:rezervacija:12004
ATTENDEE:Energetsko strojništvo (MAG-2)
CATEGORIES:Reservation
COLOR:royalblue
DESCRIPTION:Predmeti: Elektromobilnost (ELMM)\nLetniki: Energetsko strojni
 štvo (MAG-2)\nIzvajalci: Tomaž Katrašnik\nProstori: Predavalnica IV/4
LOCATION:Predavalnica IV/4
ORGANIZER:Tomaž Katrašnik
X-WR-TIMEZONE:Europe/Ljubljana
END:VEVENT
BEGIN:VEVENT
SUMMARY:Izpit: Letalski motorji 2
DTSTART;TZID=Europe/Ljubljana:20260127T080000
DTEND;TZID=Europe/Ljubljana:20260127T100000
DTSTAMP:20260425T131815Z
UID:fs-AFLABS-URNIK:rezervacija:12290
ATTENDEE:Prometni pilot letala/helikopterja (PAP-3)
ATTENDEE:Snovanje in vzdrževanje letal (PAP-3)
CATEGORIES:Reservation
COLOR:royalblue
DESCRIPTION:Predmeti: Letalski motorji 2 (LM2P)\nLetniki: Prometni pilot l
 etala/helikopterja (PAP-3)\, Snovanje in vzdrževanje letal (PAP-3)\nIzvaj
 alci: Tomaž Katrašnik\nProstori: Predavalnica III/2
LOCATION:Predavalnica III/2
ORGANIZER:Tomaž Katrašnik
X-WR-TIMEZONE:Europe/Ljubljana
END:VEVENT
BEGIN:VEVENT
SUMMARY:Izpit: Letalski motorji 2
DTSTART;TZID=Europe/Ljubljana:20260127T080000
DTEND;TZID=Europe/Ljubljana:20260127T100000
DTSTAMP:20260425T131815Z
UID:fs-AFLABS-URNIK:rezervacija:12291
ATTENDEE:Letalstvo - Prometni pilot letala/helikopterja (PAP-3)
ATTENDEE:Letalstvo - Snovanje in vzdrževanje letal (PAP-3)
CATEGORIES:Reservation
COLOR:royalblue
DESCRIPTION:Predmeti: Letalski motorji 2 (3127)\nLetniki: Letalstvo - Prom
 etni pilot letala/helikopterja (PAP-3)\, Letalstvo - Snovanje in vzdrževa
 nje letal (PAP-3)\nIzvajalci: Tomaž Katrašnik\nProstori: Predavalnica II
 I/2
LOCATION:Predavalnica III/2
ORGANIZER:Tomaž Katrašnik
X-WR-TIMEZONE:Europe/Ljubljana
END:VEVENT
BEGIN:VEVENT
SUMMARY:Izpit: Motorji z notranjim zgorevanjem in elektromobilnost
DTSTART;TZID=Europe/Ljubljana:20260130T090000
DTEND;TZID=Europe/Ljubljana:20260130T110000
DTSTAMP:20260425T131815Z
UID:fs-AFLABS-URNIK:rezervacija:12436
ATTENDEE:Energetsko strojništvo (PAP-3)
CATEGORIES:Reservation
COLOR:royalblue
DESCRIPTION:Predmeti: Motorji z notranjim zgorevanjem in elektromobilnost 
 (MNZP)\nLetniki: Energetsko strojništvo (PAP-3)\nIzvajalci: Tomaž Katra
 šnik\nProstori: Predavalnica II/2
LOCATION:Predavalnica II/2
ORGANIZER:Tomaž Katrašnik
X-WR-TIMEZONE:Europe/Ljubljana
END:VEVENT
BEGIN:VEVENT
SUMMARY:Izpit: Elektromobilnost
DTSTART;TZID=Europe/Ljubljana:20260204T120000
DTEND;TZID=Europe/Ljubljana:20260204T140000
DTSTAMP:20260425T131815Z
UID:fs-AFLABS-URNIK:rezervacija:12506
ATTENDEE:Energetsko strojništvo (MAG-2)
CATEGORIES:Reservation
COLOR:royalblue
DESCRIPTION:Predmeti: Elektromobilnost (ELMM)\nLetniki: Energetsko strojni
 štvo (MAG-2)\nIzvajalci: Tomaž Katrašnik\nProstori: Predavalnica II/2
LOCATION:Predavalnica II/2
ORGANIZER:Tomaž Katrašnik
X-WR-TIMEZONE:Europe/Ljubljana
END:VEVENT
BEGIN:VEVENT
SUMMARY:Izpit: Elektromobilnost
DTSTART;TZID=Europe/Ljubljana:20260121T090000
DTEND;TZID=Europe/Ljubljana:20260121T110000
DTSTAMP:20260425T131815Z
UID:fs-AFLABS-URNIK:rezervacija:12801
ATTENDEE:Energetsko strojništvo (MAG-2)
CATEGORIES:Reservation
COLOR:royalblue
DESCRIPTION:Predmeti: Elektromobilnost (ELMM)\nLetniki: Energetsko strojni
 štvo (MAG-2)\nIzvajalci: Tomaž Katrašnik\nProstori: Predavalnica IV/4
LOCATION:Predavalnica IV/4
ORGANIZER:Tomaž Katrašnik
X-WR-TIMEZONE:Europe/Ljubljana
END:VEVENT
BEGIN:VEVENT
SUMMARY:Izpit: Elektromobilnost
DTSTART;TZID=Europe/Ljubljana:20260204T120000
DTEND;TZID=Europe/Ljubljana:20260204T140000
DTSTAMP:20260425T131815Z
UID:fs-AFLABS-URNIK:rezervacija:12803
ATTENDEE:Energetsko strojništvo (MAG-2)
CATEGORIES:Reservation
COLOR:royalblue
DESCRIPTION:Predmeti: Elektromobilnost (ELMM)\nLetniki: Energetsko strojni
 štvo (MAG-2)\nIzvajalci: Tomaž Katrašnik\nProstori: Predavalnica II/2
LOCATION:Predavalnica II/2
ORGANIZER:Tomaž Katrašnik
X-WR-TIMEZONE:Europe/Ljubljana
END:VEVENT
BEGIN:VEVENT
SUMMARY:sestanek LICeM
DTSTART;TZID=Europe/Ljubljana:20260204T093000
DTEND;TZID=Europe/Ljubljana:20260204T110000
DTSTAMP:20260425T131815Z
UID:fs-AFLABS-URNIK:rezervacija:13645
CATEGORIES:Reservation
COLOR:royalblue
DESCRIPTION:Predmeti: \nLetniki: \nIzvajalci: Tomaž Katrašnik\nProstori:
  Mala sejna soba
LOCATION:Mala sejna soba
ORGANIZER:Tomaž Katrašnik
X-WR-TIMEZONE:Europe/Ljubljana
END:VEVENT
BEGIN:VEVENT
SUMMARY:sestanek LICeM
DTSTART;TZID=Europe/Ljubljana:20260219T120000
DTEND;TZID=Europe/Ljubljana:20260219T140000
DTSTAMP:20260425T131815Z
UID:fs-AFLABS-URNIK:rezervacija:13839
CATEGORIES:Reservation
COLOR:royalblue
DESCRIPTION:Predmeti: \nLetniki: \nIzvajalci: Tomaž Katrašnik\nProstori:
  Mala sejna soba
LOCATION:Mala sejna soba
ORGANIZER:Tomaž Katrašnik
X-WR-TIMEZONE:Europe/Ljubljana
END:VEVENT
BEGIN:VEVENT
SUMMARY:sestanek LICeM
DTSTART;TZID=Europe/Ljubljana:20260305T120000
DTEND;TZID=Europe/Ljubljana:20260305T140000
DTSTAMP:20260425T131815Z
UID:fs-AFLABS-URNIK:rezervacija:13989
CATEGORIES:Reservation
COLOR:royalblue
DESCRIPTION:Predmeti: \nLetniki: \nIzvajalci: Tomaž Katrašnik\nProstori:
  Mala sejna soba
LOCATION:Mala sejna soba
ORGANIZER:Tomaž Katrašnik
X-WR-TIMEZONE:Europe/Ljubljana
END:VEVENT
END:VCALENDAR
