BEGIN:VCALENDAR
VERSION:2.0
PRODID:-//AFLabs urnik izvoz - fs//aflabs.si//SI
NAME:UL FS Urnik
X-WR-CALNAME:UL FS Urnik
DTSTAMP:20260420T135947Z
REFRESH-INTERVAL:PT1H
SOURCE:https://urnik.fs.uni-lj.si/teacher/729/?day=2023-09-25&export=1
URL:https://urnik.fs.uni-lj.si/teacher/729/?day=2023-09-25&export=1
X-PUBLISHED-TTL:PT1H
X-WR-TIMEZONE:Europe/Ljubljana
BEGIN:VTIMEZONE
TZID:Europe/Ljubljana
BEGIN:DAYLIGHT
DTSTART:20260329T020000
RDATE:20260329T020000
RDATE:20270328T020000
TZNAME:CEST
TZOFFSETFROM:+0100
TZOFFSETTO:+0200
END:DAYLIGHT
BEGIN:STANDARD
DTSTART:20261025T030000
RDATE:20261025T030000
RDATE:20271031T030000
TZNAME:CET
TZOFFSETFROM:+0200
TZOFFSETTO:+0100
END:STANDARD
END:VTIMEZONE
BEGIN:VEVENT
SUMMARY:Statika in kinematika (STKR)\, Predavalniške vaje (VP)\, [S2]
DTSTART;TZID=Europe/Ljubljana:20231003T100000
DTEND;TZID=Europe/Ljubljana:20231003T120000
DTSTAMP:20260420T135947Z
UID:fs-AFLABS-URNIK:srecanje:2542-2023-10-03 10:00:00+02:00
DESCRIPTION:Predmet: Statika in kinematika (STKR)\, Predavalniške vaje (V
 P)\, [S2]\nLetniki: RRP-1 (RRP-1)\nIzvajalci: Miha Kodrič\nProstor: Preda
 valnica II/5
END:VEVENT
BEGIN:VEVENT
SUMMARY:Statika in kinematika (STKR)\, Predavalniške vaje (VP)\, [S2]
DTSTART;TZID=Europe/Ljubljana:20231010T100000
DTEND;TZID=Europe/Ljubljana:20231010T120000
DTSTAMP:20260420T135947Z
UID:fs-AFLABS-URNIK:srecanje:2542-2023-10-10 10:00:00+02:00
DESCRIPTION:Predmet: Statika in kinematika (STKR)\, Predavalniške vaje (V
 P)\, [S2]\nLetniki: RRP-1 (RRP-1)\nIzvajalci: Miha Kodrič\nProstor: Preda
 valnica II/5
END:VEVENT
BEGIN:VEVENT
SUMMARY:Statika in kinematika (STKR)\, Predavalniške vaje (VP)\, [S2]
DTSTART;TZID=Europe/Ljubljana:20231024T100000
DTEND;TZID=Europe/Ljubljana:20231024T120000
DTSTAMP:20260420T135947Z
UID:fs-AFLABS-URNIK:srecanje:2542-2023-10-24 10:00:00+02:00
DESCRIPTION:Predmet: Statika in kinematika (STKR)\, Predavalniške vaje (V
 P)\, [S2]\nLetniki: RRP-1 (RRP-1)\nIzvajalci: Miha Kodrič\nProstor: Preda
 valnica II/5
END:VEVENT
BEGIN:VEVENT
SUMMARY:Statika in kinematika (STKR)\, Predavalniške vaje (VP)\, [S3]
DTSTART;TZID=Europe/Ljubljana:20231003T080000
DTEND;TZID=Europe/Ljubljana:20231003T100000
DTSTAMP:20260420T135947Z
UID:fs-AFLABS-URNIK:srecanje:2543-2023-10-03 08:00:00+02:00
DESCRIPTION:Predmet: Statika in kinematika (STKR)\, Predavalniške vaje (V
 P)\, [S3]\nLetniki: RRP-1 (RRP-1)\nIzvajalci: Domen Gorjup\, Miha Kodrič\
 nProstor: Predavalnica II/5
END:VEVENT
BEGIN:VEVENT
SUMMARY:Statika in kinematika (STKR)\, Predavalniške vaje (VP)\, [S3]
DTSTART;TZID=Europe/Ljubljana:20231010T080000
DTEND;TZID=Europe/Ljubljana:20231010T100000
DTSTAMP:20260420T135947Z
UID:fs-AFLABS-URNIK:srecanje:2543-2023-10-10 08:00:00+02:00
DESCRIPTION:Predmet: Statika in kinematika (STKR)\, Predavalniške vaje (V
 P)\, [S3]\nLetniki: RRP-1 (RRP-1)\nIzvajalci: Domen Gorjup\, Miha Kodrič\
 nProstor: Predavalnica II/5
END:VEVENT
BEGIN:VEVENT
SUMMARY:Statika in kinematika (STKR)\, Predavalniške vaje (VP)\, [S3]
DTSTART;TZID=Europe/Ljubljana:20231024T080000
DTEND;TZID=Europe/Ljubljana:20231024T100000
DTSTAMP:20260420T135947Z
UID:fs-AFLABS-URNIK:srecanje:2543-2023-10-24 08:00:00+02:00
DESCRIPTION:Predmet: Statika in kinematika (STKR)\, Predavalniške vaje (V
 P)\, [S3]\nLetniki: RRP-1 (RRP-1)\nIzvajalci: Domen Gorjup\, Miha Kodrič\
 nProstor: Predavalnica II/5
END:VEVENT
BEGIN:VEVENT
SUMMARY:Statika in kinematika (STKR)\, Predavalniške vaje (VP)\, [S4]
DTSTART;TZID=Europe/Ljubljana:20231003T140000
DTEND;TZID=Europe/Ljubljana:20231003T160000
DTSTAMP:20260420T135947Z
UID:fs-AFLABS-URNIK:srecanje:2544-2023-10-03 14:00:00+02:00
DESCRIPTION:Predmet: Statika in kinematika (STKR)\, Predavalniške vaje (V
 P)\, [S4]\nLetniki: RRP-1 (RRP-1)\nIzvajalci: Gregor Čepon\, Miha Kodrič
 \nProstor: Predavalnica II/3B
END:VEVENT
BEGIN:VEVENT
SUMMARY:Statika in kinematika (STKR)\, Predavalniške vaje (VP)\, [S4]
DTSTART;TZID=Europe/Ljubljana:20231010T140000
DTEND;TZID=Europe/Ljubljana:20231010T160000
DTSTAMP:20260420T135947Z
UID:fs-AFLABS-URNIK:srecanje:2544-2023-10-10 14:00:00+02:00
DESCRIPTION:Predmet: Statika in kinematika (STKR)\, Predavalniške vaje (V
 P)\, [S4]\nLetniki: RRP-1 (RRP-1)\nIzvajalci: Gregor Čepon\, Miha Kodrič
 \nProstor: Predavalnica II/3B
END:VEVENT
BEGIN:VEVENT
SUMMARY:Statika in kinematika (STKR)\, Predavalniške vaje (VP)\, [S4]
DTSTART;TZID=Europe/Ljubljana:20231024T140000
DTEND;TZID=Europe/Ljubljana:20231024T160000
DTSTAMP:20260420T135947Z
UID:fs-AFLABS-URNIK:srecanje:2544-2023-10-24 14:00:00+02:00
DESCRIPTION:Predmet: Statika in kinematika (STKR)\, Predavalniške vaje (V
 P)\, [S4]\nLetniki: RRP-1 (RRP-1)\nIzvajalci: Gregor Čepon\, Miha Kodrič
 \nProstor: Predavalnica II/3B
END:VEVENT
BEGIN:VEVENT
SUMMARY:Višja dinamika (VSDM)\, Predavalniške vaje (VP)\, [S2]
DTSTART;TZID=Europe/Ljubljana:20231006T080000
DTEND;TZID=Europe/Ljubljana:20231006T100000
DTSTAMP:20260420T135947Z
UID:fs-AFLABS-URNIK:srecanje:2647-2023-10-06 08:00:00+02:00
DESCRIPTION:Predmet: Višja dinamika (VSDM)\, Predavalniške vaje (VP)\, [
 S2]\nLetniki: Mehanika (MAG-1)\nIzvajalci: Miha Kodrič\nProstor: Predaval
 nica III/4
END:VEVENT
BEGIN:VEVENT
SUMMARY:Višja dinamika (VSDM)\, Predavalniške vaje (VP)\, [S2]
DTSTART;TZID=Europe/Ljubljana:20231013T080000
DTEND;TZID=Europe/Ljubljana:20231013T100000
DTSTAMP:20260420T135947Z
UID:fs-AFLABS-URNIK:srecanje:2647-2023-10-13 08:00:00+02:00
DESCRIPTION:Predmet: Višja dinamika (VSDM)\, Predavalniške vaje (VP)\, [
 S2]\nLetniki: Mehanika (MAG-1)\nIzvajalci: Miha Kodrič\nProstor: Predaval
 nica III/4
END:VEVENT
BEGIN:VEVENT
SUMMARY:Višja dinamika (VSDM)\, Predavalniške vaje (VP)\, [S2]
DTSTART;TZID=Europe/Ljubljana:20231027T080000
DTEND;TZID=Europe/Ljubljana:20231027T100000
DTSTAMP:20260420T135947Z
UID:fs-AFLABS-URNIK:srecanje:2647-2023-10-27 08:00:00+02:00
DESCRIPTION:Predmet: Višja dinamika (VSDM)\, Predavalniške vaje (VP)\, [
 S2]\nLetniki: Mehanika (MAG-1)\nIzvajalci: Miha Kodrič\nProstor: Predaval
 nica III/4
END:VEVENT
BEGIN:VEVENT
SUMMARY:Višja dinamika (VSDM)\, Laboratorijske vaje (VL)\, [S3]
DTSTART;TZID=Europe/Ljubljana:20231016T100000
DTEND;TZID=Europe/Ljubljana:20231016T120000
DTSTAMP:20260420T135947Z
UID:fs-AFLABS-URNIK:srecanje:4750-2023-10-16 10:00:00+02:00
DESCRIPTION:Predmet: Višja dinamika (VSDM)\, Laboratorijske vaje (VL)\, [
 S3]\nLetniki: Mehanika (MAG-1)\nIzvajalci: Tibor Barši Palmić\, Gregor 
 Čepon\, Martin Česnik\, Domen Gorjup\, Miha Kodrič\, Tilen Košir\, Ga
 šper Krivic\, Miha Pogačar\, Klemen Zaletelj\, Aleš Zorman\nProstor: La
 boratorij LADISK P-17C
END:VEVENT
BEGIN:VEVENT
SUMMARY:Višja dinamika (VSDM)\, Laboratorijske vaje (VL)\, [S4]
DTSTART;TZID=Europe/Ljubljana:20231016T120000
DTEND;TZID=Europe/Ljubljana:20231016T140000
DTSTAMP:20260420T135947Z
UID:fs-AFLABS-URNIK:srecanje:4751-2023-10-16 12:00:00+02:00
DESCRIPTION:Predmet: Višja dinamika (VSDM)\, Laboratorijske vaje (VL)\, [
 S4]\nLetniki: Mehanika (MAG-1)\nIzvajalci: Tibor Barši Palmić\, Gregor 
 Čepon\, Martin Česnik\, Domen Gorjup\, Miha Kodrič\, Tilen Košir\, Ga
 šper Krivic\, Miha Pogačar\, Klemen Zaletelj\, Aleš Zorman\nProstor: La
 boratorij LADISK P-17C
END:VEVENT
BEGIN:VEVENT
SUMMARY:Višja dinamika (VSDM)\, Laboratorijske vaje (VL)\, [S5]
DTSTART;TZID=Europe/Ljubljana:20231016T160000
DTEND;TZID=Europe/Ljubljana:20231016T180000
DTSTAMP:20260420T135947Z
UID:fs-AFLABS-URNIK:srecanje:4752-2023-10-16 16:00:00+02:00
DESCRIPTION:Predmet: Višja dinamika (VSDM)\, Laboratorijske vaje (VL)\, [
 S5]\nLetniki: Mehanika (MAG-1)\nIzvajalci: Tibor Barši Palmić\, Gregor 
 Čepon\, Martin Česnik\, Domen Gorjup\, Miha Kodrič\, Tilen Košir\, Ga
 šper Krivic\, Miha Pogačar\, Klemen Zaletelj\, Aleš Zorman\nProstor: La
 boratorij LADISK P-17C
END:VEVENT
BEGIN:VEVENT
SUMMARY:Višja dinamika (VSDM)\, Laboratorijske vaje (VL)\, [S6]
DTSTART;TZID=Europe/Ljubljana:20231018T160000
DTEND;TZID=Europe/Ljubljana:20231018T180000
DTSTAMP:20260420T135947Z
UID:fs-AFLABS-URNIK:srecanje:4753-2023-10-18 16:00:00+02:00
DESCRIPTION:Predmet: Višja dinamika (VSDM)\, Laboratorijske vaje (VL)\, [
 S6]\nLetniki: Mehanika (MAG-1)\nIzvajalci: Tibor Barši Palmić\, Gregor 
 Čepon\, Martin Česnik\, Domen Gorjup\, Miha Kodrič\, Tilen Košir\, Ga
 šper Krivic\, Miha Pogačar\, Klemen Zaletelj\, Aleš Zorman\nProstor: La
 boratorij LADISK P-17C
END:VEVENT
BEGIN:VEVENT
SUMMARY:Višja dinamika (VSDM)\, Laboratorijske vaje (VL)\, [S7]
DTSTART;TZID=Europe/Ljubljana:20231018T180000
DTEND;TZID=Europe/Ljubljana:20231018T200000
DTSTAMP:20260420T135947Z
UID:fs-AFLABS-URNIK:srecanje:4754-2023-10-18 18:00:00+02:00
DESCRIPTION:Predmet: Višja dinamika (VSDM)\, Laboratorijske vaje (VL)\, [
 S7]\nLetniki: Mehanika (MAG-1)\nIzvajalci: Tibor Barši Palmić\, Gregor 
 Čepon\, Martin Česnik\, Domen Gorjup\, Miha Kodrič\, Tilen Košir\, Ga
 šper Krivic\, Miha Pogačar\, Klemen Zaletelj\, Aleš Zorman\nProstor: La
 boratorij LADISK P-17C
END:VEVENT
BEGIN:VEVENT
SUMMARY:Višja dinamika (VSDM)\, Laboratorijske vaje (VL)\, [S1]
DTSTART;TZID=Europe/Ljubljana:20231019T160000
DTEND;TZID=Europe/Ljubljana:20231019T180000
DTSTAMP:20260420T135947Z
UID:fs-AFLABS-URNIK:srecanje:4755-2023-10-19 16:00:00+02:00
DESCRIPTION:Predmet: Višja dinamika (VSDM)\, Laboratorijske vaje (VL)\, [
 S1]\nLetniki: Mehanika (MAG-1)\nIzvajalci: Tibor Barši Palmić\, Gregor 
 Čepon\, Martin Česnik\, Domen Gorjup\, Miha Kodrič\, Tilen Košir\, Ga
 šper Krivic\, Miha Pogačar\, Klemen Zaletelj\, Aleš Zorman\nProstor: La
 boratorij LADISK P-17C
END:VEVENT
BEGIN:VEVENT
SUMMARY:Višja dinamika (VSDM)\, Laboratorijske vaje (VL)\, [S8]
DTSTART;TZID=Europe/Ljubljana:20231020T100000
DTEND;TZID=Europe/Ljubljana:20231020T120000
DTSTAMP:20260420T135947Z
UID:fs-AFLABS-URNIK:srecanje:4757-2023-10-20 10:00:00+02:00
DESCRIPTION:Predmet: Višja dinamika (VSDM)\, Laboratorijske vaje (VL)\, [
 S8]\nLetniki: Mehanika (MAG-1)\nIzvajalci: Tibor Barši Palmić\, Gregor 
 Čepon\, Domen Gorjup\, Miha Kodrič\, Tilen Košir\, Gašper Krivic\, Mih
 a Pogačar\, Klemen Zaletelj\, Aleš Zorman\nProstor: Laboratorij LADISK P
 -17C
END:VEVENT
BEGIN:VEVENT
SUMMARY:Višja dinamika (VSDM)\, Laboratorijske vaje (VL)\, [S9]
DTSTART;TZID=Europe/Ljubljana:20231020T120000
DTEND;TZID=Europe/Ljubljana:20231020T140000
DTSTAMP:20260420T135947Z
UID:fs-AFLABS-URNIK:srecanje:4759-2023-10-20 12:00:00+02:00
DESCRIPTION:Predmet: Višja dinamika (VSDM)\, Laboratorijske vaje (VL)\, [
 S9]\nLetniki: Mehanika (MAG-1)\nIzvajalci: Tibor Barši Palmić\, Gregor 
 Čepon\, Martin Česnik\, Domen Gorjup\, Miha Kodrič\, Tilen Košir\, Ga
 šper Krivic\, Miha Pogačar\, Aleš Zorman\nProstor: Laboratorij LADISK P
 -17C
END:VEVENT
BEGIN:VEVENT
SUMMARY:Višja dinamika (VSDM)\, Laboratorijske vaje (VL)\, [S2]
DTSTART;TZID=Europe/Ljubljana:20231020T080000
DTEND;TZID=Europe/Ljubljana:20231020T100000
DTSTAMP:20260420T135947Z
UID:fs-AFLABS-URNIK:srecanje:4762-2023-10-20 08:00:00+02:00
DESCRIPTION:Predmet: Višja dinamika (VSDM)\, Laboratorijske vaje (VL)\, [
 S2]\nLetniki: Mehanika (MAG-1)\nIzvajalci: Tibor Barši Palmić\, Martin 
 Česnik\, Domen Gorjup\, Miha Kodrič\, Tilen Košir\, Gašper Krivic\, Mi
 ha Pogačar\, Klemen Zaletelj\, Aleš Zorman\nProstor: Laboratorij LADISK 
 P-17C
END:VEVENT
BEGIN:VEVENT
SUMMARY:Kolokvij 1 - STKR
DTSTART;TZID=Europe/Ljubljana:20231024T180000
DTEND;TZID=Europe/Ljubljana:20231024T200000
DTSTAMP:20260420T135947Z
UID:fs-AFLABS-URNIK:rezervacija:1643
ATTENDEE:RRP-1 (RRP-1)
CATEGORIES:Reservation
COLOR:royalblue
DESCRIPTION:Predmeti: Statika in kinematika (STKR)\nLetniki: RRP-1 (RRP-1)
 \nIzvajalci: Gregor Čepon\, Miha Kodrič\, Miha Pogačar\nProstori: Preda
 valnica III/4\, Predavalnica IV/4\, Predavalnica V/8
LOCATION:Predavalnica III/4\, Predavalnica IV/4\, Predavalnica V/8
ORGANIZER:Gregor Čepon, Miha Kodrič, Miha Pogačar
X-WR-TIMEZONE:Europe/Ljubljana
END:VEVENT
END:VCALENDAR
