BEGIN:VCALENDAR
VERSION:2.0
PRODID:-//AFLabs urnik izvoz - fs//aflabs.si//SI
NAME:UL FS Urnik
X-WR-CALNAME:UL FS Urnik
DTSTAMP:20260423T070052Z
REFRESH-INTERVAL:PT1H
SOURCE:https://urnik.fs.uni-lj.si/teacher/745/?day=2024-09-16&export=1
URL:https://urnik.fs.uni-lj.si/teacher/745/?day=2024-09-16&export=1
X-PUBLISHED-TTL:PT1H
X-WR-TIMEZONE:Europe/Ljubljana
BEGIN:VTIMEZONE
TZID:Europe/Ljubljana
BEGIN:DAYLIGHT
DTSTART:20260329T020000
RDATE:20260329T020000
RDATE:20270328T020000
TZNAME:CEST
TZOFFSETFROM:+0100
TZOFFSETTO:+0200
END:DAYLIGHT
BEGIN:STANDARD
DTSTART:20261025T030000
RDATE:20261025T030000
RDATE:20271031T030000
TZNAME:CET
TZOFFSETFROM:+0200
TZOFFSETTO:+0100
END:STANDARD
END:VTIMEZONE
BEGIN:VEVENT
SUMMARY:Analiza in sinteza mehanizmov (ASMP)\, Predavalniške vaje (VP)
DTSTART;TZID=Europe/Ljubljana:20240930T113000
DTEND;TZID=Europe/Ljubljana:20240930T133000
DTSTAMP:20260423T070052Z
UID:fs-AFLABS-URNIK:srecanje:6391-2024-09-30 11:30:00+02:00
DESCRIPTION:Predmet: Analiza in sinteza mehanizmov (ASMP)\, Predavalniške
  vaje (VP)\nLetniki: Konstruiranje strojev in naprav (PAP-3)\nIzvajalci: S
 imon Krašna\, Robert Kunc\nProstor: Predavalnica III/3A
END:VEVENT
BEGIN:VEVENT
SUMMARY:Analiza in sinteza mehanizmov (ASMP)\, Predavalniške vaje (VP)
DTSTART;TZID=Europe/Ljubljana:20241007T113000
DTEND;TZID=Europe/Ljubljana:20241007T133000
DTSTAMP:20260423T070052Z
UID:fs-AFLABS-URNIK:srecanje:6391-2024-10-07 11:30:00+02:00
DESCRIPTION:Predmet: Analiza in sinteza mehanizmov (ASMP)\, Predavalniške
  vaje (VP)\nLetniki: Konstruiranje strojev in naprav (PAP-3)\nIzvajalci: S
 imon Krašna\, Robert Kunc\nProstor: Predavalnica III/3A
END:VEVENT
BEGIN:VEVENT
SUMMARY:Analiza in sinteza mehanizmov (ASMP)\, Predavanja (P)
DTSTART;TZID=Europe/Ljubljana:20241007T093000
DTEND;TZID=Europe/Ljubljana:20241007T113000
DTSTAMP:20260423T070052Z
UID:fs-AFLABS-URNIK:srecanje:6388-2024-10-07 09:30:00+02:00
DESCRIPTION:Predmet: Analiza in sinteza mehanizmov (ASMP)\, Predavanja (P)
 \nLetniki: Konstruiranje strojev in naprav (PAP-3)\nIzvajalci: Simon Kraš
 na\, Robert Kunc\nProstor: Predavalnica II/3A
END:VEVENT
BEGIN:VEVENT
SUMMARY:Analiza in sinteza mehanizmov (ASMP)\, Predavanja (P)
DTSTART;TZID=Europe/Ljubljana:20241014T093000
DTEND;TZID=Europe/Ljubljana:20241014T113000
DTSTAMP:20260423T070052Z
UID:fs-AFLABS-URNIK:srecanje:6388-2024-10-14 09:30:00+02:00
DESCRIPTION:Predmet: Analiza in sinteza mehanizmov (ASMP)\, Predavanja (P)
 \nLetniki: Konstruiranje strojev in naprav (PAP-3)\nIzvajalci: Simon Kraš
 na\, Robert Kunc\nProstor: Predavalnica II/3A
END:VEVENT
BEGIN:VEVENT
SUMMARY:Analiza in sinteza mehanizmov (ASMP)\, Predavanja (P)
DTSTART;TZID=Europe/Ljubljana:20241021T093000
DTEND;TZID=Europe/Ljubljana:20241021T113000
DTSTAMP:20260423T070052Z
UID:fs-AFLABS-URNIK:srecanje:6388-2024-10-21 09:30:00+02:00
DESCRIPTION:Predmet: Analiza in sinteza mehanizmov (ASMP)\, Predavanja (P)
 \nLetniki: Konstruiranje strojev in naprav (PAP-3)\nIzvajalci: Simon Kraš
 na\, Robert Kunc\nProstor: Predavalnica II/3A
END:VEVENT
BEGIN:VEVENT
SUMMARY:Analiza in sinteza mehanizmov (ASMP)\, Laboratorijske vaje (VL)\, 
 [S1]
DTSTART;TZID=Europe/Ljubljana:20241015T153000
DTEND;TZID=Europe/Ljubljana:20241015T173000
DTSTAMP:20260423T070052Z
UID:fs-AFLABS-URNIK:srecanje:6389-2024-10-15 15:30:00+02:00
DESCRIPTION:Predmet: Analiza in sinteza mehanizmov (ASMP)\, Laboratorijske
  vaje (VL)\, [S1]\nLetniki: Konstruiranje strojev in naprav (PAP-3)\nIzvaj
 alci: Simon Krašna\, Robert Kunc\nProstor: Laboratorij LAMEK\, LAPN III/5
END:VEVENT
BEGIN:VEVENT
SUMMARY:Analiza in sinteza mehanizmov (ASMP)\, Laboratorijske vaje (VL)\, 
 [S2]
DTSTART;TZID=Europe/Ljubljana:20241015T173000
DTEND;TZID=Europe/Ljubljana:20241015T193000
DTSTAMP:20260423T070052Z
UID:fs-AFLABS-URNIK:srecanje:6390-2024-10-15 17:30:00+02:00
DESCRIPTION:Predmet: Analiza in sinteza mehanizmov (ASMP)\, Laboratorijske
  vaje (VL)\, [S2]\nLetniki: Konstruiranje strojev in naprav (PAP-3)\nIzvaj
 alci: Simon Krašna\, Robert Kunc\nProstor: Laboratorij LAMEK\, LAPN III/5
END:VEVENT
END:VCALENDAR
