BEGIN:VCALENDAR
VERSION:2.0
PRODID:-//AFLabs urnik izvoz - fs//aflabs.si//SI
NAME:UL FS Urnik
X-WR-CALNAME:UL FS Urnik
DTSTAMP:20260422T172719Z
REFRESH-INTERVAL:PT1H
SOURCE:https://urnik.fs.uni-lj.si/teacher/755/?day=2024-09-23&export=1
URL:https://urnik.fs.uni-lj.si/teacher/755/?day=2024-09-23&export=1
X-PUBLISHED-TTL:PT1H
X-WR-TIMEZONE:Europe/Ljubljana
BEGIN:VTIMEZONE
TZID:Europe/Ljubljana
BEGIN:DAYLIGHT
DTSTART:20260329T020000
RDATE:20260329T020000
RDATE:20270328T020000
TZNAME:CEST
TZOFFSETFROM:+0100
TZOFFSETTO:+0200
END:DAYLIGHT
BEGIN:STANDARD
DTSTART:20261025T030000
RDATE:20261025T030000
RDATE:20271031T030000
TZNAME:CET
TZOFFSETFROM:+0200
TZOFFSETTO:+0100
END:STANDARD
END:VTIMEZONE
BEGIN:VEVENT
SUMMARY:Izdelovalne tehnologije 2 (IT2R)\, Predavalniške vaje (VP)\, [S1]
DTSTART;TZID=Europe/Ljubljana:20241003T100000
DTEND;TZID=Europe/Ljubljana:20241003T120000
DTSTAMP:20260422T172719Z
UID:fs-AFLABS-URNIK:srecanje:6717-2024-10-03 10:00:00+02:00
DESCRIPTION:Predmet: Izdelovalne tehnologije 2 (IT2R)\, Predavalniške vaj
 e (VP)\, [S1]\nLetniki: RRP-3 (RRP-3)\nIzvajalci: Pavel Drešar\, Jithinra
 j Edaklavan Koroth\, Mirza Imširović\, Marko Jerman\, Jaka Lavrih\, Andr
 ej Lebar\, Izidor Sabotin\, Uroš Trdan\nProstor: Predavalnica III/4
END:VEVENT
BEGIN:VEVENT
SUMMARY:Izdelovalne tehnologije 2 (IT2R)\, Predavalniške vaje (VP)\, [S1]
DTSTART;TZID=Europe/Ljubljana:20241010T100000
DTEND;TZID=Europe/Ljubljana:20241010T120000
DTSTAMP:20260422T172719Z
UID:fs-AFLABS-URNIK:srecanje:6717-2024-10-10 10:00:00+02:00
DESCRIPTION:Predmet: Izdelovalne tehnologije 2 (IT2R)\, Predavalniške vaj
 e (VP)\, [S1]\nLetniki: RRP-3 (RRP-3)\nIzvajalci: Pavel Drešar\, Jithinra
 j Edaklavan Koroth\, Mirza Imširović\, Marko Jerman\, Jaka Lavrih\, Andr
 ej Lebar\, Izidor Sabotin\, Uroš Trdan\nProstor: Predavalnica III/4
END:VEVENT
BEGIN:VEVENT
SUMMARY:Izdelovalne tehnologije 2 (IT2R)\, Predavalniške vaje (VP)\, [S1]
DTSTART;TZID=Europe/Ljubljana:20241017T100000
DTEND;TZID=Europe/Ljubljana:20241017T120000
DTSTAMP:20260422T172719Z
UID:fs-AFLABS-URNIK:srecanje:6717-2024-10-17 10:00:00+02:00
DESCRIPTION:Predmet: Izdelovalne tehnologije 2 (IT2R)\, Predavalniške vaj
 e (VP)\, [S1]\nLetniki: RRP-3 (RRP-3)\nIzvajalci: Pavel Drešar\, Jithinra
 j Edaklavan Koroth\, Mirza Imširović\, Marko Jerman\, Jaka Lavrih\, Andr
 ej Lebar\, Izidor Sabotin\, Uroš Trdan\nProstor: Predavalnica III/4
END:VEVENT
BEGIN:VEVENT
SUMMARY:Izdelovalne tehnologije 2 (IT2R)\, Predavalniške vaje (VP)\, [S1]
DTSTART;TZID=Europe/Ljubljana:20241024T100000
DTEND;TZID=Europe/Ljubljana:20241024T120000
DTSTAMP:20260422T172719Z
UID:fs-AFLABS-URNIK:srecanje:6717-2024-10-24 10:00:00+02:00
DESCRIPTION:Predmet: Izdelovalne tehnologije 2 (IT2R)\, Predavalniške vaj
 e (VP)\, [S1]\nLetniki: RRP-3 (RRP-3)\nIzvajalci: Pavel Drešar\, Jithinra
 j Edaklavan Koroth\, Mirza Imširović\, Marko Jerman\, Jaka Lavrih\, Andr
 ej Lebar\, Izidor Sabotin\, Uroš Trdan\nProstor: Predavalnica III/4
END:VEVENT
BEGIN:VEVENT
SUMMARY:Eksperimentalno modeliranje v EPS (EKMM)\, Laboratorijske vaje (VL
 )\, [S6]
DTSTART;TZID=Europe/Ljubljana:20241007T160000
DTEND;TZID=Europe/Ljubljana:20241007T180000
DTSTAMP:20260422T172719Z
UID:fs-AFLABS-URNIK:srecanje:6479-2024-10-07 16:00:00+02:00
DESCRIPTION:Predmet: Eksperimentalno modeliranje v EPS (EKMM)\, Laboratori
 jske vaje (VL)\, [S6]\nLetniki: Energetsko strojništvo (MAG-1)\nIzvajalci
 : Jaka Lavrih\, Lovrenc Novak\, Jernej Ortar\nProstor: Laboratorij LVTS SI
 -67A
END:VEVENT
BEGIN:VEVENT
SUMMARY:Eksperimentalno modeliranje v EPS (EKMM)\, Laboratorijske vaje (VL
 )\, [S6]
DTSTART;TZID=Europe/Ljubljana:20241014T160000
DTEND;TZID=Europe/Ljubljana:20241014T180000
DTSTAMP:20260422T172719Z
UID:fs-AFLABS-URNIK:srecanje:6479-2024-10-14 16:00:00+02:00
DESCRIPTION:Predmet: Eksperimentalno modeliranje v EPS (EKMM)\, Laboratori
 jske vaje (VL)\, [S6]\nLetniki: Energetsko strojništvo (MAG-1)\nIzvajalci
 : Jaka Lavrih\, Lovrenc Novak\, Jernej Ortar\nProstor: Laboratorij LVTS SI
 -67A
END:VEVENT
BEGIN:VEVENT
SUMMARY:Eksperimentalno modeliranje v EPS (EKMM)\, Laboratorijske vaje (VL
 )\, [S6]
DTSTART;TZID=Europe/Ljubljana:20241021T160000
DTEND;TZID=Europe/Ljubljana:20241021T180000
DTSTAMP:20260422T172719Z
UID:fs-AFLABS-URNIK:srecanje:6479-2024-10-21 16:00:00+02:00
DESCRIPTION:Predmet: Eksperimentalno modeliranje v EPS (EKMM)\, Laboratori
 jske vaje (VL)\, [S6]\nLetniki: Energetsko strojništvo (MAG-1)\nIzvajalci
 : Jaka Lavrih\, Lovrenc Novak\, Jernej Ortar\nProstor: Laboratorij LVTS SI
 -67A
END:VEVENT
BEGIN:VEVENT
SUMMARY:Eksperimentalno modeliranje v EPS (EKMM)\, Laboratorijske vaje (VL
 )\, [S3]
DTSTART;TZID=Europe/Ljubljana:20241008T100000
DTEND;TZID=Europe/Ljubljana:20241008T120000
DTSTAMP:20260422T172719Z
UID:fs-AFLABS-URNIK:srecanje:6476-2024-10-08 10:00:00+02:00
DESCRIPTION:Predmet: Eksperimentalno modeliranje v EPS (EKMM)\, Laboratori
 jske vaje (VL)\, [S3]\nLetniki: Energetsko strojništvo (MAG-1)\nIzvajalci
 : Jaka Lavrih\, Lovrenc Novak\, Jernej Ortar\nProstor: Laboratorij LVTS SI
 -67A
END:VEVENT
BEGIN:VEVENT
SUMMARY:Eksperimentalno modeliranje v EPS (EKMM)\, Laboratorijske vaje (VL
 )\, [S3]
DTSTART;TZID=Europe/Ljubljana:20241015T100000
DTEND;TZID=Europe/Ljubljana:20241015T120000
DTSTAMP:20260422T172719Z
UID:fs-AFLABS-URNIK:srecanje:6476-2024-10-15 10:00:00+02:00
DESCRIPTION:Predmet: Eksperimentalno modeliranje v EPS (EKMM)\, Laboratori
 jske vaje (VL)\, [S3]\nLetniki: Energetsko strojništvo (MAG-1)\nIzvajalci
 : Jaka Lavrih\, Lovrenc Novak\, Jernej Ortar\nProstor: Laboratorij LVTS SI
 -67A
END:VEVENT
BEGIN:VEVENT
SUMMARY:Eksperimentalno modeliranje v EPS (EKMM)\, Laboratorijske vaje (VL
 )\, [S3]
DTSTART;TZID=Europe/Ljubljana:20241022T100000
DTEND;TZID=Europe/Ljubljana:20241022T120000
DTSTAMP:20260422T172719Z
UID:fs-AFLABS-URNIK:srecanje:6476-2024-10-22 10:00:00+02:00
DESCRIPTION:Predmet: Eksperimentalno modeliranje v EPS (EKMM)\, Laboratori
 jske vaje (VL)\, [S3]\nLetniki: Energetsko strojništvo (MAG-1)\nIzvajalci
 : Jaka Lavrih\, Lovrenc Novak\, Jernej Ortar\nProstor: Laboratorij LVTS SI
 -67A
END:VEVENT
BEGIN:VEVENT
SUMMARY:Eksperimentalno modeliranje v EPS (EKMM)\, Laboratorijske vaje (VL
 )\, [S4]
DTSTART;TZID=Europe/Ljubljana:20241009T160000
DTEND;TZID=Europe/Ljubljana:20241009T180000
DTSTAMP:20260422T172719Z
UID:fs-AFLABS-URNIK:srecanje:6477-2024-10-09 16:00:00+02:00
DESCRIPTION:Predmet: Eksperimentalno modeliranje v EPS (EKMM)\, Laboratori
 jske vaje (VL)\, [S4]\nLetniki: Energetsko strojništvo (MAG-1)\nIzvajalci
 : Jaka Lavrih\, Lovrenc Novak\, Jernej Ortar\nProstor: Laboratorij LVTS SI
 -67A
END:VEVENT
BEGIN:VEVENT
SUMMARY:Eksperimentalno modeliranje v EPS (EKMM)\, Laboratorijske vaje (VL
 )\, [S4]
DTSTART;TZID=Europe/Ljubljana:20241016T160000
DTEND;TZID=Europe/Ljubljana:20241016T180000
DTSTAMP:20260422T172719Z
UID:fs-AFLABS-URNIK:srecanje:6477-2024-10-16 16:00:00+02:00
DESCRIPTION:Predmet: Eksperimentalno modeliranje v EPS (EKMM)\, Laboratori
 jske vaje (VL)\, [S4]\nLetniki: Energetsko strojništvo (MAG-1)\nIzvajalci
 : Jaka Lavrih\, Lovrenc Novak\, Jernej Ortar\nProstor: Laboratorij LVTS SI
 -67A
END:VEVENT
BEGIN:VEVENT
SUMMARY:Eksperimentalno modeliranje v EPS (EKMM)\, Laboratorijske vaje (VL
 )\, [S4]
DTSTART;TZID=Europe/Ljubljana:20241023T160000
DTEND;TZID=Europe/Ljubljana:20241023T180000
DTSTAMP:20260422T172719Z
UID:fs-AFLABS-URNIK:srecanje:6477-2024-10-23 16:00:00+02:00
DESCRIPTION:Predmet: Eksperimentalno modeliranje v EPS (EKMM)\, Laboratori
 jske vaje (VL)\, [S4]\nLetniki: Energetsko strojništvo (MAG-1)\nIzvajalci
 : Jaka Lavrih\, Lovrenc Novak\, Jernej Ortar\nProstor: Laboratorij LVTS SI
 -67A
END:VEVENT
BEGIN:VEVENT
SUMMARY:Eksperimentalno modeliranje v EPS (EKMM)\, Laboratorijske vaje (VL
 )\, [S5]
DTSTART;TZID=Europe/Ljubljana:20241009T140000
DTEND;TZID=Europe/Ljubljana:20241009T160000
DTSTAMP:20260422T172719Z
UID:fs-AFLABS-URNIK:srecanje:6478-2024-10-09 14:00:00+02:00
DESCRIPTION:Predmet: Eksperimentalno modeliranje v EPS (EKMM)\, Laboratori
 jske vaje (VL)\, [S5]\nLetniki: Energetsko strojništvo (MAG-1)\nIzvajalci
 : Jaka Lavrih\, Lovrenc Novak\, Jernej Ortar\nProstor: Laboratorij LVTS SI
 -67A
END:VEVENT
BEGIN:VEVENT
SUMMARY:Eksperimentalno modeliranje v EPS (EKMM)\, Laboratorijske vaje (VL
 )\, [S5]
DTSTART;TZID=Europe/Ljubljana:20241016T140000
DTEND;TZID=Europe/Ljubljana:20241016T160000
DTSTAMP:20260422T172719Z
UID:fs-AFLABS-URNIK:srecanje:6478-2024-10-16 14:00:00+02:00
DESCRIPTION:Predmet: Eksperimentalno modeliranje v EPS (EKMM)\, Laboratori
 jske vaje (VL)\, [S5]\nLetniki: Energetsko strojništvo (MAG-1)\nIzvajalci
 : Jaka Lavrih\, Lovrenc Novak\, Jernej Ortar\nProstor: Laboratorij LVTS SI
 -67A
END:VEVENT
BEGIN:VEVENT
SUMMARY:Eksperimentalno modeliranje v EPS (EKMM)\, Laboratorijske vaje (VL
 )\, [S5]
DTSTART;TZID=Europe/Ljubljana:20241023T140000
DTEND;TZID=Europe/Ljubljana:20241023T160000
DTSTAMP:20260422T172719Z
UID:fs-AFLABS-URNIK:srecanje:6478-2024-10-23 14:00:00+02:00
DESCRIPTION:Predmet: Eksperimentalno modeliranje v EPS (EKMM)\, Laboratori
 jske vaje (VL)\, [S5]\nLetniki: Energetsko strojništvo (MAG-1)\nIzvajalci
 : Jaka Lavrih\, Lovrenc Novak\, Jernej Ortar\nProstor: Laboratorij LVTS SI
 -67A
END:VEVENT
BEGIN:VEVENT
SUMMARY:Eksperimentalno modeliranje v EPS (EKMM)\, Laboratorijske vaje (VL
 )\, [S2]
DTSTART;TZID=Europe/Ljubljana:20241010T120000
DTEND;TZID=Europe/Ljubljana:20241010T140000
DTSTAMP:20260422T172719Z
UID:fs-AFLABS-URNIK:srecanje:6475-2024-10-10 12:00:00+02:00
DESCRIPTION:Predmet: Eksperimentalno modeliranje v EPS (EKMM)\, Laboratori
 jske vaje (VL)\, [S2]\nLetniki: Energetsko strojništvo (MAG-1)\nIzvajalci
 : Jaka Lavrih\, Lovrenc Novak\, Jernej Ortar\nProstor: Laboratorij LVTS SI
 -67A
END:VEVENT
BEGIN:VEVENT
SUMMARY:Eksperimentalno modeliranje v EPS (EKMM)\, Laboratorijske vaje (VL
 )\, [S2]
DTSTART;TZID=Europe/Ljubljana:20241017T120000
DTEND;TZID=Europe/Ljubljana:20241017T140000
DTSTAMP:20260422T172719Z
UID:fs-AFLABS-URNIK:srecanje:6475-2024-10-17 12:00:00+02:00
DESCRIPTION:Predmet: Eksperimentalno modeliranje v EPS (EKMM)\, Laboratori
 jske vaje (VL)\, [S2]\nLetniki: Energetsko strojništvo (MAG-1)\nIzvajalci
 : Jaka Lavrih\, Lovrenc Novak\, Jernej Ortar\nProstor: Laboratorij LVTS SI
 -67A
END:VEVENT
BEGIN:VEVENT
SUMMARY:Eksperimentalno modeliranje v EPS (EKMM)\, Laboratorijske vaje (VL
 )\, [S2]
DTSTART;TZID=Europe/Ljubljana:20241024T120000
DTEND;TZID=Europe/Ljubljana:20241024T140000
DTSTAMP:20260422T172719Z
UID:fs-AFLABS-URNIK:srecanje:6475-2024-10-24 12:00:00+02:00
DESCRIPTION:Predmet: Eksperimentalno modeliranje v EPS (EKMM)\, Laboratori
 jske vaje (VL)\, [S2]\nLetniki: Energetsko strojništvo (MAG-1)\nIzvajalci
 : Jaka Lavrih\, Lovrenc Novak\, Jernej Ortar\nProstor: Laboratorij LVTS SI
 -67A
END:VEVENT
BEGIN:VEVENT
SUMMARY:Eksperimentalno modeliranje v EPS (EKMM)\, Laboratorijske vaje (VL
 )\, [S1]
DTSTART;TZID=Europe/Ljubljana:20241011T100000
DTEND;TZID=Europe/Ljubljana:20241011T120000
DTSTAMP:20260422T172719Z
UID:fs-AFLABS-URNIK:srecanje:6474-2024-10-11 10:00:00+02:00
DESCRIPTION:Predmet: Eksperimentalno modeliranje v EPS (EKMM)\, Laboratori
 jske vaje (VL)\, [S1]\nLetniki: Energetsko strojništvo (MAG-1)\nIzvajalci
 : Jaka Lavrih\, Lovrenc Novak\, Jernej Ortar\nProstor: Laboratorij LVTS SI
 -67A
END:VEVENT
BEGIN:VEVENT
SUMMARY:Eksperimentalno modeliranje v EPS (EKMM)\, Laboratorijske vaje (VL
 )\, [S1]
DTSTART;TZID=Europe/Ljubljana:20241018T100000
DTEND;TZID=Europe/Ljubljana:20241018T120000
DTSTAMP:20260422T172719Z
UID:fs-AFLABS-URNIK:srecanje:6474-2024-10-18 10:00:00+02:00
DESCRIPTION:Predmet: Eksperimentalno modeliranje v EPS (EKMM)\, Laboratori
 jske vaje (VL)\, [S1]\nLetniki: Energetsko strojništvo (MAG-1)\nIzvajalci
 : Jaka Lavrih\, Lovrenc Novak\, Jernej Ortar\nProstor: Laboratorij LVTS SI
 -67A
END:VEVENT
BEGIN:VEVENT
SUMMARY:Eksperimentalno modeliranje v EPS (EKMM)\, Laboratorijske vaje (VL
 )\, [S1]
DTSTART;TZID=Europe/Ljubljana:20241025T100000
DTEND;TZID=Europe/Ljubljana:20241025T120000
DTSTAMP:20260422T172719Z
UID:fs-AFLABS-URNIK:srecanje:6474-2024-10-25 10:00:00+02:00
DESCRIPTION:Predmet: Eksperimentalno modeliranje v EPS (EKMM)\, Laboratori
 jske vaje (VL)\, [S1]\nLetniki: Energetsko strojništvo (MAG-1)\nIzvajalci
 : Jaka Lavrih\, Lovrenc Novak\, Jernej Ortar\nProstor: Laboratorij LVTS SI
 -67A
END:VEVENT
BEGIN:VEVENT
SUMMARY:Izdelovalne tehnologije 2 (IT2R)\, Laboratorijske vaje (VL)\, [S7]
DTSTART;TZID=Europe/Ljubljana:20241015T180000
DTEND;TZID=Europe/Ljubljana:20241015T193000
DTSTAMP:20260422T172719Z
UID:fs-AFLABS-URNIK:srecanje:10427-2024-10-15 18:00:00+02:00
DESCRIPTION:Predmet: Izdelovalne tehnologije 2 (IT2R)\, Laboratorijske vaj
 e (VL)\, [S7]\nLetniki: RRP-3 (RRP-3)\nIzvajalci: Pavel Drešar\, Jithinra
 j Edaklavan Koroth\, Mirza Imširović\, Marko Jerman\, Jaka Lavrih\, Andr
 ej Lebar\, Izidor Sabotin\, Uroš Trdan\nProstor: Laboratorij LAVAR SK-11
END:VEVENT
BEGIN:VEVENT
SUMMARY:Izdelovalne tehnologije 2 (IT2R)\, Laboratorijske vaje (VL)\, [S1]
DTSTART;TZID=Europe/Ljubljana:20241015T080000
DTEND;TZID=Europe/Ljubljana:20241015T100000
DTSTAMP:20260422T172719Z
UID:fs-AFLABS-URNIK:srecanje:10449-2024-10-15 08:00:00+02:00
DESCRIPTION:Predmet: Izdelovalne tehnologije 2 (IT2R)\, Laboratorijske vaj
 e (VL)\, [S1]\nLetniki: RRP-3 (RRP-3)\nIzvajalci: Pavel Drešar\, Jithinra
 j Edaklavan Koroth\, Mirza Imširović\, Marko Jerman\, Jaka Lavrih\, Andr
 ej Lebar\, Izidor Sabotin\, Uroš Trdan\nProstor: Laboratorij LAVAR SK-12
END:VEVENT
BEGIN:VEVENT
SUMMARY:Izdelovalne tehnologije 2 (IT2R)\, Laboratorijske vaje (VL)\, [S3]
DTSTART;TZID=Europe/Ljubljana:20241017T080000
DTEND;TZID=Europe/Ljubljana:20241017T100000
DTSTAMP:20260422T172719Z
UID:fs-AFLABS-URNIK:srecanje:10419-2024-10-17 08:00:00+02:00
DESCRIPTION:Predmet: Izdelovalne tehnologije 2 (IT2R)\, Laboratorijske vaj
 e (VL)\, [S3]\nLetniki: RRP-3 (RRP-3)\nIzvajalci: Pavel Drešar\, Jithinra
 j Edaklavan Koroth\, Mirza Imširović\, Marko Jerman\, Jaka Lavrih\, Andr
 ej Lebar\, Izidor Sabotin\, Uroš Trdan\nProstor: Laboratorij LAVAR SK-11
END:VEVENT
BEGIN:VEVENT
SUMMARY:Izdelovalne tehnologije 2 (IT2R)\, Laboratorijske vaje (VL)\, [S11
 ]
DTSTART;TZID=Europe/Ljubljana:20241017T140000
DTEND;TZID=Europe/Ljubljana:20241017T160000
DTSTAMP:20260422T172719Z
UID:fs-AFLABS-URNIK:srecanje:10421-2024-10-17 14:00:00+02:00
DESCRIPTION:Predmet: Izdelovalne tehnologije 2 (IT2R)\, Laboratorijske vaj
 e (VL)\, [S11]\nLetniki: RRP-3 (RRP-3)\nIzvajalci: Pavel Drešar\, Jithinr
 aj Edaklavan Koroth\, Mirza Imširović\, Marko Jerman\, Jaka Lavrih\, And
 rej Lebar\, Izidor Sabotin\, Uroš Trdan\nProstor: Laboratorij LAVAR SK-11
END:VEVENT
BEGIN:VEVENT
SUMMARY:Izdelovalne tehnologije 2 (IT2R)\, Laboratorijske vaje (VL)\, [S13
 ]
DTSTART;TZID=Europe/Ljubljana:20241018T073000
DTEND;TZID=Europe/Ljubljana:20241018T090000
DTSTAMP:20260422T172719Z
UID:fs-AFLABS-URNIK:srecanje:10433-2024-10-18 07:30:00+02:00
DESCRIPTION:Predmet: Izdelovalne tehnologije 2 (IT2R)\, Laboratorijske vaj
 e (VL)\, [S13]\nLetniki: RRP-3 (RRP-3)\nIzvajalci: Jithinraj Edaklavan Kor
 oth\, Mirza Imširović\, Jaka Lavrih\, Uroš Trdan\nProstor: Laboratorij 
 LAVAR SK-11
END:VEVENT
BEGIN:VEVENT
SUMMARY:Aditivne tehnologije (ADTM)\, Laboratorijske vaje (VL)\, [S4]
DTSTART;TZID=Europe/Ljubljana:20241022T140000
DTEND;TZID=Europe/Ljubljana:20241022T160000
DTSTAMP:20260422T172719Z
UID:fs-AFLABS-URNIK:srecanje:6360-2024-10-22 14:00:00+02:00
DESCRIPTION:Predmet: Aditivne tehnologije (ADTM)\, Laboratorijske vaje (VL
 )\, [S4]\nLetniki: Proizvodno strojništvo (MAG-2)\nIzvajalci: Mirza Imši
 rović\, Andrej Jeromen\, Damjan Klobčar\, Jaka Lavrih\, Uroš Trdan\nPro
 stor: Laboratorij LASIN SP-43
END:VEVENT
BEGIN:VEVENT
SUMMARY:Izdelovalne tehnologije 2 (IT2R)\, Laboratorijske vaje (VL)\, [S8]
DTSTART;TZID=Europe/Ljubljana:20241022T180000
DTEND;TZID=Europe/Ljubljana:20241022T193000
DTSTAMP:20260422T172719Z
UID:fs-AFLABS-URNIK:srecanje:10430-2024-10-22 18:00:00+02:00
DESCRIPTION:Predmet: Izdelovalne tehnologije 2 (IT2R)\, Laboratorijske vaj
 e (VL)\, [S8]\nLetniki: RRP-3 (RRP-3)\nIzvajalci: Pavel Drešar\, Jithinra
 j Edaklavan Koroth\, Mirza Imširović\, Marko Jerman\, Jaka Lavrih\, Andr
 ej Lebar\, Izidor Sabotin\, Uroš Trdan\nProstor: Laboratorij LAVAR SK-11
END:VEVENT
BEGIN:VEVENT
SUMMARY:Izdelovalne tehnologije 2 (IT2R)\, Laboratorijske vaje (VL)\, [S2]
DTSTART;TZID=Europe/Ljubljana:20241022T080000
DTEND;TZID=Europe/Ljubljana:20241022T100000
DTSTAMP:20260422T172719Z
UID:fs-AFLABS-URNIK:srecanje:10450-2024-10-22 08:00:00+02:00
DESCRIPTION:Predmet: Izdelovalne tehnologije 2 (IT2R)\, Laboratorijske vaj
 e (VL)\, [S2]\nLetniki: RRP-3 (RRP-3)\nIzvajalci: Pavel Drešar\, Jithinra
 j Edaklavan Koroth\, Mirza Imširović\, Marko Jerman\, Jaka Lavrih\, Andr
 ej Lebar\, Izidor Sabotin\, Uroš Trdan\nProstor: Laboratorij LAVAR SK-11
END:VEVENT
BEGIN:VEVENT
SUMMARY:Aditivne tehnologije (ADTM)\, Laboratorijske vaje (VL)\, [S3]
DTSTART;TZID=Europe/Ljubljana:20241022T100000
DTEND;TZID=Europe/Ljubljana:20241022T120000
DTSTAMP:20260422T172719Z
UID:fs-AFLABS-URNIK:srecanje:6359-2024-10-22 10:00:00+02:00
DESCRIPTION:Predmet: Aditivne tehnologije (ADTM)\, Laboratorijske vaje (VL
 )\, [S3]\nLetniki: Proizvodno strojništvo (MAG-2)\nIzvajalci: Mirza Imši
 rović\, Andrej Jeromen\, Damjan Klobčar\, Jaka Lavrih\, Uroš Trdan\nPro
 stor: Laboratorij LASIN SP-43
END:VEVENT
BEGIN:VEVENT
SUMMARY:Izdelovalne tehnologije 2 (IT2R)\, Laboratorijske vaje (VL)\, [S4]
DTSTART;TZID=Europe/Ljubljana:20241024T080000
DTEND;TZID=Europe/Ljubljana:20241024T100000
DTSTAMP:20260422T172719Z
UID:fs-AFLABS-URNIK:srecanje:10420-2024-10-24 08:00:00+02:00
DESCRIPTION:Predmet: Izdelovalne tehnologije 2 (IT2R)\, Laboratorijske vaj
 e (VL)\, [S4]\nLetniki: RRP-3 (RRP-3)\nIzvajalci: Pavel Drešar\, Jithinra
 j Edaklavan Koroth\, Mirza Imširović\, Marko Jerman\, Jaka Lavrih\, Andr
 ej Lebar\, Izidor Sabotin\, Uroš Trdan\nProstor: Laboratorij LAVAR SK-11
END:VEVENT
BEGIN:VEVENT
SUMMARY:Izdelovalne tehnologije 2 (IT2R)\, Laboratorijske vaje (VL)\, [S14
 ]
DTSTART;TZID=Europe/Ljubljana:20241025T073000
DTEND;TZID=Europe/Ljubljana:20241025T090000
DTSTAMP:20260422T172719Z
UID:fs-AFLABS-URNIK:srecanje:10436-2024-10-25 07:30:00+02:00
DESCRIPTION:Predmet: Izdelovalne tehnologije 2 (IT2R)\, Laboratorijske vaj
 e (VL)\, [S14]\nLetniki: RRP-3 (RRP-3)\nIzvajalci: Jithinraj Edaklavan Kor
 oth\, Mirza Imširović\, Jaka Lavrih\, Uroš Trdan\nProstor: Laboratorij 
 LAVAR SK-11
END:VEVENT
BEGIN:VEVENT
SUMMARY:Aditivne tehnologije (ADTM)\, Laboratorijske vaje (VL)\, [S5]
DTSTART;TZID=Europe/Ljubljana:20241025T140000
DTEND;TZID=Europe/Ljubljana:20241025T160000
DTSTAMP:20260422T172719Z
UID:fs-AFLABS-URNIK:srecanje:6361-2024-10-25 14:00:00+02:00
DESCRIPTION:Predmet: Aditivne tehnologije (ADTM)\, Laboratorijske vaje (VL
 )\, [S5]\nLetniki: Proizvodno strojništvo (MAG-2)\nIzvajalci: Mirza Imši
 rović\, Andrej Jeromen\, Damjan Klobčar\, Jaka Lavrih\, Uroš Trdan\nPro
 stor: Laboratorij LASIN SP-43
END:VEVENT
BEGIN:VEVENT
SUMMARY:Aditivne tehnologije (ADTM)\, Laboratorijske vaje (VL)\, [S1]
DTSTART;TZID=Europe/Ljubljana:20241025T120000
DTEND;TZID=Europe/Ljubljana:20241025T140000
DTSTAMP:20260422T172719Z
UID:fs-AFLABS-URNIK:srecanje:6357-2024-10-25 12:00:00+02:00
DESCRIPTION:Predmet: Aditivne tehnologije (ADTM)\, Laboratorijske vaje (VL
 )\, [S1]\nLetniki: Proizvodno strojništvo (MAG-2)\nIzvajalci: Mirza Imši
 rović\, Andrej Jeromen\, Damjan Klobčar\, Jaka Lavrih\, Uroš Trdan\nPro
 stor: Laboratorij LASIN SP-43
END:VEVENT
BEGIN:VEVENT
SUMMARY:Eksperimentalno modeliranje v EPS (EKMM)\, Laboratorijske vaje (VL
 )\, [S2]
DTSTART;TZID=Europe/Ljubljana:20241028T120000
DTEND;TZID=Europe/Ljubljana:20241028T140000
DTSTAMP:20260422T172719Z
UID:fs-AFLABS-URNIK:premaknjeno-srecanje:101796
ATTENDEE:Energetsko strojništvo (MAG-1)
CATEGORIES:Entry,Special
COLOR:forestgreen
DESCRIPTION:Predmet: Eksperimentalno modeliranje v EPS (EKMM)\, Laboratori
 jske vaje (VL)\, [S2]\nLetniki: Energetsko strojništvo (MAG-1)\nIzvajalci
 : Jaka Lavrih\, Lovrenc Novak\, Jernej Ortar\nProstor: Laboratorij LVTS SI
 -67A
LOCATION:Laboratorij LVTS SI-67A
ORGANIZER:Jaka Lavrih, Lovrenc Novak, Jernej Ortar
RELATED-TO:fs-AFLABS-URNIK:srecanje:14009
X-WR-TIMEZONE:Europe/Ljubljana
END:VEVENT
BEGIN:VEVENT
SUMMARY:Izdelovalne tehnologije 2 (IT2R)\, Predavalniške vaje (VP)\, [S1]
DTSTART;TZID=Europe/Ljubljana:20241028T100000
DTEND;TZID=Europe/Ljubljana:20241028T120000
DTSTAMP:20260422T172719Z
UID:fs-AFLABS-URNIK:premaknjeno-srecanje:101817
ATTENDEE:RRP-3 (RRP-3)
CATEGORIES:Entry,Special
COLOR:forestgreen
DESCRIPTION:Predmet: Izdelovalne tehnologije 2 (IT2R)\, Predavalniške vaj
 e (VP)\, [S1]\nLetniki: RRP-3 (RRP-3)\nIzvajalci: Pavel Drešar\, Jithinra
 j Edaklavan Koroth\, Mirza Imširović\, Marko Jerman\, Jaka Lavrih\, Andr
 ej Lebar\, Izidor Sabotin\, Uroš Trdan\nProstor: Predavalnica III/4
LOCATION:Predavalnica III/4
ORGANIZER:Pavel Drešar, Jithinraj Edaklavan Koroth, Mirza Imširović, Ma
 rko Jerman, Jaka Lavrih, Andrej Lebar, Izidor Sabotin, Uroš Trdan
RELATED-TO:fs-AFLABS-URNIK:srecanje:14030
X-WR-TIMEZONE:Europe/Ljubljana
END:VEVENT
END:VCALENDAR
