BEGIN:VCALENDAR
VERSION:2.0
PRODID:-//AFLabs urnik izvoz - fs//aflabs.si//SI
NAME:UL FS Urnik
X-WR-CALNAME:UL FS Urnik
DTSTAMP:20260419T122022Z
REFRESH-INTERVAL:PT1H
SOURCE:https://urnik.fs.uni-lj.si/teacher/756/?day=2024-04-22&export=1
URL:https://urnik.fs.uni-lj.si/teacher/756/?day=2024-04-22&export=1
X-PUBLISHED-TTL:PT1H
X-WR-TIMEZONE:Europe/Ljubljana
BEGIN:VTIMEZONE
TZID:Europe/Ljubljana
BEGIN:DAYLIGHT
DTSTART:20260329T020000
RDATE:20260329T020000
RDATE:20270328T020000
TZNAME:CEST
TZOFFSETFROM:+0100
TZOFFSETTO:+0200
END:DAYLIGHT
BEGIN:STANDARD
DTSTART:20261025T030000
RDATE:20261025T030000
RDATE:20271031T030000
TZNAME:CET
TZOFFSETFROM:+0200
TZOFFSETTO:+0100
END:STANDARD
END:VTIMEZONE
BEGIN:VEVENT
SUMMARY:Nekonvencionalni izdelovalni procesi (NIPP)\, Predavanja (P)
DTSTART;TZID=Europe/Ljubljana:20240223T113000
DTEND;TZID=Europe/Ljubljana:20240223T133000
DTSTAMP:20260419T122022Z
UID:fs-AFLABS-URNIK:srecanje:8051-2024-02-23 11:30:00+01:00
DESCRIPTION:Predmet: Nekonvencionalni izdelovalni procesi (NIPP)\, Predava
 nja (P)\nLetniki: Proizvodne tehnologije (PAP-2)\nIzvajalci: Andrej Lebar\
 , Joško Valentinčič\nProstor: Predavalnica III/3B
END:VEVENT
BEGIN:VEVENT
SUMMARY:Nekonvencionalni izdelovalni procesi (NIPP)\, Predavanja (P)
DTSTART;TZID=Europe/Ljubljana:20240301T113000
DTEND;TZID=Europe/Ljubljana:20240301T133000
DTSTAMP:20260419T122022Z
UID:fs-AFLABS-URNIK:srecanje:8051-2024-03-01 11:30:00+01:00
DESCRIPTION:Predmet: Nekonvencionalni izdelovalni procesi (NIPP)\, Predava
 nja (P)\nLetniki: Proizvodne tehnologije (PAP-2)\nIzvajalci: Andrej Lebar\
 , Joško Valentinčič\nProstor: Predavalnica III/3B
END:VEVENT
BEGIN:VEVENT
SUMMARY:Nekonvencionalni izdelovalni procesi (NIPP)\, Predavanja (P)
DTSTART;TZID=Europe/Ljubljana:20240308T113000
DTEND;TZID=Europe/Ljubljana:20240308T133000
DTSTAMP:20260419T122022Z
UID:fs-AFLABS-URNIK:srecanje:8051-2024-03-08 11:30:00+01:00
DESCRIPTION:Predmet: Nekonvencionalni izdelovalni procesi (NIPP)\, Predava
 nja (P)\nLetniki: Proizvodne tehnologije (PAP-2)\nIzvajalci: Andrej Lebar\
 , Joško Valentinčič\nProstor: Predavalnica III/3B
END:VEVENT
BEGIN:VEVENT
SUMMARY:Nekonvencionalni izdelovalni procesi (NIPP)\, Predavanja (P)
DTSTART;TZID=Europe/Ljubljana:20240315T113000
DTEND;TZID=Europe/Ljubljana:20240315T133000
DTSTAMP:20260419T122022Z
UID:fs-AFLABS-URNIK:srecanje:8051-2024-03-15 11:30:00+01:00
DESCRIPTION:Predmet: Nekonvencionalni izdelovalni procesi (NIPP)\, Predava
 nja (P)\nLetniki: Proizvodne tehnologije (PAP-2)\nIzvajalci: Andrej Lebar\
 , Joško Valentinčič\nProstor: Predavalnica III/3B
END:VEVENT
BEGIN:VEVENT
SUMMARY:Nekonvencionalni izdelovalni procesi (NIPP)\, Predavanja (P)
DTSTART;TZID=Europe/Ljubljana:20240322T113000
DTEND;TZID=Europe/Ljubljana:20240322T133000
DTSTAMP:20260419T122022Z
UID:fs-AFLABS-URNIK:srecanje:8051-2024-03-22 11:30:00+01:00
DESCRIPTION:Predmet: Nekonvencionalni izdelovalni procesi (NIPP)\, Predava
 nja (P)\nLetniki: Proizvodne tehnologije (PAP-2)\nIzvajalci: Andrej Lebar\
 , Joško Valentinčič\nProstor: Predavalnica III/3B
END:VEVENT
BEGIN:VEVENT
SUMMARY:Nekonvencionalni izdelovalni procesi (NIPP)\, Predavanja (P)
DTSTART;TZID=Europe/Ljubljana:20240329T113000
DTEND;TZID=Europe/Ljubljana:20240329T133000
DTSTAMP:20260419T122022Z
UID:fs-AFLABS-URNIK:srecanje:8051-2024-03-29 11:30:00+01:00
DESCRIPTION:Predmet: Nekonvencionalni izdelovalni procesi (NIPP)\, Predava
 nja (P)\nLetniki: Proizvodne tehnologije (PAP-2)\nIzvajalci: Andrej Lebar\
 , Joško Valentinčič\nProstor: Predavalnica III/3B
END:VEVENT
BEGIN:VEVENT
SUMMARY:Nekonvencionalni izdelovalni procesi (NIPP)\, Predavanja (P)
DTSTART;TZID=Europe/Ljubljana:20240405T113000
DTEND;TZID=Europe/Ljubljana:20240405T133000
DTSTAMP:20260419T122022Z
UID:fs-AFLABS-URNIK:srecanje:8051-2024-04-05 11:30:00+02:00
DESCRIPTION:Predmet: Nekonvencionalni izdelovalni procesi (NIPP)\, Predava
 nja (P)\nLetniki: Proizvodne tehnologije (PAP-2)\nIzvajalci: Andrej Lebar\
 , Joško Valentinčič\nProstor: Predavalnica III/3B
END:VEVENT
BEGIN:VEVENT
SUMMARY:Nekonvencionalni izdelovalni procesi (NIPP)\, Predavanja (P)
DTSTART;TZID=Europe/Ljubljana:20240412T113000
DTEND;TZID=Europe/Ljubljana:20240412T133000
DTSTAMP:20260419T122022Z
UID:fs-AFLABS-URNIK:srecanje:8051-2024-04-12 11:30:00+02:00
DESCRIPTION:Predmet: Nekonvencionalni izdelovalni procesi (NIPP)\, Predava
 nja (P)\nLetniki: Proizvodne tehnologije (PAP-2)\nIzvajalci: Andrej Lebar\
 , Joško Valentinčič\nProstor: Predavalnica III/3B
END:VEVENT
BEGIN:VEVENT
SUMMARY:Nekonvencionalni izdelovalni procesi (NIPP)\, Predavanja (P)
DTSTART;TZID=Europe/Ljubljana:20240419T113000
DTEND;TZID=Europe/Ljubljana:20240419T133000
DTSTAMP:20260419T122022Z
UID:fs-AFLABS-URNIK:srecanje:8051-2024-04-19 11:30:00+02:00
DESCRIPTION:Predmet: Nekonvencionalni izdelovalni procesi (NIPP)\, Predava
 nja (P)\nLetniki: Proizvodne tehnologije (PAP-2)\nIzvajalci: Andrej Lebar\
 , Joško Valentinčič\nProstor: Predavalnica III/3B
END:VEVENT
BEGIN:VEVENT
SUMMARY:Nekonvencionalni izdelovalni procesi (NIPP)\, Predavanja (P)
DTSTART;TZID=Europe/Ljubljana:20240426T113000
DTEND;TZID=Europe/Ljubljana:20240426T133000
DTSTAMP:20260419T122022Z
UID:fs-AFLABS-URNIK:srecanje:8051-2024-04-26 11:30:00+02:00
DESCRIPTION:Predmet: Nekonvencionalni izdelovalni procesi (NIPP)\, Predava
 nja (P)\nLetniki: Proizvodne tehnologije (PAP-2)\nIzvajalci: Andrej Lebar\
 , Joško Valentinčič\nProstor: Predavalnica III/3B
END:VEVENT
BEGIN:VEVENT
SUMMARY:Nekonvencionalni izdelovalni procesi (NIPP)\, Predavanja (P)
DTSTART;TZID=Europe/Ljubljana:20240503T113000
DTEND;TZID=Europe/Ljubljana:20240503T133000
DTSTAMP:20260419T122022Z
UID:fs-AFLABS-URNIK:srecanje:8051-2024-05-03 11:30:00+02:00
DESCRIPTION:Predmet: Nekonvencionalni izdelovalni procesi (NIPP)\, Predava
 nja (P)\nLetniki: Proizvodne tehnologije (PAP-2)\nIzvajalci: Andrej Lebar\
 , Joško Valentinčič\nProstor: Predavalnica III/3B
END:VEVENT
BEGIN:VEVENT
SUMMARY:Nekonvencionalni izdelovalni procesi (NIPP)\, Predavanja (P)
DTSTART;TZID=Europe/Ljubljana:20240510T113000
DTEND;TZID=Europe/Ljubljana:20240510T133000
DTSTAMP:20260419T122022Z
UID:fs-AFLABS-URNIK:srecanje:8051-2024-05-10 11:30:00+02:00
DESCRIPTION:Predmet: Nekonvencionalni izdelovalni procesi (NIPP)\, Predava
 nja (P)\nLetniki: Proizvodne tehnologije (PAP-2)\nIzvajalci: Andrej Lebar\
 , Joško Valentinčič\nProstor: Predavalnica III/3B
END:VEVENT
BEGIN:VEVENT
SUMMARY:Nekonvencionalni izdelovalni procesi (NIPP)\, Predavanja (P)
DTSTART;TZID=Europe/Ljubljana:20240517T113000
DTEND;TZID=Europe/Ljubljana:20240517T133000
DTSTAMP:20260419T122022Z
UID:fs-AFLABS-URNIK:srecanje:8051-2024-05-17 11:30:00+02:00
DESCRIPTION:Predmet: Nekonvencionalni izdelovalni procesi (NIPP)\, Predava
 nja (P)\nLetniki: Proizvodne tehnologije (PAP-2)\nIzvajalci: Andrej Lebar\
 , Joško Valentinčič\nProstor: Predavalnica III/3B
END:VEVENT
BEGIN:VEVENT
SUMMARY:Nekonvencionalni izdelovalni procesi (NIPP)\, Predavanja (P)
DTSTART;TZID=Europe/Ljubljana:20240524T113000
DTEND;TZID=Europe/Ljubljana:20240524T133000
DTSTAMP:20260419T122022Z
UID:fs-AFLABS-URNIK:srecanje:8051-2024-05-24 11:30:00+02:00
DESCRIPTION:Predmet: Nekonvencionalni izdelovalni procesi (NIPP)\, Predava
 nja (P)\nLetniki: Proizvodne tehnologije (PAP-2)\nIzvajalci: Andrej Lebar\
 , Joško Valentinčič\nProstor: Predavalnica III/3B
END:VEVENT
BEGIN:VEVENT
SUMMARY:Nekonvencionalni izdelovalni procesi (NIPP)\, Predavanja (P)
DTSTART;TZID=Europe/Ljubljana:20240531T113000
DTEND;TZID=Europe/Ljubljana:20240531T133000
DTSTAMP:20260419T122022Z
UID:fs-AFLABS-URNIK:srecanje:8051-2024-05-31 11:30:00+02:00
DESCRIPTION:Predmet: Nekonvencionalni izdelovalni procesi (NIPP)\, Predava
 nja (P)\nLetniki: Proizvodne tehnologije (PAP-2)\nIzvajalci: Andrej Lebar\
 , Joško Valentinčič\nProstor: Predavalnica III/3B
END:VEVENT
BEGIN:VEVENT
SUMMARY:Tehnologije v proizvodnji 1 (TP1P)\, Laboratorijske vaje (VL)\, [S
 7]
DTSTART;TZID=Europe/Ljubljana:20240318T100000
DTEND;TZID=Europe/Ljubljana:20240318T130000
DTSTAMP:20260419T122022Z
UID:fs-AFLABS-URNIK:srecanje:8812-2024-03-18 10:00:00+01:00
DESCRIPTION:Predmet: Tehnologije v proizvodnji 1 (TP1P)\, Laboratorijske v
 aje (VL)\, [S7]\nLetniki: PAP-1 (PAP-1)\nIzvajalci: Jaka Dugar\, Damir Grg
 uraš\, Marko Jerman\, Luka Kastelic\, Matjaž Kern\, Davorin Kramar\, And
 rej Lebar\, Vinko Rotar\, Izidor Sabotin\, Luka Sterle\nProstor: Laborator
 ij LABOD SP-DL-1
END:VEVENT
BEGIN:VEVENT
SUMMARY:Tehnologije v proizvodnji 1 (TP1P)\, Laboratorijske vaje (VL)\, [S
 7]
DTSTART;TZID=Europe/Ljubljana:20240325T100000
DTEND;TZID=Europe/Ljubljana:20240325T130000
DTSTAMP:20260419T122022Z
UID:fs-AFLABS-URNIK:srecanje:8812-2024-03-25 10:00:00+01:00
DESCRIPTION:Predmet: Tehnologije v proizvodnji 1 (TP1P)\, Laboratorijske v
 aje (VL)\, [S7]\nLetniki: PAP-1 (PAP-1)\nIzvajalci: Jaka Dugar\, Damir Grg
 uraš\, Marko Jerman\, Luka Kastelic\, Matjaž Kern\, Davorin Kramar\, And
 rej Lebar\, Vinko Rotar\, Izidor Sabotin\, Luka Sterle\nProstor: Laborator
 ij LABOD SP-DL-1
END:VEVENT
BEGIN:VEVENT
SUMMARY:Tehnologije v proizvodnji 1 (TP1P)\, Laboratorijske vaje (VL)\, [S
 5]
DTSTART;TZID=Europe/Ljubljana:20240318T160000
DTEND;TZID=Europe/Ljubljana:20240318T190000
DTSTAMP:20260419T122022Z
UID:fs-AFLABS-URNIK:srecanje:8815-2024-03-18 16:00:00+01:00
DESCRIPTION:Predmet: Tehnologije v proizvodnji 1 (TP1P)\, Laboratorijske v
 aje (VL)\, [S5]\nLetniki: PAP-1 (PAP-1)\nIzvajalci: Jaka Dugar\, Damir Grg
 uraš\, Marko Jerman\, Luka Kastelic\, Matjaž Kern\, Andrej Lebar\, Vinko
  Rotar\, Izidor Sabotin\, Luka Sterle\nProstor: Laboratorij LABOD SP-DL-1
END:VEVENT
BEGIN:VEVENT
SUMMARY:Tehnologije v proizvodnji 1 (TP1P)\, Laboratorijske vaje (VL)\, [S
 5]
DTSTART;TZID=Europe/Ljubljana:20240325T160000
DTEND;TZID=Europe/Ljubljana:20240325T190000
DTSTAMP:20260419T122022Z
UID:fs-AFLABS-URNIK:srecanje:8815-2024-03-25 16:00:00+01:00
DESCRIPTION:Predmet: Tehnologije v proizvodnji 1 (TP1P)\, Laboratorijske v
 aje (VL)\, [S5]\nLetniki: PAP-1 (PAP-1)\nIzvajalci: Jaka Dugar\, Damir Grg
 uraš\, Marko Jerman\, Luka Kastelic\, Matjaž Kern\, Andrej Lebar\, Vinko
  Rotar\, Izidor Sabotin\, Luka Sterle\nProstor: Laboratorij LABOD SP-DL-1
END:VEVENT
BEGIN:VEVENT
SUMMARY:Tehnologije v proizvodnji 1 (TP1P)\, Laboratorijske vaje (VL)\, [S
 11]
DTSTART;TZID=Europe/Ljubljana:20240319T153000
DTEND;TZID=Europe/Ljubljana:20240319T183000
DTSTAMP:20260419T122022Z
UID:fs-AFLABS-URNIK:srecanje:8821-2024-03-19 15:30:00+01:00
DESCRIPTION:Predmet: Tehnologije v proizvodnji 1 (TP1P)\, Laboratorijske v
 aje (VL)\, [S11]\nLetniki: PAP-1 (PAP-1)\nIzvajalci: Jaka Dugar\, Damir Gr
 guraš\, Marko Jerman\, Luka Kastelic\, Matjaž Kern\, Davorin Kramar\, An
 drej Lebar\, Vinko Rotar\, Izidor Sabotin\, Luka Sterle\nProstor: Laborato
 rij LABOD SP-DL-1
END:VEVENT
BEGIN:VEVENT
SUMMARY:Tehnologije v proizvodnji 1 (TP1P)\, Laboratorijske vaje (VL)\, [S
 11]
DTSTART;TZID=Europe/Ljubljana:20240326T153000
DTEND;TZID=Europe/Ljubljana:20240326T183000
DTSTAMP:20260419T122022Z
UID:fs-AFLABS-URNIK:srecanje:8821-2024-03-26 15:30:00+01:00
DESCRIPTION:Predmet: Tehnologije v proizvodnji 1 (TP1P)\, Laboratorijske v
 aje (VL)\, [S11]\nLetniki: PAP-1 (PAP-1)\nIzvajalci: Jaka Dugar\, Damir Gr
 guraš\, Marko Jerman\, Luka Kastelic\, Matjaž Kern\, Davorin Kramar\, An
 drej Lebar\, Vinko Rotar\, Izidor Sabotin\, Luka Sterle\nProstor: Laborato
 rij LABOD SP-DL-1
END:VEVENT
BEGIN:VEVENT
SUMMARY:Tehnologije v proizvodnji 1 (TP1P)\, Laboratorijske vaje (VL)\, [S
 13]
DTSTART;TZID=Europe/Ljubljana:20240320T123000
DTEND;TZID=Europe/Ljubljana:20240320T153000
DTSTAMP:20260419T122022Z
UID:fs-AFLABS-URNIK:srecanje:8818-2024-03-20 12:30:00+01:00
DESCRIPTION:Predmet: Tehnologije v proizvodnji 1 (TP1P)\, Laboratorijske v
 aje (VL)\, [S13]\nLetniki: PAP-1 (PAP-1)\nIzvajalci: Jaka Dugar\, Damir Gr
 guraš\, Marko Jerman\, Luka Kastelic\, Matjaž Kern\, Davorin Kramar\, An
 drej Lebar\, Vinko Rotar\, Izidor Sabotin\, Luka Sterle\nProstor: Laborato
 rij LABOD SP-DL-1
END:VEVENT
BEGIN:VEVENT
SUMMARY:Tehnologije v proizvodnji 1 (TP1P)\, Laboratorijske vaje (VL)\, [S
 13]
DTSTART;TZID=Europe/Ljubljana:20240327T123000
DTEND;TZID=Europe/Ljubljana:20240327T153000
DTSTAMP:20260419T122022Z
UID:fs-AFLABS-URNIK:srecanje:8818-2024-03-27 12:30:00+01:00
DESCRIPTION:Predmet: Tehnologije v proizvodnji 1 (TP1P)\, Laboratorijske v
 aje (VL)\, [S13]\nLetniki: PAP-1 (PAP-1)\nIzvajalci: Jaka Dugar\, Damir Gr
 guraš\, Marko Jerman\, Luka Kastelic\, Matjaž Kern\, Davorin Kramar\, An
 drej Lebar\, Vinko Rotar\, Izidor Sabotin\, Luka Sterle\nProstor: Laborato
 rij LABOD SP-DL-1
END:VEVENT
BEGIN:VEVENT
SUMMARY:Tehnologije v proizvodnji 1 (TP1P)\, Laboratorijske vaje (VL)\, [S
 15]
DTSTART;TZID=Europe/Ljubljana:20240320T153000
DTEND;TZID=Europe/Ljubljana:20240320T183000
DTSTAMP:20260419T122022Z
UID:fs-AFLABS-URNIK:srecanje:8827-2024-03-20 15:30:00+01:00
DESCRIPTION:Predmet: Tehnologije v proizvodnji 1 (TP1P)\, Laboratorijske v
 aje (VL)\, [S15]\nLetniki: PAP-1 (PAP-1)\nIzvajalci: Jaka Dugar\, Damir Gr
 guraš\, Marko Jerman\, Luka Kastelic\, Matjaž Kern\, Davorin Kramar\, An
 drej Lebar\, Vinko Rotar\, Izidor Sabotin\, Luka Sterle\nProstor: Laborato
 rij LABOD SP-DL-1
END:VEVENT
BEGIN:VEVENT
SUMMARY:Tehnologije v proizvodnji 1 (TP1P)\, Laboratorijske vaje (VL)\, [S
 15]
DTSTART;TZID=Europe/Ljubljana:20240327T153000
DTEND;TZID=Europe/Ljubljana:20240327T183000
DTSTAMP:20260419T122022Z
UID:fs-AFLABS-URNIK:srecanje:8827-2024-03-27 15:30:00+01:00
DESCRIPTION:Predmet: Tehnologije v proizvodnji 1 (TP1P)\, Laboratorijske v
 aje (VL)\, [S15]\nLetniki: PAP-1 (PAP-1)\nIzvajalci: Jaka Dugar\, Damir Gr
 guraš\, Marko Jerman\, Luka Kastelic\, Matjaž Kern\, Davorin Kramar\, An
 drej Lebar\, Vinko Rotar\, Izidor Sabotin\, Luka Sterle\nProstor: Laborato
 rij LABOD SP-DL-1
END:VEVENT
BEGIN:VEVENT
SUMMARY:Tehnologije v proizvodnji 1 (TP1P)\, Laboratorijske vaje (VL)\, [S
 9]
DTSTART;TZID=Europe/Ljubljana:20240322T153000
DTEND;TZID=Europe/Ljubljana:20240322T183000
DTSTAMP:20260419T122022Z
UID:fs-AFLABS-URNIK:srecanje:8835-2024-03-22 15:30:00+01:00
DESCRIPTION:Predmet: Tehnologije v proizvodnji 1 (TP1P)\, Laboratorijske v
 aje (VL)\, [S9]\nLetniki: PAP-1 (PAP-1)\nIzvajalci: Jaka Dugar\, Damir Grg
 uraš\, Marko Jerman\, Luka Kastelic\, Matjaž Kern\, Davorin Kramar\, And
 rej Lebar\, Vinko Rotar\, Izidor Sabotin\, Luka Sterle\nProstor: Laborator
 ij LABOD SP-DL-1
END:VEVENT
BEGIN:VEVENT
SUMMARY:Tehnologije v proizvodnji 1 (TP1P)\, Laboratorijske vaje (VL)\, [S
 9]
DTSTART;TZID=Europe/Ljubljana:20240329T153000
DTEND;TZID=Europe/Ljubljana:20240329T183000
DTSTAMP:20260419T122022Z
UID:fs-AFLABS-URNIK:srecanje:8835-2024-03-29 15:30:00+01:00
DESCRIPTION:Predmet: Tehnologije v proizvodnji 1 (TP1P)\, Laboratorijske v
 aje (VL)\, [S9]\nLetniki: PAP-1 (PAP-1)\nIzvajalci: Jaka Dugar\, Damir Grg
 uraš\, Marko Jerman\, Luka Kastelic\, Matjaž Kern\, Davorin Kramar\, And
 rej Lebar\, Vinko Rotar\, Izidor Sabotin\, Luka Sterle\nProstor: Laborator
 ij LABOD SP-DL-1
END:VEVENT
BEGIN:VEVENT
SUMMARY:Tehnologije v proizvodnji 1 (TP1P)\, Laboratorijske vaje (VL)\, [S
 8]
DTSTART;TZID=Europe/Ljubljana:20240401T100000
DTEND;TZID=Europe/Ljubljana:20240401T130000
DTSTAMP:20260419T122022Z
UID:fs-AFLABS-URNIK:srecanje:8813-2024-04-01 10:00:00+02:00
DESCRIPTION:Predmet: Tehnologije v proizvodnji 1 (TP1P)\, Laboratorijske v
 aje (VL)\, [S8]\nLetniki: PAP-1 (PAP-1)\nIzvajalci: Jaka Dugar\, Damir Grg
 uraš\, Marko Jerman\, Luka Kastelic\, Matjaž Kern\, Davorin Kramar\, And
 rej Lebar\, Vinko Rotar\, Izidor Sabotin\, Luka Sterle\nProstor: Laborator
 ij LABOD SP-DL-1
END:VEVENT
BEGIN:VEVENT
SUMMARY:Tehnologije v proizvodnji 1 (TP1P)\, Laboratorijske vaje (VL)\, [S
 8]
DTSTART;TZID=Europe/Ljubljana:20240408T100000
DTEND;TZID=Europe/Ljubljana:20240408T130000
DTSTAMP:20260419T122022Z
UID:fs-AFLABS-URNIK:srecanje:8813-2024-04-08 10:00:00+02:00
DESCRIPTION:Predmet: Tehnologije v proizvodnji 1 (TP1P)\, Laboratorijske v
 aje (VL)\, [S8]\nLetniki: PAP-1 (PAP-1)\nIzvajalci: Jaka Dugar\, Damir Grg
 uraš\, Marko Jerman\, Luka Kastelic\, Matjaž Kern\, Davorin Kramar\, And
 rej Lebar\, Vinko Rotar\, Izidor Sabotin\, Luka Sterle\nProstor: Laborator
 ij LABOD SP-DL-1
END:VEVENT
BEGIN:VEVENT
SUMMARY:Tehnologije v proizvodnji 1 (TP1P)\, Laboratorijske vaje (VL)\, [S
 10]
DTSTART;TZID=Europe/Ljubljana:20240405T153000
DTEND;TZID=Europe/Ljubljana:20240405T183000
DTSTAMP:20260419T122022Z
UID:fs-AFLABS-URNIK:srecanje:8837-2024-04-05 15:30:00+02:00
DESCRIPTION:Predmet: Tehnologije v proizvodnji 1 (TP1P)\, Laboratorijske v
 aje (VL)\, [S10]\nLetniki: PAP-1 (PAP-1)\nIzvajalci: Jaka Dugar\, Damir Gr
 guraš\, Marko Jerman\, Luka Kastelic\, Matjaž Kern\, Davorin Kramar\, An
 drej Lebar\, Vinko Rotar\, Izidor Sabotin\, Luka Sterle\nProstor: Laborato
 rij LABOD SP-DL-1
END:VEVENT
BEGIN:VEVENT
SUMMARY:Tehnologije v proizvodnji 1 (TP1P)\, Laboratorijske vaje (VL)\, [S
 10]
DTSTART;TZID=Europe/Ljubljana:20240412T153000
DTEND;TZID=Europe/Ljubljana:20240412T183000
DTSTAMP:20260419T122022Z
UID:fs-AFLABS-URNIK:srecanje:8837-2024-04-12 15:30:00+02:00
DESCRIPTION:Predmet: Tehnologije v proizvodnji 1 (TP1P)\, Laboratorijske v
 aje (VL)\, [S10]\nLetniki: PAP-1 (PAP-1)\nIzvajalci: Jaka Dugar\, Damir Gr
 guraš\, Marko Jerman\, Luka Kastelic\, Matjaž Kern\, Davorin Kramar\, An
 drej Lebar\, Vinko Rotar\, Izidor Sabotin\, Luka Sterle\nProstor: Laborato
 rij LABOD SP-DL-1
END:VEVENT
END:VCALENDAR
