BEGIN:VCALENDAR
VERSION:2.0
PRODID:-//AFLabs urnik izvoz - fs//aflabs.si//SI
NAME:UL FS Urnik
X-WR-CALNAME:UL FS Urnik
DTSTAMP:20260424T220853Z
REFRESH-INTERVAL:PT1H
SOURCE:https://urnik.fs.uni-lj.si/teacher/775/?day=2024-09-09&export=1
URL:https://urnik.fs.uni-lj.si/teacher/775/?day=2024-09-09&export=1
X-PUBLISHED-TTL:PT1H
X-WR-TIMEZONE:Europe/Ljubljana
BEGIN:VTIMEZONE
TZID:Europe/Ljubljana
BEGIN:DAYLIGHT
DTSTART:20260329T020000
RDATE:20260329T020000
RDATE:20270328T020000
TZNAME:CEST
TZOFFSETFROM:+0100
TZOFFSETTO:+0200
END:DAYLIGHT
BEGIN:STANDARD
DTSTART:20261025T030000
RDATE:20261025T030000
RDATE:20271031T030000
TZNAME:CET
TZOFFSETFROM:+0200
TZOFFSETTO:+0100
END:STANDARD
END:VTIMEZONE
BEGIN:VEVENT
SUMMARY:Zmogljivosti letal (ZMLP)\, Predavanja (P)
DTSTART;TZID=Europe/Ljubljana:20241001T113000
DTEND;TZID=Europe/Ljubljana:20241001T153000
DTSTAMP:20260424T220853Z
UID:fs-AFLABS-URNIK:srecanje:7787-2024-10-01 11:30:00+02:00
DESCRIPTION:Predmet: Zmogljivosti letal (ZMLP)\, Predavanja (P)\nLetniki: 
 Prometni pilot letala/helikopterja (PAP-3)\, Snovanje in vzdrževanje leta
 l (PAP-3)\nIzvajalci: Tomaž Mrlak\, Igor Petrović\nProstor: Predavalnica
  IV/3A
END:VEVENT
BEGIN:VEVENT
SUMMARY:Zmogljivosti letal (ZMLP)\, Predavanja (P)
DTSTART;TZID=Europe/Ljubljana:20241008T113000
DTEND;TZID=Europe/Ljubljana:20241008T153000
DTSTAMP:20260424T220853Z
UID:fs-AFLABS-URNIK:srecanje:7787-2024-10-08 11:30:00+02:00
DESCRIPTION:Predmet: Zmogljivosti letal (ZMLP)\, Predavanja (P)\nLetniki: 
 Prometni pilot letala/helikopterja (PAP-3)\, Snovanje in vzdrževanje leta
 l (PAP-3)\nIzvajalci: Tomaž Mrlak\, Igor Petrović\nProstor: Predavalnica
  IV/3A
END:VEVENT
BEGIN:VEVENT
SUMMARY:Izpit: Operativni postopki letal
DTSTART;TZID=Europe/Ljubljana:20240827T110000
DTEND;TZID=Europe/Ljubljana:20240827T130000
DTSTAMP:20260424T220853Z
UID:fs-AFLABS-URNIK:rezervacija:5974
ATTENDEE:Prometni pilot letala/helikopterja (PAP-3)
CATEGORIES:Reservation
COLOR:royalblue
DESCRIPTION:Predmeti: Operativni postopki letal (OPLP)\nLetniki: Prometni 
 pilot letala/helikopterja (PAP-3)\nIzvajalci: Tomaž Mrlak\nProstori: Pred
 avalnica II/3B
LOCATION:Predavalnica II/3B
ORGANIZER:Tomaž Mrlak
X-WR-TIMEZONE:Europe/Ljubljana
END:VEVENT
BEGIN:VEVENT
SUMMARY:Izpit: Operativni postopki letal (3124)
DTSTART;TZID=Europe/Ljubljana:20240827T110000
DTEND;TZID=Europe/Ljubljana:20240827T130000
DTSTAMP:20260424T220853Z
UID:fs-AFLABS-URNIK:rezervacija:5976
CATEGORIES:Reservation
COLOR:royalblue
DESCRIPTION:Predmeti: \nLetniki: \nIzvajalci: Tomaž Mrlak\nProstori: Pred
 avalnica II/3B
LOCATION:Predavalnica II/3B
ORGANIZER:Tomaž Mrlak
X-WR-TIMEZONE:Europe/Ljubljana
END:VEVENT
BEGIN:VEVENT
SUMMARY:Izpit: Zmogljivosti letal
DTSTART;TZID=Europe/Ljubljana:20240828T110000
DTEND;TZID=Europe/Ljubljana:20240828T130000
DTSTAMP:20260424T220853Z
UID:fs-AFLABS-URNIK:rezervacija:5977
ATTENDEE:Prometni pilot letala/helikopterja (PAP-3)
ATTENDEE:Snovanje in vzdrževanje letal (PAP-3)
CATEGORIES:Reservation
COLOR:royalblue
DESCRIPTION:Predmeti: Zmogljivosti letal (ZMLP)\nLetniki: Prometni pilot l
 etala/helikopterja (PAP-3)\, Snovanje in vzdrževanje letal (PAP-3)\nIzvaj
 alci: Tomaž Mrlak\nProstori: Predavalnica II/3B
LOCATION:Predavalnica II/3B
ORGANIZER:Tomaž Mrlak
X-WR-TIMEZONE:Europe/Ljubljana
END:VEVENT
BEGIN:VEVENT
SUMMARY:Izpit: Zmogljivosti letal (3133)
DTSTART;TZID=Europe/Ljubljana:20240828T110000
DTEND;TZID=Europe/Ljubljana:20240828T130000
DTSTAMP:20260424T220853Z
UID:fs-AFLABS-URNIK:rezervacija:5979
CATEGORIES:Reservation
COLOR:royalblue
DESCRIPTION:Predmeti: \nLetniki: \nIzvajalci: Tomaž Mrlak\nProstori: Pred
 avalnica II/3B
LOCATION:Predavalnica II/3B
ORGANIZER:Tomaž Mrlak
X-WR-TIMEZONE:Europe/Ljubljana
END:VEVENT
END:VCALENDAR
