BEGIN:VCALENDAR
VERSION:2.0
PRODID:-//AFLabs urnik izvoz - fs//aflabs.si//SI
NAME:UL FS Urnik
X-WR-CALNAME:UL FS Urnik
DTSTAMP:20260425T034525Z
REFRESH-INTERVAL:PT1H
SOURCE:https://urnik.fs.uni-lj.si/teacher/790/?day=2024-09-30&export=1
URL:https://urnik.fs.uni-lj.si/teacher/790/?day=2024-09-30&export=1
X-PUBLISHED-TTL:PT1H
X-WR-TIMEZONE:Europe/Ljubljana
BEGIN:VTIMEZONE
TZID:Europe/Ljubljana
BEGIN:DAYLIGHT
DTSTART:20260329T020000
RDATE:20260329T020000
RDATE:20270328T020000
TZNAME:CEST
TZOFFSETFROM:+0100
TZOFFSETTO:+0200
END:DAYLIGHT
BEGIN:STANDARD
DTSTART:20261025T030000
RDATE:20261025T030000
RDATE:20271031T030000
TZNAME:CET
TZOFFSETFROM:+0200
TZOFFSETTO:+0100
END:STANDARD
END:VTIMEZONE
BEGIN:VEVENT
SUMMARY:Eksperimentalna modalna analiza (EMAM)\, Laboratorijske vaje (VL)\
 , [S1]
DTSTART;TZID=Europe/Ljubljana:20240930T100000
DTEND;TZID=Europe/Ljubljana:20240930T120000
DTSTAMP:20260425T034525Z
UID:fs-AFLABS-URNIK:srecanje:6467-2024-09-30 10:00:00+02:00
DESCRIPTION:Predmet: Eksperimentalna modalna analiza (EMAM)\, Laboratorijs
 ke vaje (VL)\, [S1]\nLetniki: Mehanika (MAG-2)\nIzvajalci: Domen Ocepek\nP
 rostor: Laboratorij LADISK P-17C
END:VEVENT
BEGIN:VEVENT
SUMMARY:Eksperimentalna modalna analiza (EMAM)\, Laboratorijske vaje (VL)\
 , [S1]
DTSTART;TZID=Europe/Ljubljana:20241007T100000
DTEND;TZID=Europe/Ljubljana:20241007T120000
DTSTAMP:20260425T034525Z
UID:fs-AFLABS-URNIK:srecanje:6467-2024-10-07 10:00:00+02:00
DESCRIPTION:Predmet: Eksperimentalna modalna analiza (EMAM)\, Laboratorijs
 ke vaje (VL)\, [S1]\nLetniki: Mehanika (MAG-2)\nIzvajalci: Domen Ocepek\nP
 rostor: Laboratorij LADISK P-17C
END:VEVENT
BEGIN:VEVENT
SUMMARY:Eksperimentalna modalna analiza (EMAM)\, Laboratorijske vaje (VL)\
 , [S1]
DTSTART;TZID=Europe/Ljubljana:20241014T100000
DTEND;TZID=Europe/Ljubljana:20241014T120000
DTSTAMP:20260425T034525Z
UID:fs-AFLABS-URNIK:srecanje:6467-2024-10-14 10:00:00+02:00
DESCRIPTION:Predmet: Eksperimentalna modalna analiza (EMAM)\, Laboratorijs
 ke vaje (VL)\, [S1]\nLetniki: Mehanika (MAG-2)\nIzvajalci: Domen Ocepek\nP
 rostor: Laboratorij LADISK P-17C
END:VEVENT
BEGIN:VEVENT
SUMMARY:Eksperimentalna modalna analiza (EMAM)\, Laboratorijske vaje (VL)\
 , [S1]
DTSTART;TZID=Europe/Ljubljana:20241021T100000
DTEND;TZID=Europe/Ljubljana:20241021T120000
DTSTAMP:20260425T034525Z
UID:fs-AFLABS-URNIK:srecanje:6467-2024-10-21 10:00:00+02:00
DESCRIPTION:Predmet: Eksperimentalna modalna analiza (EMAM)\, Laboratorijs
 ke vaje (VL)\, [S1]\nLetniki: Mehanika (MAG-2)\nIzvajalci: Domen Ocepek\nP
 rostor: Laboratorij LADISK P-17C
END:VEVENT
BEGIN:VEVENT
SUMMARY:Eksperimentalna modalna analiza (EMAM)\, Laboratorijske vaje (VL)\
 , [S1]
DTSTART;TZID=Europe/Ljubljana:20241104T100000
DTEND;TZID=Europe/Ljubljana:20241104T120000
DTSTAMP:20260425T034525Z
UID:fs-AFLABS-URNIK:srecanje:6467-2024-11-04 10:00:00+01:00
DESCRIPTION:Predmet: Eksperimentalna modalna analiza (EMAM)\, Laboratorijs
 ke vaje (VL)\, [S1]\nLetniki: Mehanika (MAG-2)\nIzvajalci: Domen Ocepek\nP
 rostor: Laboratorij LADISK P-17C
END:VEVENT
BEGIN:VEVENT
SUMMARY:Eksperimentalna modalna analiza (EMAM)\, Laboratorijske vaje (VL)\
 , [S2]
DTSTART;TZID=Europe/Ljubljana:20240930T120000
DTEND;TZID=Europe/Ljubljana:20240930T140000
DTSTAMP:20260425T034525Z
UID:fs-AFLABS-URNIK:srecanje:6468-2024-09-30 12:00:00+02:00
DESCRIPTION:Predmet: Eksperimentalna modalna analiza (EMAM)\, Laboratorijs
 ke vaje (VL)\, [S2]\nLetniki: Mehanika (MAG-2)\nIzvajalci: Domen Ocepek\nP
 rostor: Laboratorij LADISK P-17C
END:VEVENT
BEGIN:VEVENT
SUMMARY:Eksperimentalna modalna analiza (EMAM)\, Laboratorijske vaje (VL)\
 , [S2]
DTSTART;TZID=Europe/Ljubljana:20241007T120000
DTEND;TZID=Europe/Ljubljana:20241007T140000
DTSTAMP:20260425T034525Z
UID:fs-AFLABS-URNIK:srecanje:6468-2024-10-07 12:00:00+02:00
DESCRIPTION:Predmet: Eksperimentalna modalna analiza (EMAM)\, Laboratorijs
 ke vaje (VL)\, [S2]\nLetniki: Mehanika (MAG-2)\nIzvajalci: Domen Ocepek\nP
 rostor: Laboratorij LADISK P-17C
END:VEVENT
BEGIN:VEVENT
SUMMARY:Eksperimentalna modalna analiza (EMAM)\, Laboratorijske vaje (VL)\
 , [S2]
DTSTART;TZID=Europe/Ljubljana:20241014T120000
DTEND;TZID=Europe/Ljubljana:20241014T140000
DTSTAMP:20260425T034525Z
UID:fs-AFLABS-URNIK:srecanje:6468-2024-10-14 12:00:00+02:00
DESCRIPTION:Predmet: Eksperimentalna modalna analiza (EMAM)\, Laboratorijs
 ke vaje (VL)\, [S2]\nLetniki: Mehanika (MAG-2)\nIzvajalci: Domen Ocepek\nP
 rostor: Laboratorij LADISK P-17C
END:VEVENT
BEGIN:VEVENT
SUMMARY:Eksperimentalna modalna analiza (EMAM)\, Laboratorijske vaje (VL)\
 , [S2]
DTSTART;TZID=Europe/Ljubljana:20241021T120000
DTEND;TZID=Europe/Ljubljana:20241021T140000
DTSTAMP:20260425T034525Z
UID:fs-AFLABS-URNIK:srecanje:6468-2024-10-21 12:00:00+02:00
DESCRIPTION:Predmet: Eksperimentalna modalna analiza (EMAM)\, Laboratorijs
 ke vaje (VL)\, [S2]\nLetniki: Mehanika (MAG-2)\nIzvajalci: Domen Ocepek\nP
 rostor: Laboratorij LADISK P-17C
END:VEVENT
BEGIN:VEVENT
SUMMARY:Eksperimentalna modalna analiza (EMAM)\, Laboratorijske vaje (VL)\
 , [S2]
DTSTART;TZID=Europe/Ljubljana:20241104T120000
DTEND;TZID=Europe/Ljubljana:20241104T140000
DTSTAMP:20260425T034525Z
UID:fs-AFLABS-URNIK:srecanje:6468-2024-11-04 12:00:00+01:00
DESCRIPTION:Predmet: Eksperimentalna modalna analiza (EMAM)\, Laboratorijs
 ke vaje (VL)\, [S2]\nLetniki: Mehanika (MAG-2)\nIzvajalci: Domen Ocepek\nP
 rostor: Laboratorij LADISK P-17C
END:VEVENT
BEGIN:VEVENT
SUMMARY:Eksperimentalna modalna analiza (EMAM)\, Laboratorijske vaje (VL)\
 , [S5]
DTSTART;TZID=Europe/Ljubljana:20241001T120000
DTEND;TZID=Europe/Ljubljana:20241001T140000
DTSTAMP:20260425T034525Z
UID:fs-AFLABS-URNIK:srecanje:10838-2024-10-01 12:00:00+02:00
DESCRIPTION:Predmet: Eksperimentalna modalna analiza (EMAM)\, Laboratorijs
 ke vaje (VL)\, [S5]\nLetniki: Mehanika (MAG-2)\nIzvajalci: Domen Ocepek\, 
 Miha Pogačar\nProstor: Laboratorij LADISK P-17B
END:VEVENT
BEGIN:VEVENT
SUMMARY:Eksperimentalna modalna analiza (EMAM)\, Laboratorijske vaje (VL)\
 , [S5]
DTSTART;TZID=Europe/Ljubljana:20241008T120000
DTEND;TZID=Europe/Ljubljana:20241008T140000
DTSTAMP:20260425T034525Z
UID:fs-AFLABS-URNIK:srecanje:10838-2024-10-08 12:00:00+02:00
DESCRIPTION:Predmet: Eksperimentalna modalna analiza (EMAM)\, Laboratorijs
 ke vaje (VL)\, [S5]\nLetniki: Mehanika (MAG-2)\nIzvajalci: Domen Ocepek\, 
 Miha Pogačar\nProstor: Laboratorij LADISK P-17B
END:VEVENT
BEGIN:VEVENT
SUMMARY:Eksperimentalna modalna analiza (EMAM)\, Laboratorijske vaje (VL)\
 , [S5]
DTSTART;TZID=Europe/Ljubljana:20241015T120000
DTEND;TZID=Europe/Ljubljana:20241015T140000
DTSTAMP:20260425T034525Z
UID:fs-AFLABS-URNIK:srecanje:10838-2024-10-15 12:00:00+02:00
DESCRIPTION:Predmet: Eksperimentalna modalna analiza (EMAM)\, Laboratorijs
 ke vaje (VL)\, [S5]\nLetniki: Mehanika (MAG-2)\nIzvajalci: Domen Ocepek\, 
 Miha Pogačar\nProstor: Laboratorij LADISK P-17B
END:VEVENT
BEGIN:VEVENT
SUMMARY:Eksperimentalna modalna analiza (EMAM)\, Laboratorijske vaje (VL)\
 , [S5]
DTSTART;TZID=Europe/Ljubljana:20241022T120000
DTEND;TZID=Europe/Ljubljana:20241022T140000
DTSTAMP:20260425T034525Z
UID:fs-AFLABS-URNIK:srecanje:10838-2024-10-22 12:00:00+02:00
DESCRIPTION:Predmet: Eksperimentalna modalna analiza (EMAM)\, Laboratorijs
 ke vaje (VL)\, [S5]\nLetniki: Mehanika (MAG-2)\nIzvajalci: Domen Ocepek\, 
 Miha Pogačar\nProstor: Laboratorij LADISK P-17B
END:VEVENT
BEGIN:VEVENT
SUMMARY:Eksperimentalna modalna analiza (EMAM)\, Laboratorijske vaje (VL)\
 , [S3]
DTSTART;TZID=Europe/Ljubljana:20241002T080000
DTEND;TZID=Europe/Ljubljana:20241002T100000
DTSTAMP:20260425T034525Z
UID:fs-AFLABS-URNIK:srecanje:6469-2024-10-02 08:00:00+02:00
DESCRIPTION:Predmet: Eksperimentalna modalna analiza (EMAM)\, Laboratorijs
 ke vaje (VL)\, [S3]\nLetniki: Mehanika (MAG-2)\nIzvajalci: Gregor Čepon\,
  Domen Ocepek\, Miha Pogačar\nProstor: Laboratorij LADISK P-17C
END:VEVENT
BEGIN:VEVENT
SUMMARY:Eksperimentalna modalna analiza (EMAM)\, Laboratorijske vaje (VL)\
 , [S3]
DTSTART;TZID=Europe/Ljubljana:20241009T080000
DTEND;TZID=Europe/Ljubljana:20241009T100000
DTSTAMP:20260425T034525Z
UID:fs-AFLABS-URNIK:srecanje:6469-2024-10-09 08:00:00+02:00
DESCRIPTION:Predmet: Eksperimentalna modalna analiza (EMAM)\, Laboratorijs
 ke vaje (VL)\, [S3]\nLetniki: Mehanika (MAG-2)\nIzvajalci: Gregor Čepon\,
  Domen Ocepek\, Miha Pogačar\nProstor: Laboratorij LADISK P-17C
END:VEVENT
BEGIN:VEVENT
SUMMARY:Eksperimentalna modalna analiza (EMAM)\, Laboratorijske vaje (VL)\
 , [S3]
DTSTART;TZID=Europe/Ljubljana:20241016T080000
DTEND;TZID=Europe/Ljubljana:20241016T100000
DTSTAMP:20260425T034525Z
UID:fs-AFLABS-URNIK:srecanje:6469-2024-10-16 08:00:00+02:00
DESCRIPTION:Predmet: Eksperimentalna modalna analiza (EMAM)\, Laboratorijs
 ke vaje (VL)\, [S3]\nLetniki: Mehanika (MAG-2)\nIzvajalci: Gregor Čepon\,
  Domen Ocepek\, Miha Pogačar\nProstor: Laboratorij LADISK P-17C
END:VEVENT
BEGIN:VEVENT
SUMMARY:Eksperimentalna modalna analiza (EMAM)\, Laboratorijske vaje (VL)\
 , [S3]
DTSTART;TZID=Europe/Ljubljana:20241023T080000
DTEND;TZID=Europe/Ljubljana:20241023T100000
DTSTAMP:20260425T034525Z
UID:fs-AFLABS-URNIK:srecanje:6469-2024-10-23 08:00:00+02:00
DESCRIPTION:Predmet: Eksperimentalna modalna analiza (EMAM)\, Laboratorijs
 ke vaje (VL)\, [S3]\nLetniki: Mehanika (MAG-2)\nIzvajalci: Gregor Čepon\,
  Domen Ocepek\, Miha Pogačar\nProstor: Laboratorij LADISK P-17C
END:VEVENT
BEGIN:VEVENT
SUMMARY:Eksperimentalna modalna analiza (EMAM)\, Laboratorijske vaje (VL)\
 , [S3]
DTSTART;TZID=Europe/Ljubljana:20241030T080000
DTEND;TZID=Europe/Ljubljana:20241030T100000
DTSTAMP:20260425T034525Z
UID:fs-AFLABS-URNIK:srecanje:6469-2024-10-30 08:00:00+01:00
DESCRIPTION:Predmet: Eksperimentalna modalna analiza (EMAM)\, Laboratorijs
 ke vaje (VL)\, [S3]\nLetniki: Mehanika (MAG-2)\nIzvajalci: Gregor Čepon\,
  Domen Ocepek\, Miha Pogačar\nProstor: Laboratorij LADISK P-17C
END:VEVENT
BEGIN:VEVENT
SUMMARY:Eksperimentalna modalna analiza (EMAM)\, Laboratorijske vaje (VL)\
 , [S4]
DTSTART;TZID=Europe/Ljubljana:20241002T100000
DTEND;TZID=Europe/Ljubljana:20241002T120000
DTSTAMP:20260425T034525Z
UID:fs-AFLABS-URNIK:srecanje:6470-2024-10-02 10:00:00+02:00
DESCRIPTION:Predmet: Eksperimentalna modalna analiza (EMAM)\, Laboratorijs
 ke vaje (VL)\, [S4]\nLetniki: Mehanika (MAG-2)\nIzvajalci: Gregor Čepon\,
  Domen Ocepek\, Miha Pogačar\nProstor: Laboratorij LADISK P-17C
END:VEVENT
BEGIN:VEVENT
SUMMARY:Eksperimentalna modalna analiza (EMAM)\, Laboratorijske vaje (VL)\
 , [S4]
DTSTART;TZID=Europe/Ljubljana:20241009T100000
DTEND;TZID=Europe/Ljubljana:20241009T120000
DTSTAMP:20260425T034525Z
UID:fs-AFLABS-URNIK:srecanje:6470-2024-10-09 10:00:00+02:00
DESCRIPTION:Predmet: Eksperimentalna modalna analiza (EMAM)\, Laboratorijs
 ke vaje (VL)\, [S4]\nLetniki: Mehanika (MAG-2)\nIzvajalci: Gregor Čepon\,
  Domen Ocepek\, Miha Pogačar\nProstor: Laboratorij LADISK P-17C
END:VEVENT
BEGIN:VEVENT
SUMMARY:Eksperimentalna modalna analiza (EMAM)\, Laboratorijske vaje (VL)\
 , [S4]
DTSTART;TZID=Europe/Ljubljana:20241016T100000
DTEND;TZID=Europe/Ljubljana:20241016T120000
DTSTAMP:20260425T034525Z
UID:fs-AFLABS-URNIK:srecanje:6470-2024-10-16 10:00:00+02:00
DESCRIPTION:Predmet: Eksperimentalna modalna analiza (EMAM)\, Laboratorijs
 ke vaje (VL)\, [S4]\nLetniki: Mehanika (MAG-2)\nIzvajalci: Gregor Čepon\,
  Domen Ocepek\, Miha Pogačar\nProstor: Laboratorij LADISK P-17C
END:VEVENT
BEGIN:VEVENT
SUMMARY:Eksperimentalna modalna analiza (EMAM)\, Laboratorijske vaje (VL)\
 , [S4]
DTSTART;TZID=Europe/Ljubljana:20241023T100000
DTEND;TZID=Europe/Ljubljana:20241023T120000
DTSTAMP:20260425T034525Z
UID:fs-AFLABS-URNIK:srecanje:6470-2024-10-23 10:00:00+02:00
DESCRIPTION:Predmet: Eksperimentalna modalna analiza (EMAM)\, Laboratorijs
 ke vaje (VL)\, [S4]\nLetniki: Mehanika (MAG-2)\nIzvajalci: Gregor Čepon\,
  Domen Ocepek\, Miha Pogačar\nProstor: Laboratorij LADISK P-17C
END:VEVENT
BEGIN:VEVENT
SUMMARY:Eksperimentalna modalna analiza (EMAM)\, Laboratorijske vaje (VL)\
 , [S4]
DTSTART;TZID=Europe/Ljubljana:20241030T100000
DTEND;TZID=Europe/Ljubljana:20241030T120000
DTSTAMP:20260425T034525Z
UID:fs-AFLABS-URNIK:srecanje:6470-2024-10-30 10:00:00+01:00
DESCRIPTION:Predmet: Eksperimentalna modalna analiza (EMAM)\, Laboratorijs
 ke vaje (VL)\, [S4]\nLetniki: Mehanika (MAG-2)\nIzvajalci: Gregor Čepon\,
  Domen Ocepek\, Miha Pogačar\nProstor: Laboratorij LADISK P-17C
END:VEVENT
END:VCALENDAR
