BEGIN:VCALENDAR
VERSION:2.0
PRODID:-//AFLabs urnik izvoz - fs//aflabs.si//SI
NAME:UL FS Urnik
X-WR-CALNAME:UL FS Urnik
DTSTAMP:20260423T235809Z
REFRESH-INTERVAL:PT1H
SOURCE:https://urnik.fs.uni-lj.si/teacher/791/?day=2024-09-09&export=1
URL:https://urnik.fs.uni-lj.si/teacher/791/?day=2024-09-09&export=1
X-PUBLISHED-TTL:PT1H
X-WR-TIMEZONE:Europe/Ljubljana
BEGIN:VTIMEZONE
TZID:Europe/Ljubljana
BEGIN:DAYLIGHT
DTSTART:20260329T020000
RDATE:20260329T020000
RDATE:20270328T020000
TZNAME:CEST
TZOFFSETFROM:+0100
TZOFFSETTO:+0200
END:DAYLIGHT
BEGIN:STANDARD
DTSTART:20261025T030000
RDATE:20261025T030000
RDATE:20271031T030000
TZNAME:CET
TZOFFSETFROM:+0200
TZOFFSETTO:+0100
END:STANDARD
END:VTIMEZONE
BEGIN:VEVENT
SUMMARY:Dimenzioniranje in predpisi (DMPP)\, Predavalniške vaje (VP)
DTSTART;TZID=Europe/Ljubljana:20241002T113000
DTEND;TZID=Europe/Ljubljana:20241002T133000
DTSTAMP:20260423T235809Z
UID:fs-AFLABS-URNIK:srecanje:6433-2024-10-02 11:30:00+02:00
DESCRIPTION:Predmet: Dimenzioniranje in predpisi (DMPP)\, Predavalniške v
 aje (VP)\nLetniki: Konstruiranje strojev in naprav (PAP-3)\nIzvajalci: Jur
 ij Hladnik\, Ivan Okorn\nProstor: Predavalnica IV/3B
END:VEVENT
BEGIN:VEVENT
SUMMARY:Dimenzioniranje in predpisi (DMPP)\, Predavalniške vaje (VP)
DTSTART;TZID=Europe/Ljubljana:20241009T113000
DTEND;TZID=Europe/Ljubljana:20241009T133000
DTSTAMP:20260423T235809Z
UID:fs-AFLABS-URNIK:srecanje:6433-2024-10-09 11:30:00+02:00
DESCRIPTION:Predmet: Dimenzioniranje in predpisi (DMPP)\, Predavalniške v
 aje (VP)\nLetniki: Konstruiranje strojev in naprav (PAP-3)\nIzvajalci: Jur
 ij Hladnik\, Ivan Okorn\nProstor: Predavalnica IV/3B
END:VEVENT
BEGIN:VEVENT
SUMMARY:Sestavljena gonila v mobilni tehniki (SGMM)\, Predavalniške vaje 
 (VP)
DTSTART;TZID=Europe/Ljubljana:20241003T120000
DTEND;TZID=Europe/Ljubljana:20241003T140000
DTSTAMP:20260423T235809Z
UID:fs-AFLABS-URNIK:srecanje:10252-2024-10-03 12:00:00+02:00
DESCRIPTION:Predmet: Sestavljena gonila v mobilni tehniki (SGMM)\, Predava
 lniške vaje (VP)\nLetniki: Konstruiranje (MAG-2)\nIzvajalci: Ivan Okorn\,
  Simon Oman\nProstor: Predavalnica II/3A
END:VEVENT
BEGIN:VEVENT
SUMMARY:Strojni elementi 1 - RRP (SE1R)\, Predavalniške vaje (VP)\, [S3]
DTSTART;TZID=Europe/Ljubljana:20241004T120000
DTEND;TZID=Europe/Ljubljana:20241004T140000
DTSTAMP:20260423T235809Z
UID:fs-AFLABS-URNIK:srecanje:10354-2024-10-04 12:00:00+02:00
DESCRIPTION:Predmet: Strojni elementi 1 - RRP (SE1R)\, Predavalniške vaje
  (VP)\, [S3]\nLetniki: RRP-2 (RRP-2)\nIzvajalci: Ivan Okorn\nProstor: Pred
 avalnica II/5
END:VEVENT
BEGIN:VEVENT
SUMMARY:Strojni elementi 1 - RRP (SE1R)\, Laboratorijske vaje (VL)\, [S2]
DTSTART;TZID=Europe/Ljubljana:20241008T160000
DTEND;TZID=Europe/Ljubljana:20241008T180000
DTSTAMP:20260423T235809Z
UID:fs-AFLABS-URNIK:srecanje:7468-2024-10-08 16:00:00+02:00
DESCRIPTION:Predmet: Strojni elementi 1 - RRP (SE1R)\, Laboratorijske vaje
  (VL)\, [S2]\nLetniki: RRP-2 (RRP-2)\nIzvajalci: Ivan Okorn\nProstor: Labo
 ratorij LAVEK IV/6
END:VEVENT
BEGIN:VEVENT
SUMMARY:Strojni elementi 1 - RRP (SE1R)\, Laboratorijske vaje (VL)\, [S9]
DTSTART;TZID=Europe/Ljubljana:20241008T180000
DTEND;TZID=Europe/Ljubljana:20241008T200000
DTSTAMP:20260423T235809Z
UID:fs-AFLABS-URNIK:srecanje:7475-2024-10-08 18:00:00+02:00
DESCRIPTION:Predmet: Strojni elementi 1 - RRP (SE1R)\, Laboratorijske vaje
  (VL)\, [S9]\nLetniki: RRP-2 (RRP-2)\nIzvajalci: Ivan Okorn\nProstor: Labo
 ratorij LASEM K-15B
END:VEVENT
BEGIN:VEVENT
SUMMARY:Strojni elementi 1 - RRP (SE1R)\, Laboratorijske vaje (VL)\, [S3]
DTSTART;TZID=Europe/Ljubljana:20241008T080000
DTEND;TZID=Europe/Ljubljana:20241008T100000
DTSTAMP:20260423T235809Z
UID:fs-AFLABS-URNIK:srecanje:7469-2024-10-08 08:00:00+02:00
DESCRIPTION:Predmet: Strojni elementi 1 - RRP (SE1R)\, Laboratorijske vaje
  (VL)\, [S3]\nLetniki: RRP-2 (RRP-2)\nIzvajalci: Ivan Okorn\nProstor: Labo
 ratorij LASEM K-15B
END:VEVENT
BEGIN:VEVENT
SUMMARY:Strojni elementi 1 - RRP (SE1R)\, Laboratorijske vaje (VL)\, [S13]
DTSTART;TZID=Europe/Ljubljana:20241008T100000
DTEND;TZID=Europe/Ljubljana:20241008T120000
DTSTAMP:20260423T235809Z
UID:fs-AFLABS-URNIK:srecanje:7464-2024-10-08 10:00:00+02:00
DESCRIPTION:Predmet: Strojni elementi 1 - RRP (SE1R)\, Laboratorijske vaje
  (VL)\, [S13]\nLetniki: RRP-2 (RRP-2)\nIzvajalci: Ivan Okorn\nProstor: Lab
 oratorij LASEM K-15B
END:VEVENT
BEGIN:VEVENT
SUMMARY:Sestavljena gonila v mobilni tehniki (SGMM)\, Laboratorijske vaje 
 (VL)\, [S4]
DTSTART;TZID=Europe/Ljubljana:20241009T160000
DTEND;TZID=Europe/Ljubljana:20241009T180000
DTSTAMP:20260423T235809Z
UID:fs-AFLABS-URNIK:srecanje:7318-2024-10-09 16:00:00+02:00
DESCRIPTION:Predmet: Sestavljena gonila v mobilni tehniki (SGMM)\, Laborat
 orijske vaje (VL)\, [S4]\nLetniki: Konstruiranje (MAG-2)\nIzvajalci: Ivan 
 Okorn\nProstor: Laboratorij LAVEK IV/6
END:VEVENT
BEGIN:VEVENT
SUMMARY:Sestavljena gonila v mobilni tehniki (SGMM)\, Laboratorijske vaje 
 (VL)\, [S1]
DTSTART;TZID=Europe/Ljubljana:20241010T120000
DTEND;TZID=Europe/Ljubljana:20241010T140000
DTSTAMP:20260423T235809Z
UID:fs-AFLABS-URNIK:srecanje:7315-2024-10-10 12:00:00+02:00
DESCRIPTION:Predmet: Sestavljena gonila v mobilni tehniki (SGMM)\, Laborat
 orijske vaje (VL)\, [S1]\nLetniki: Konstruiranje (MAG-2)\nIzvajalci: Ivan 
 Okorn\nProstor: Laboratorij LAVEK IV/6
END:VEVENT
BEGIN:VEVENT
SUMMARY:Strojni elementi 1 - RRP (SE1R)\, Laboratorijske vaje (VL)\, [S4]
DTSTART;TZID=Europe/Ljubljana:20241011T080000
DTEND;TZID=Europe/Ljubljana:20241011T093000
DTSTAMP:20260423T235809Z
UID:fs-AFLABS-URNIK:srecanje:7470-2024-10-11 08:00:00+02:00
DESCRIPTION:Predmet: Strojni elementi 1 - RRP (SE1R)\, Laboratorijske vaje
  (VL)\, [S4]\nLetniki: RRP-2 (RRP-2)\nIzvajalci: Ivan Okorn\nProstor: Labo
 ratorij LASEM K-15B
END:VEVENT
BEGIN:VEVENT
SUMMARY:Strojni elementi 1 - RRP (SE1R)\, Laboratorijske vaje (VL)\, [S6]
DTSTART;TZID=Europe/Ljubljana:20241011T093000
DTEND;TZID=Europe/Ljubljana:20241011T110000
DTSTAMP:20260423T235809Z
UID:fs-AFLABS-URNIK:srecanje:7472-2024-10-11 09:30:00+02:00
DESCRIPTION:Predmet: Strojni elementi 1 - RRP (SE1R)\, Laboratorijske vaje
  (VL)\, [S6]\nLetniki: RRP-2 (RRP-2)\nIzvajalci: Ivan Okorn\nProstor: Labo
 ratorij LASEM K-15B
END:VEVENT
END:VCALENDAR
