BEGIN:VCALENDAR
VERSION:2.0
PRODID:-//AFLabs urnik izvoz - fs//aflabs.si//SI
NAME:UL FS Urnik
X-WR-CALNAME:UL FS Urnik
DTSTAMP:20260422T060951Z
REFRESH-INTERVAL:PT1H
SOURCE:https://urnik.fs.uni-lj.si/teacher/798/?day=2023-09-04&export=1
URL:https://urnik.fs.uni-lj.si/teacher/798/?day=2023-09-04&export=1
X-PUBLISHED-TTL:PT1H
X-WR-TIMEZONE:Europe/Ljubljana
BEGIN:VTIMEZONE
TZID:Europe/Ljubljana
BEGIN:DAYLIGHT
DTSTART:20260329T020000
RDATE:20260329T020000
RDATE:20270328T020000
TZNAME:CEST
TZOFFSETFROM:+0100
TZOFFSETTO:+0200
END:DAYLIGHT
BEGIN:STANDARD
DTSTART:20261025T030000
RDATE:20261025T030000
RDATE:20271031T030000
TZNAME:CET
TZOFFSETFROM:+0200
TZOFFSETTO:+0100
END:STANDARD
END:VTIMEZONE
BEGIN:VEVENT
SUMMARY:Strojni elementi 1 - PAP (SE1P)\, Predavalniške vaje (VP)\, [S2]
DTSTART;TZID=Europe/Ljubljana:20231006T113000
DTEND;TZID=Europe/Ljubljana:20231006T143000
DTSTAMP:20260422T060951Z
UID:fs-AFLABS-URNIK:srecanje:2555-2023-10-06 11:30:00+02:00
DESCRIPTION:Predmet: Strojni elementi 1 - PAP (SE1P)\, Predavalniške vaje
  (VP)\, [S2]\nLetniki: Energetsko strojništvo (PAP-2)\, Industrijsko inž
 enirstvo (PAP-2)\, Konstruiranje industrijskih sistemov (PAP-2)\, Konstrui
 ranje strojev in naprav (PAP-2)\, Mehatronika (PAP-2)\, Procesno strojniš
 tvo (PAP-2)\, Proizvodne tehnologije (PAP-2)\, Prometni pilot letala/helik
 opterja (PAP-2)\, Snovanje in vzdrževanje letal (PAP-2)\nIzvajalci: Brani
 slav Panić\nProstor: Predavalnica III/3A
END:VEVENT
BEGIN:VEVENT
SUMMARY:Strojni elementi 1 - PAP (SE1P)\, Laboratorijske vaje (VL)\, [S2]
DTSTART;TZID=Europe/Ljubljana:20231009T133000
DTEND;TZID=Europe/Ljubljana:20231009T160000
DTSTAMP:20260422T060951Z
UID:fs-AFLABS-URNIK:srecanje:5588-2023-10-09 13:30:00+02:00
DESCRIPTION:Predmet: Strojni elementi 1 - PAP (SE1P)\, Laboratorijske vaje
  (VL)\, [S2]\nLetniki: Energetsko strojništvo (PAP-2)\, Industrijsko inž
 enirstvo (PAP-2)\, Konstruiranje industrijskih sistemov (PAP-2)\, Konstrui
 ranje strojev in naprav (PAP-2)\, Mehatronika (PAP-2)\, Procesno strojniš
 tvo (PAP-2)\, Proizvodne tehnologije (PAP-2)\, Prometni pilot letala/helik
 opterja (PAP-2)\, Snovanje in vzdrževanje letal (PAP-2)\nIzvajalci: Brani
 slav Panić\nProstor: Laboratorij LASEM K-15B
END:VEVENT
BEGIN:VEVENT
SUMMARY:Strojni elementi 1 - PAP (SE1P)\, Laboratorijske vaje (VL)\, [S4]
DTSTART;TZID=Europe/Ljubljana:20231009T160000
DTEND;TZID=Europe/Ljubljana:20231009T183000
DTSTAMP:20260422T060951Z
UID:fs-AFLABS-URNIK:srecanje:5591-2023-10-09 16:00:00+02:00
DESCRIPTION:Predmet: Strojni elementi 1 - PAP (SE1P)\, Laboratorijske vaje
  (VL)\, [S4]\nLetniki: Energetsko strojništvo (PAP-2)\, Industrijsko inž
 enirstvo (PAP-2)\, Konstruiranje industrijskih sistemov (PAP-2)\, Konstrui
 ranje strojev in naprav (PAP-2)\, Mehatronika (PAP-2)\, Procesno strojniš
 tvo (PAP-2)\, Proizvodne tehnologije (PAP-2)\, Prometni pilot letala/helik
 opterja (PAP-2)\, Snovanje in vzdrževanje letal (PAP-2)\nIzvajalci: Brani
 slav Panić\nProstor: Laboratorij LASEM K-15B
END:VEVENT
END:VCALENDAR
