BEGIN:VCALENDAR
VERSION:2.0
PRODID:-//AFLabs urnik izvoz - fs//aflabs.si//SI
NAME:UL FS Urnik
X-WR-CALNAME:UL FS Urnik
DTSTAMP:20260419T211756Z
REFRESH-INTERVAL:PT1H
SOURCE:https://urnik.fs.uni-lj.si/teacher/806/?day=2023-11-27&export=1
URL:https://urnik.fs.uni-lj.si/teacher/806/?day=2023-11-27&export=1
X-PUBLISHED-TTL:PT1H
X-WR-TIMEZONE:Europe/Ljubljana
BEGIN:VTIMEZONE
TZID:Europe/Ljubljana
BEGIN:DAYLIGHT
DTSTART:20260329T020000
RDATE:20260329T020000
RDATE:20270328T020000
TZNAME:CEST
TZOFFSETFROM:+0100
TZOFFSETTO:+0200
END:DAYLIGHT
BEGIN:STANDARD
DTSTART:20261025T030000
RDATE:20261025T030000
RDATE:20271031T030000
TZNAME:CET
TZOFFSETFROM:+0200
TZOFFSETTO:+0100
END:STANDARD
END:VTIMEZONE
BEGIN:VEVENT
SUMMARY:Zmogljivosti letal (ZMLP)\, Predavanja (P)
DTSTART;TZID=Europe/Ljubljana:20231003T113000
DTEND;TZID=Europe/Ljubljana:20231003T153000
DTSTAMP:20260419T211756Z
UID:fs-AFLABS-URNIK:srecanje:4125-2023-10-03 11:30:00+02:00
DESCRIPTION:Predmet: Zmogljivosti letal (ZMLP)\, Predavanja (P)\nLetniki: 
 Prometni pilot letala/helikopterja (PAP-3)\, Snovanje in vzdrževanje leta
 l (PAP-3)\nIzvajalci: Tomaž Mrlak\, Igor Petrović\nProstor: Predavalnica
  IV/3A
END:VEVENT
BEGIN:VEVENT
SUMMARY:Zmogljivosti letal (ZMLP)\, Predavanja (P)
DTSTART;TZID=Europe/Ljubljana:20231010T113000
DTEND;TZID=Europe/Ljubljana:20231010T153000
DTSTAMP:20260419T211756Z
UID:fs-AFLABS-URNIK:srecanje:4125-2023-10-10 11:30:00+02:00
DESCRIPTION:Predmet: Zmogljivosti letal (ZMLP)\, Predavanja (P)\nLetniki: 
 Prometni pilot letala/helikopterja (PAP-3)\, Snovanje in vzdrževanje leta
 l (PAP-3)\nIzvajalci: Tomaž Mrlak\, Igor Petrović\nProstor: Predavalnica
  IV/3A
END:VEVENT
BEGIN:VEVENT
SUMMARY:Zmogljivosti letal (ZMLP)\, Predavanja (P)
DTSTART;TZID=Europe/Ljubljana:20231017T113000
DTEND;TZID=Europe/Ljubljana:20231017T153000
DTSTAMP:20260419T211756Z
UID:fs-AFLABS-URNIK:srecanje:4125-2023-10-17 11:30:00+02:00
DESCRIPTION:Predmet: Zmogljivosti letal (ZMLP)\, Predavanja (P)\nLetniki: 
 Prometni pilot letala/helikopterja (PAP-3)\, Snovanje in vzdrževanje leta
 l (PAP-3)\nIzvajalci: Tomaž Mrlak\, Igor Petrović\nProstor: Predavalnica
  IV/3A
END:VEVENT
BEGIN:VEVENT
SUMMARY:Zmogljivosti letal (ZMLP)\, Predavanja (P)
DTSTART;TZID=Europe/Ljubljana:20231024T113000
DTEND;TZID=Europe/Ljubljana:20231024T153000
DTSTAMP:20260419T211756Z
UID:fs-AFLABS-URNIK:srecanje:4125-2023-10-24 11:30:00+02:00
DESCRIPTION:Predmet: Zmogljivosti letal (ZMLP)\, Predavanja (P)\nLetniki: 
 Prometni pilot letala/helikopterja (PAP-3)\, Snovanje in vzdrževanje leta
 l (PAP-3)\nIzvajalci: Tomaž Mrlak\, Igor Petrović\nProstor: Predavalnica
  IV/3A
END:VEVENT
BEGIN:VEVENT
SUMMARY:Zmogljivosti letal (ZMLP)\, Predavanja (P)
DTSTART;TZID=Europe/Ljubljana:20231031T113000
DTEND;TZID=Europe/Ljubljana:20231031T153000
DTSTAMP:20260419T211756Z
UID:fs-AFLABS-URNIK:srecanje:4125-2023-10-31 11:30:00+01:00
DESCRIPTION:Predmet: Zmogljivosti letal (ZMLP)\, Predavanja (P)\nLetniki: 
 Prometni pilot letala/helikopterja (PAP-3)\, Snovanje in vzdrževanje leta
 l (PAP-3)\nIzvajalci: Tomaž Mrlak\, Igor Petrović\nProstor: Predavalnica
  IV/3A
END:VEVENT
BEGIN:VEVENT
SUMMARY:Zmogljivosti letal (ZMLP)\, Predavanja (P)
DTSTART;TZID=Europe/Ljubljana:20231107T113000
DTEND;TZID=Europe/Ljubljana:20231107T153000
DTSTAMP:20260419T211756Z
UID:fs-AFLABS-URNIK:srecanje:4125-2023-11-07 11:30:00+01:00
DESCRIPTION:Predmet: Zmogljivosti letal (ZMLP)\, Predavanja (P)\nLetniki: 
 Prometni pilot letala/helikopterja (PAP-3)\, Snovanje in vzdrževanje leta
 l (PAP-3)\nIzvajalci: Tomaž Mrlak\, Igor Petrović\nProstor: Predavalnica
  IV/3A
END:VEVENT
BEGIN:VEVENT
SUMMARY:Zmogljivosti letal (ZMLP)\, Predavanja (P)
DTSTART;TZID=Europe/Ljubljana:20231114T113000
DTEND;TZID=Europe/Ljubljana:20231114T153000
DTSTAMP:20260419T211756Z
UID:fs-AFLABS-URNIK:srecanje:4125-2023-11-14 11:30:00+01:00
DESCRIPTION:Predmet: Zmogljivosti letal (ZMLP)\, Predavanja (P)\nLetniki: 
 Prometni pilot letala/helikopterja (PAP-3)\, Snovanje in vzdrževanje leta
 l (PAP-3)\nIzvajalci: Tomaž Mrlak\, Igor Petrović\nProstor: Predavalnica
  IV/3A
END:VEVENT
BEGIN:VEVENT
SUMMARY:Zmogljivosti letal (ZMLP)\, Predavanja (P)
DTSTART;TZID=Europe/Ljubljana:20231121T113000
DTEND;TZID=Europe/Ljubljana:20231121T153000
DTSTAMP:20260419T211756Z
UID:fs-AFLABS-URNIK:srecanje:4125-2023-11-21 11:30:00+01:00
DESCRIPTION:Predmet: Zmogljivosti letal (ZMLP)\, Predavanja (P)\nLetniki: 
 Prometni pilot letala/helikopterja (PAP-3)\, Snovanje in vzdrževanje leta
 l (PAP-3)\nIzvajalci: Tomaž Mrlak\, Igor Petrović\nProstor: Predavalnica
  IV/3A
END:VEVENT
BEGIN:VEVENT
SUMMARY:Zmogljivosti letal (ZMLP)\, Predavanja (P)
DTSTART;TZID=Europe/Ljubljana:20231128T113000
DTEND;TZID=Europe/Ljubljana:20231128T153000
DTSTAMP:20260419T211756Z
UID:fs-AFLABS-URNIK:srecanje:4125-2023-11-28 11:30:00+01:00
DESCRIPTION:Predmet: Zmogljivosti letal (ZMLP)\, Predavanja (P)\nLetniki: 
 Prometni pilot letala/helikopterja (PAP-3)\, Snovanje in vzdrževanje leta
 l (PAP-3)\nIzvajalci: Tomaž Mrlak\, Igor Petrović\nProstor: Predavalnica
  IV/3A
END:VEVENT
BEGIN:VEVENT
SUMMARY:Zmogljivosti letal (ZMLP)\, Predavanja (P)
DTSTART;TZID=Europe/Ljubljana:20231205T113000
DTEND;TZID=Europe/Ljubljana:20231205T153000
DTSTAMP:20260419T211756Z
UID:fs-AFLABS-URNIK:srecanje:4125-2023-12-05 11:30:00+01:00
DESCRIPTION:Predmet: Zmogljivosti letal (ZMLP)\, Predavanja (P)\nLetniki: 
 Prometni pilot letala/helikopterja (PAP-3)\, Snovanje in vzdrževanje leta
 l (PAP-3)\nIzvajalci: Tomaž Mrlak\, Igor Petrović\nProstor: Predavalnica
  IV/3A
END:VEVENT
BEGIN:VEVENT
SUMMARY:Zmogljivosti letal (ZMLP)\, Predavanja (P)
DTSTART;TZID=Europe/Ljubljana:20231212T113000
DTEND;TZID=Europe/Ljubljana:20231212T153000
DTSTAMP:20260419T211756Z
UID:fs-AFLABS-URNIK:srecanje:4125-2023-12-12 11:30:00+01:00
DESCRIPTION:Predmet: Zmogljivosti letal (ZMLP)\, Predavanja (P)\nLetniki: 
 Prometni pilot letala/helikopterja (PAP-3)\, Snovanje in vzdrževanje leta
 l (PAP-3)\nIzvajalci: Tomaž Mrlak\, Igor Petrović\nProstor: Predavalnica
  IV/3A
END:VEVENT
BEGIN:VEVENT
SUMMARY:Zmogljivosti letal (ZMLP)\, Predavanja (P)
DTSTART;TZID=Europe/Ljubljana:20231219T113000
DTEND;TZID=Europe/Ljubljana:20231219T153000
DTSTAMP:20260419T211756Z
UID:fs-AFLABS-URNIK:srecanje:4125-2023-12-19 11:30:00+01:00
DESCRIPTION:Predmet: Zmogljivosti letal (ZMLP)\, Predavanja (P)\nLetniki: 
 Prometni pilot letala/helikopterja (PAP-3)\, Snovanje in vzdrževanje leta
 l (PAP-3)\nIzvajalci: Tomaž Mrlak\, Igor Petrović\nProstor: Predavalnica
  IV/3A
END:VEVENT
BEGIN:VEVENT
SUMMARY:Zmogljivosti letal (ZMLP)\, Predavanja (P)
DTSTART;TZID=Europe/Ljubljana:20240102T113000
DTEND;TZID=Europe/Ljubljana:20240102T153000
DTSTAMP:20260419T211756Z
UID:fs-AFLABS-URNIK:srecanje:4125-2024-01-02 11:30:00+01:00
DESCRIPTION:Predmet: Zmogljivosti letal (ZMLP)\, Predavanja (P)\nLetniki: 
 Prometni pilot letala/helikopterja (PAP-3)\, Snovanje in vzdrževanje leta
 l (PAP-3)\nIzvajalci: Tomaž Mrlak\, Igor Petrović\nProstor: Predavalnica
  IV/3A
END:VEVENT
BEGIN:VEVENT
SUMMARY:Zmogljivosti letal (ZMLP)\, Predavanja (P)
DTSTART;TZID=Europe/Ljubljana:20240109T113000
DTEND;TZID=Europe/Ljubljana:20240109T153000
DTSTAMP:20260419T211756Z
UID:fs-AFLABS-URNIK:srecanje:4125-2024-01-09 11:30:00+01:00
DESCRIPTION:Predmet: Zmogljivosti letal (ZMLP)\, Predavanja (P)\nLetniki: 
 Prometni pilot letala/helikopterja (PAP-3)\, Snovanje in vzdrževanje leta
 l (PAP-3)\nIzvajalci: Tomaž Mrlak\, Igor Petrović\nProstor: Predavalnica
  IV/3A
END:VEVENT
BEGIN:VEVENT
SUMMARY:Zmogljivosti letal (ZMLP)\, Predavanja (P)
DTSTART;TZID=Europe/Ljubljana:20240116T113000
DTEND;TZID=Europe/Ljubljana:20240116T153000
DTSTAMP:20260419T211756Z
UID:fs-AFLABS-URNIK:srecanje:4125-2024-01-16 11:30:00+01:00
DESCRIPTION:Predmet: Zmogljivosti letal (ZMLP)\, Predavanja (P)\nLetniki: 
 Prometni pilot letala/helikopterja (PAP-3)\, Snovanje in vzdrževanje leta
 l (PAP-3)\nIzvajalci: Tomaž Mrlak\, Igor Petrović\nProstor: Predavalnica
  IV/3A
END:VEVENT
BEGIN:VEVENT
SUMMARY:Zmogljivosti letal (ZMLP)\, Predavanja (P)
DTSTART;TZID=Europe/Ljubljana:20231103T113000
DTEND;TZID=Europe/Ljubljana:20231103T153000
DTSTAMP:20260419T211756Z
UID:fs-AFLABS-URNIK:premaknjeno-srecanje:62272
ATTENDEE:Prometni pilot letala/helikopterja (PAP-3)
ATTENDEE:Snovanje in vzdrževanje letal (PAP-3)
CATEGORIES:Entry,Special
COLOR:forestgreen
DESCRIPTION:Predmet: Zmogljivosti letal (ZMLP)\, Predavanja (P)\nLetniki: 
 Prometni pilot letala/helikopterja (PAP-3)\, Snovanje in vzdrževanje leta
 l (PAP-3)\nIzvajalci: Tomaž Mrlak\, Igor Petrović\nProstor: Predavalnica
  IV/3A
LOCATION:Predavalnica IV/3A
ORGANIZER:Tomaž Mrlak, Igor Petrović
RELATED-TO:fs-AFLABS-URNIK:srecanje:8002
X-WR-TIMEZONE:Europe/Ljubljana
END:VEVENT
BEGIN:VEVENT
SUMMARY:Nadomeščanje predavanj
DTSTART;TZID=Europe/Ljubljana:20231004T083000
DTEND;TZID=Europe/Ljubljana:20231004T093000
DTSTAMP:20260419T211756Z
UID:fs-AFLABS-URNIK:rezervacija:559
ATTENDEE:Letalstvo - Prometni pilot letala/helikopterja (PAP-3)
ATTENDEE:Prometni pilot letala/helikopterja (PAP-3)
CATEGORIES:Reservation
COLOR:royalblue
DESCRIPTION:Predmeti: Letalska frazeologija (3136)\, Letalska frazeologija
  (LTFP)\nLetniki: Letalstvo - Prometni pilot letala/helikopterja (PAP-3)\,
  Prometni pilot letala/helikopterja (PAP-3)\nIzvajalci: Andrej Grebenšek\
 , Igor Petrović\nProstori: Predavalnica IV/3A
LOCATION:Predavalnica IV/3A
ORGANIZER:Andrej Grebenšek, Igor Petrović
X-WR-TIMEZONE:Europe/Ljubljana
END:VEVENT
BEGIN:VEVENT
SUMMARY:Nadomeščanje predavanj
DTSTART;TZID=Europe/Ljubljana:20231004T093000
DTEND;TZID=Europe/Ljubljana:20231004T100000
DTSTAMP:20260419T211756Z
UID:fs-AFLABS-URNIK:rezervacija:719
ATTENDEE:Letalstvo - Prometni pilot letala/helikopterja (PAP-3)
ATTENDEE:Prometni pilot letala/helikopterja (PAP-3)
CATEGORIES:Reservation
COLOR:royalblue
DESCRIPTION:Predmeti: Letalska frazeologija (3136)\, Letalska frazeologija
  (LTFP)\nLetniki: Letalstvo - Prometni pilot letala/helikopterja (PAP-3)\,
  Prometni pilot letala/helikopterja (PAP-3)\nIzvajalci: Andrej Grebenšek\
 , Igor Petrović\nProstori: Predavalnica II/3A
LOCATION:Predavalnica II/3A
ORGANIZER:Andrej Grebenšek, Igor Petrović
X-WR-TIMEZONE:Europe/Ljubljana
END:VEVENT
BEGIN:VEVENT
SUMMARY:Nadomeščanje predavanj
DTSTART;TZID=Europe/Ljubljana:20231004T103000
DTEND;TZID=Europe/Ljubljana:20231004T123000
DTSTAMP:20260419T211756Z
UID:fs-AFLABS-URNIK:rezervacija:796
ATTENDEE:Letalstvo - Prometni pilot letala/helikopterja (PAP-3)
ATTENDEE:Prometni pilot letala/helikopterja (PAP-3)
CATEGORIES:Reservation
COLOR:royalblue
DESCRIPTION:Predmeti: Letalska frazeologija (3136)\, Letalska frazeologija
  (LTFP)\nLetniki: Letalstvo - Prometni pilot letala/helikopterja (PAP-3)\,
  Prometni pilot letala/helikopterja (PAP-3)\nIzvajalci: Andrej Grebenšek\
 , Igor Petrović\nProstori: Predavalnica II/3B
LOCATION:Predavalnica II/3B
ORGANIZER:Andrej Grebenšek, Igor Petrović
X-WR-TIMEZONE:Europe/Ljubljana
END:VEVENT
BEGIN:VEVENT
SUMMARY:Nadomeščanje predavanj
DTSTART;TZID=Europe/Ljubljana:20231004T100000
DTEND;TZID=Europe/Ljubljana:20231004T103000
DTSTAMP:20260419T211756Z
UID:fs-AFLABS-URNIK:rezervacija:1633
ATTENDEE:Letalstvo - Prometni pilot letala/helikopterja (PAP-3)
CATEGORIES:Reservation
COLOR:royalblue
DESCRIPTION:Predmeti: Letalska frazeologija (3136)\nLetniki: Letalstvo - P
 rometni pilot letala/helikopterja (PAP-3)\nIzvajalci: Andrej Grebenšek\, 
 Igor Petrović\nProstori: Predavalnica III/3A
LOCATION:Predavalnica III/3A
ORGANIZER:Andrej Grebenšek, Igor Petrović
X-WR-TIMEZONE:Europe/Ljubljana
END:VEVENT
END:VCALENDAR
