BEGIN:VCALENDAR
VERSION:2.0
PRODID:-//AFLabs urnik izvoz - fs//aflabs.si//SI
NAME:UL FS Urnik
X-WR-CALNAME:UL FS Urnik
DTSTAMP:20260424T110618Z
REFRESH-INTERVAL:PT1H
SOURCE:https://urnik.fs.uni-lj.si/teacher/806/?day=2026-09-14&export=1
URL:https://urnik.fs.uni-lj.si/teacher/806/?day=2026-09-14&export=1
X-PUBLISHED-TTL:PT1H
X-WR-TIMEZONE:Europe/Ljubljana
BEGIN:VTIMEZONE
TZID:Europe/Ljubljana
BEGIN:DAYLIGHT
DTSTART:20260329T020000
RDATE:20260329T020000
RDATE:20270328T020000
TZNAME:CEST
TZOFFSETFROM:+0100
TZOFFSETTO:+0200
END:DAYLIGHT
BEGIN:STANDARD
DTSTART:20261025T030000
RDATE:20261025T030000
RDATE:20271031T030000
TZNAME:CET
TZOFFSETFROM:+0200
TZOFFSETTO:+0100
END:STANDARD
END:VTIMEZONE
BEGIN:VEVENT
SUMMARY:Izpit: Sistemi na letalu
DTSTART;TZID=Europe/Ljubljana:20260810T090000
DTEND;TZID=Europe/Ljubljana:20260810T110000
DTSTAMP:20260424T110618Z
UID:fs-AFLABS-URNIK:rezervacija:11524
ATTENDEE:Prometni pilot letala/helikopterja (PAP-3)
ATTENDEE:Snovanje in vzdrževanje letal (PAP-3)
CATEGORIES:Reservation
COLOR:royalblue
DESCRIPTION:Predmeti: Sistemi na letalu (SNLP)\nLetniki: Prometni pilot le
 tala/helikopterja (PAP-3)\, Snovanje in vzdrževanje letal (PAP-3)\nIzvaja
 lci: Igor Petrović\nProstori: Predavalnica II/5
LOCATION:Predavalnica II/5
ORGANIZER:Igor Petrović
X-WR-TIMEZONE:Europe/Ljubljana
END:VEVENT
BEGIN:VEVENT
SUMMARY:Izpit: Letalska navigacija 1
DTSTART;TZID=Europe/Ljubljana:20260812T090000
DTEND;TZID=Europe/Ljubljana:20260812T110000
DTSTAMP:20260424T110618Z
UID:fs-AFLABS-URNIK:rezervacija:11664
ATTENDEE:Prometni pilot letala/helikopterja (PAP-3)
CATEGORIES:Reservation
COLOR:royalblue
DESCRIPTION:Predmeti: Letalska navigacija 1 (LN1P)\nLetniki: Prometni pilo
 t letala/helikopterja (PAP-3)\nIzvajalci: Igor Petrović\nProstori: Predav
 alnica II/5
LOCATION:Predavalnica II/5
ORGANIZER:Igor Petrović
X-WR-TIMEZONE:Europe/Ljubljana
END:VEVENT
BEGIN:VEVENT
SUMMARY:Izpit: Letalski instrumenti
DTSTART;TZID=Europe/Ljubljana:20260820T130000
DTEND;TZID=Europe/Ljubljana:20260820T150000
DTSTAMP:20260424T110618Z
UID:fs-AFLABS-URNIK:rezervacija:11971
ATTENDEE:Prometni pilot letala/helikopterja (PAP-2)
ATTENDEE:Snovanje in vzdrževanje letal (PAP-2)
CATEGORIES:Reservation
COLOR:royalblue
DESCRIPTION:Predmeti: Letalski instrumenti (LTIP)\nLetniki: Prometni pilot
  letala/helikopterja (PAP-2)\, Snovanje in vzdrževanje letal (PAP-2)\nIzv
 ajalci: Igor Petrović\nProstori: Predavalnica II/5
LOCATION:Predavalnica II/5
ORGANIZER:Igor Petrović
X-WR-TIMEZONE:Europe/Ljubljana
END:VEVENT
BEGIN:VEVENT
SUMMARY:Izpit: Aeromehanika in letalske konstrukcije
DTSTART;TZID=Europe/Ljubljana:20260825T090000
DTEND;TZID=Europe/Ljubljana:20260825T110000
DTSTAMP:20260424T110618Z
UID:fs-AFLABS-URNIK:rezervacija:12187
ATTENDEE:Prometni pilot letala/helikopterja (PAP-2)
ATTENDEE:Snovanje in vzdrževanje letal (PAP-2)
CATEGORIES:Reservation
COLOR:royalblue
DESCRIPTION:Predmeti: Aeromehanika in letalske konstrukcije (ALKP)\nLetnik
 i: Prometni pilot letala/helikopterja (PAP-2)\, Snovanje in vzdrževanje l
 etal (PAP-2)\nIzvajalci: Igor Petrović\nProstori: Predavalnica II/3B
LOCATION:Predavalnica II/3B
ORGANIZER:Igor Petrović
X-WR-TIMEZONE:Europe/Ljubljana
END:VEVENT
BEGIN:VEVENT
SUMMARY:Izpit: Zmogljivosti letal
DTSTART;TZID=Europe/Ljubljana:20260826T110000
DTEND;TZID=Europe/Ljubljana:20260826T130000
DTSTAMP:20260424T110618Z
UID:fs-AFLABS-URNIK:rezervacija:12267
ATTENDEE:Prometni pilot letala/helikopterja (PAP-3)
ATTENDEE:Snovanje in vzdrževanje letal (PAP-3)
CATEGORIES:Reservation
COLOR:royalblue
DESCRIPTION:Predmeti: Zmogljivosti letal (ZMLP)\nLetniki: Prometni pilot l
 etala/helikopterja (PAP-3)\, Snovanje in vzdrževanje letal (PAP-3)\nIzvaj
 alci: Igor Petrović\nProstori: Predavalnica II/2
LOCATION:Predavalnica II/2
ORGANIZER:Igor Petrović
X-WR-TIMEZONE:Europe/Ljubljana
END:VEVENT
BEGIN:VEVENT
SUMMARY:Izpit: Letalski instrumenti
DTSTART;TZID=Europe/Ljubljana:20260820T130000
DTEND;TZID=Europe/Ljubljana:20260820T150000
DTSTAMP:20260424T110618Z
UID:fs-AFLABS-URNIK:rezervacija:12776
ATTENDEE:Prometni pilot letala/helikopterja (PAP-2)
ATTENDEE:Snovanje in vzdrževanje letal (PAP-2)
CATEGORIES:Reservation
COLOR:royalblue
DESCRIPTION:Predmeti: Letalski instrumenti (LTIP)\nLetniki: Prometni pilot
  letala/helikopterja (PAP-2)\, Snovanje in vzdrževanje letal (PAP-2)\nIzv
 ajalci: Igor Petrović\nProstori: Predavalnica II/5
LOCATION:Predavalnica II/5
ORGANIZER:Igor Petrović
X-WR-TIMEZONE:Europe/Ljubljana
END:VEVENT
BEGIN:VEVENT
SUMMARY:Izpit: Aeromehanika in letalske konstrukcije
DTSTART;TZID=Europe/Ljubljana:20260825T090000
DTEND;TZID=Europe/Ljubljana:20260825T110000
DTSTAMP:20260424T110618Z
UID:fs-AFLABS-URNIK:rezervacija:12783
ATTENDEE:Prometni pilot letala/helikopterja (PAP-2)
ATTENDEE:Snovanje in vzdrževanje letal (PAP-2)
CATEGORIES:Reservation
COLOR:royalblue
DESCRIPTION:Predmeti: Aeromehanika in letalske konstrukcije (ALKP)\nLetnik
 i: Prometni pilot letala/helikopterja (PAP-2)\, Snovanje in vzdrževanje l
 etal (PAP-2)\nIzvajalci: Igor Petrović\nProstori: Predavalnica II/3B
LOCATION:Predavalnica II/3B
ORGANIZER:Igor Petrović
X-WR-TIMEZONE:Europe/Ljubljana
END:VEVENT
END:VCALENDAR
